BEGIN:VCALENDAR
VERSION:2.0
PRODID:-//Castlewood Homeowners Association - ECPv6.15.17//NONSGML v1.0//EN
CALSCALE:GREGORIAN
METHOD:PUBLISH
X-ORIGINAL-URL:https://castlewoodhoa.com
X-WR-CALDESC:Events for Castlewood Homeowners Association
REFRESH-INTERVAL;VALUE=DURATION:PT1H
X-Robots-Tag:noindex
X-PUBLISHED-TTL:PT1H
BEGIN:VTIMEZONE
TZID:America/Chicago
BEGIN:DAYLIGHT
TZOFFSETFROM:-0600
TZOFFSETTO:-0500
TZNAME:CDT
DTSTART:20230312T080000
END:DAYLIGHT
BEGIN:STANDARD
TZOFFSETFROM:-0500
TZOFFSETTO:-0600
TZNAME:CST
DTSTART:20231105T070000
END:STANDARD
BEGIN:DAYLIGHT
TZOFFSETFROM:-0600
TZOFFSETTO:-0500
TZNAME:CDT
DTSTART:20240310T080000
END:DAYLIGHT
BEGIN:STANDARD
TZOFFSETFROM:-0500
TZOFFSETTO:-0600
TZNAME:CST
DTSTART:20241103T070000
END:STANDARD
BEGIN:DAYLIGHT
TZOFFSETFROM:-0600
TZOFFSETTO:-0500
TZNAME:CDT
DTSTART:20250309T080000
END:DAYLIGHT
BEGIN:STANDARD
TZOFFSETFROM:-0500
TZOFFSETTO:-0600
TZNAME:CST
DTSTART:20251102T070000
END:STANDARD
END:VTIMEZONE
BEGIN:VEVENT
DTSTART;VALUE=DATE:20240101
DTEND;VALUE=DATE:20240102
DTSTAMP:20260425T084255
CREATED:20231115T151532Z
LAST-MODIFIED:20231115T154203Z
UID:4758-1704067200-1704153599@castlewoodhoa.com
SUMMARY:Clubhouse Reserved
DESCRIPTION:
URL:https://castlewoodhoa.com/event/pending-reservation-48/
LOCATION:Castlewood HOA Clubhouse\, 3420 Fairfield Lane\, Highland Village\, TX\, 75077\, United States
CATEGORIES:Clubhouse Reservation
END:VEVENT
BEGIN:VEVENT
DTSTART;VALUE=DATE:20240106
DTEND;VALUE=DATE:20240107
DTSTAMP:20260425T084255
CREATED:20231228T163443Z
LAST-MODIFIED:20240102T155757Z
UID:4844-1704499200-1704585599@castlewoodhoa.com
SUMMARY:Clubhouse Reserved
DESCRIPTION:
URL:https://castlewoodhoa.com/event/pending-reservation-31/
LOCATION:Castlewood HOA Clubhouse\, 3420 Fairfield Lane\, Highland Village\, TX\, 75077\, United States
CATEGORIES:Clubhouse Reservation
END:VEVENT
BEGIN:VEVENT
DTSTART;VALUE=DATE:20240107
DTEND;VALUE=DATE:20240108
DTSTAMP:20260425T084255
CREATED:20231201T231604Z
LAST-MODIFIED:20231206T200908Z
UID:4784-1704585600-1704671999@castlewoodhoa.com
SUMMARY:Clubhouse Reserved
DESCRIPTION:
URL:https://castlewoodhoa.com/event/pending-reservation-43/
LOCATION:Castlewood HOA Clubhouse\, 3420 Fairfield Lane\, Highland Village\, TX\, 75077\, United States
CATEGORIES:Clubhouse Reservation
END:VEVENT
BEGIN:VEVENT
DTSTART;TZID=America/Chicago:20240109T180000
DTEND;TZID=America/Chicago:20240109T220000
DTSTAMP:20260425T084255
CREATED:20231205T222543Z
LAST-MODIFIED:20231205T222543Z
UID:4793-1704823200-1704837600@castlewoodhoa.com
SUMMARY:Clubhouse Reserved
DESCRIPTION:
URL:https://castlewoodhoa.com/event/clubhouse-reserved-513/
LOCATION:Castlewood HOA Clubhouse\, 3420 Fairfield Lane\, Highland Village\, TX\, 75077\, United States
CATEGORIES:Clubhouse Reservation
END:VEVENT
BEGIN:VEVENT
DTSTART;VALUE=DATE:20240120
DTEND;VALUE=DATE:20240121
DTSTAMP:20260425T084255
CREATED:20240102T214530Z
LAST-MODIFIED:20240117T205933Z
UID:4850-1705708800-1705795199@castlewoodhoa.com
SUMMARY:Clubhouse Reserved
DESCRIPTION:
URL:https://castlewoodhoa.com/event/pending-reservation-50/
LOCATION:Castlewood HOA Clubhouse\, 3420 Fairfield Lane\, Highland Village\, TX\, 75077\, United States
CATEGORIES:Clubhouse Reservation
END:VEVENT
BEGIN:VEVENT
DTSTART;TZID=America/Chicago:20240121T160000
DTEND;TZID=America/Chicago:20240121T200000
DTSTAMP:20260425T084255
CREATED:20230427T160828Z
LAST-MODIFIED:20230427T160828Z
UID:4197-1705852800-1705867200@castlewoodhoa.com
SUMMARY:Clubhouse Reserved
DESCRIPTION:
URL:https://castlewoodhoa.com/event/clubhouse-reserved-491/
LOCATION:Castlewood HOA Clubhouse\, 3420 Fairfield Lane\, Highland Village\, TX\, 75077\, United States
CATEGORIES:Clubhouse Reservation
END:VEVENT
BEGIN:VEVENT
DTSTART;VALUE=DATE:20240127
DTEND;VALUE=DATE:20240128
DTSTAMP:20260425T084255
CREATED:20240118T202218Z
LAST-MODIFIED:20240118T202218Z
UID:4895-1706313600-1706399999@castlewoodhoa.com
SUMMARY:Clubhouse Reserved
DESCRIPTION:
URL:https://castlewoodhoa.com/event/clubhouse-reserved-519/
LOCATION:Castlewood HOA Clubhouse\, 3420 Fairfield Lane\, Highland Village\, TX\, 75077\, United States
CATEGORIES:Clubhouse Reservation
END:VEVENT
END:VCALENDAR