BEGIN:VCALENDAR
VERSION:2.0
PRODID:-//Castlewood Homeowners Association - ECPv6.15.17//NONSGML v1.0//EN
CALSCALE:GREGORIAN
METHOD:PUBLISH
X-ORIGINAL-URL:https://castlewoodhoa.com
X-WR-CALDESC:Events for Castlewood Homeowners Association
REFRESH-INTERVAL;VALUE=DURATION:PT1H
X-Robots-Tag:noindex
X-PUBLISHED-TTL:PT1H
BEGIN:VTIMEZONE
TZID:America/Chicago
BEGIN:DAYLIGHT
TZOFFSETFROM:-0600
TZOFFSETTO:-0500
TZNAME:CDT
DTSTART:20240310T080000
END:DAYLIGHT
BEGIN:STANDARD
TZOFFSETFROM:-0500
TZOFFSETTO:-0600
TZNAME:CST
DTSTART:20241103T070000
END:STANDARD
BEGIN:DAYLIGHT
TZOFFSETFROM:-0600
TZOFFSETTO:-0500
TZNAME:CDT
DTSTART:20250309T080000
END:DAYLIGHT
BEGIN:STANDARD
TZOFFSETFROM:-0500
TZOFFSETTO:-0600
TZNAME:CST
DTSTART:20251102T070000
END:STANDARD
BEGIN:DAYLIGHT
TZOFFSETFROM:-0600
TZOFFSETTO:-0500
TZNAME:CDT
DTSTART:20260308T080000
END:DAYLIGHT
BEGIN:STANDARD
TZOFFSETFROM:-0500
TZOFFSETTO:-0600
TZNAME:CST
DTSTART:20261101T070000
END:STANDARD
END:VTIMEZONE
BEGIN:VEVENT
DTSTART;VALUE=DATE:20250701
DTEND;VALUE=DATE:20250702
DTSTAMP:20260424T065915
CREATED:20250115T175716Z
LAST-MODIFIED:20250115T175716Z
UID:5844-1751328000-1751414399@castlewoodhoa.com
SUMMARY:Clubhouse Reserved
DESCRIPTION:
URL:https://castlewoodhoa.com/event/clubhouse-reserved-610/
LOCATION:Castlewood HOA Clubhouse\, 3420 Fairfield Lane\, Highland Village\, TX\, 75077\, United States
CATEGORIES:Clubhouse Reservation
END:VEVENT
BEGIN:VEVENT
DTSTART;VALUE=DATE:20250706
DTEND;VALUE=DATE:20250707
DTSTAMP:20260424T065915
CREATED:20250513T153423Z
LAST-MODIFIED:20250514T143431Z
UID:6100-1751760000-1751846399@castlewoodhoa.com
SUMMARY:Clubhouse Reserved
DESCRIPTION:
URL:https://castlewoodhoa.com/event/clubhouse-reservations/
LOCATION:Castlewood HOA Clubhouse\, 3420 Fairfield Lane\, Highland Village\, TX\, 75077\, United States
CATEGORIES:Clubhouse Reservation
END:VEVENT
BEGIN:VEVENT
DTSTART;VALUE=DATE:20250713
DTEND;VALUE=DATE:20250714
DTSTAMP:20260424T065915
CREATED:20250604T172059Z
LAST-MODIFIED:20250604T172059Z
UID:6138-1752364800-1752451199@castlewoodhoa.com
SUMMARY:Clubhouse Reserved
DESCRIPTION:
URL:https://castlewoodhoa.com/event/clubhouse-reserved-642/
LOCATION:Castlewood HOA Clubhouse\, 3420 Fairfield Lane\, Highland Village\, TX\, 75077\, United States
CATEGORIES:Clubhouse Reservation
END:VEVENT
BEGIN:VEVENT
DTSTART;VALUE=DATE:20250719
DTEND;VALUE=DATE:20250720
DTSTAMP:20260424T065915
CREATED:20250417T190942Z
LAST-MODIFIED:20250417T190942Z
UID:6066-1752883200-1752969599@castlewoodhoa.com
SUMMARY:Clubhouse Reserved
DESCRIPTION:
URL:https://castlewoodhoa.com/event/clubhouse-reserved-632-2/
LOCATION:Castlewood HOA Clubhouse\, 3420 Fairfield Lane\, Highland Village\, TX\, 75077\, United States
CATEGORIES:Clubhouse Reservation
END:VEVENT
BEGIN:VEVENT
DTSTART;VALUE=DATE:20250720
DTEND;VALUE=DATE:20250721
DTSTAMP:20260424T065915
CREATED:20250616T132521Z
LAST-MODIFIED:20250616T132521Z
UID:6148-1752969600-1753055999@castlewoodhoa.com
SUMMARY:Clubhouse Reserved
DESCRIPTION:
URL:https://castlewoodhoa.com/event/clubhouse-reserved-644/
LOCATION:Castlewood HOA Clubhouse\, 3420 Fairfield Lane\, Highland Village\, TX\, 75077\, United States
CATEGORIES:Clubhouse Reservation
END:VEVENT
END:VCALENDAR