BEGIN:VCALENDAR
VERSION:2.0
PRODID:-//Castlewood Homeowners Association - ECPv6.15.17//NONSGML v1.0//EN
CALSCALE:GREGORIAN
METHOD:PUBLISH
X-ORIGINAL-URL:https://castlewoodhoa.com
X-WR-CALDESC:Events for Castlewood Homeowners Association
REFRESH-INTERVAL;VALUE=DURATION:PT1H
X-Robots-Tag:noindex
X-PUBLISHED-TTL:PT1H
BEGIN:VTIMEZONE
TZID:America/Chicago
BEGIN:DAYLIGHT
TZOFFSETFROM:-0600
TZOFFSETTO:-0500
TZNAME:CDT
DTSTART:20250309T080000
END:DAYLIGHT
BEGIN:STANDARD
TZOFFSETFROM:-0500
TZOFFSETTO:-0600
TZNAME:CST
DTSTART:20251102T070000
END:STANDARD
BEGIN:DAYLIGHT
TZOFFSETFROM:-0600
TZOFFSETTO:-0500
TZNAME:CDT
DTSTART:20260308T080000
END:DAYLIGHT
BEGIN:STANDARD
TZOFFSETFROM:-0500
TZOFFSETTO:-0600
TZNAME:CST
DTSTART:20261101T070000
END:STANDARD
BEGIN:DAYLIGHT
TZOFFSETFROM:-0600
TZOFFSETTO:-0500
TZNAME:CDT
DTSTART:20270314T080000
END:DAYLIGHT
BEGIN:STANDARD
TZOFFSETFROM:-0500
TZOFFSETTO:-0600
TZNAME:CST
DTSTART:20271107T070000
END:STANDARD
END:VTIMEZONE
BEGIN:VEVENT
DTSTART;TZID=America/Chicago:20260903T160000
DTEND;TZID=America/Chicago:20260903T233000
DTSTAMP:20260423T203844
CREATED:20251201T201802Z
LAST-MODIFIED:20251201T201802Z
UID:6563-1788451200-1788478200@castlewoodhoa.com
SUMMARY:NO RESERVATIONS
DESCRIPTION:
URL:https://castlewoodhoa.com/event/no-reservations-375/
CATEGORIES:HOA BOD Administration
END:VEVENT
BEGIN:VEVENT
DTSTART;TZID=America/Chicago:20260907T050000
DTEND;TZID=America/Chicago:20260907T100000
DTSTAMP:20260423T203844
CREATED:20251201T201829Z
LAST-MODIFIED:20251201T201829Z
UID:6565-1788757200-1788775200@castlewoodhoa.com
SUMMARY:NO RESERVATIONS
DESCRIPTION:
URL:https://castlewoodhoa.com/event/no-reservations-376/
CATEGORIES:HOA BOD Administration
END:VEVENT
BEGIN:VEVENT
DTSTART;TZID=America/Chicago:20260910T160000
DTEND;TZID=America/Chicago:20260910T233000
DTSTAMP:20260423T203844
CREATED:20251201T201852Z
LAST-MODIFIED:20251201T201852Z
UID:6567-1789056000-1789083000@castlewoodhoa.com
SUMMARY:NO RESERVATIONS
DESCRIPTION:
URL:https://castlewoodhoa.com/event/no-reservations-377/
CATEGORIES:HOA BOD Administration
END:VEVENT
BEGIN:VEVENT
DTSTART;TZID=America/Chicago:20260914T050000
DTEND;TZID=America/Chicago:20260914T100000
DTSTAMP:20260423T203844
CREATED:20251201T201916Z
LAST-MODIFIED:20251201T201916Z
UID:6569-1789362000-1789380000@castlewoodhoa.com
SUMMARY:NO RESERVATIONS
DESCRIPTION:
URL:https://castlewoodhoa.com/event/no-reservations-378/
CATEGORIES:HOA BOD Administration
END:VEVENT
BEGIN:VEVENT
DTSTART;TZID=America/Chicago:20260915T180000
DTEND;TZID=America/Chicago:20260915T210000
DTSTAMP:20260423T203844
CREATED:20251201T180720Z
LAST-MODIFIED:20251201T180720Z
UID:6425-1789495200-1789506000@castlewoodhoa.com
SUMMARY:BOD Meeting
DESCRIPTION:
URL:https://castlewoodhoa.com/event/bod-meeting-36/
CATEGORIES:HOA BOD Administration
END:VEVENT
BEGIN:VEVENT
DTSTART;TZID=America/Chicago:20260917T160000
DTEND;TZID=America/Chicago:20260917T233000
DTSTAMP:20260423T203844
CREATED:20251201T201941Z
LAST-MODIFIED:20251201T201941Z
UID:6571-1789660800-1789687800@castlewoodhoa.com
SUMMARY:NO RESERVATIONS
DESCRIPTION:
URL:https://castlewoodhoa.com/event/no-reservations-379/
CATEGORIES:HOA BOD Administration
END:VEVENT
BEGIN:VEVENT
DTSTART;TZID=America/Chicago:20260921T050000
DTEND;TZID=America/Chicago:20260921T100000
DTSTAMP:20260423T203844
CREATED:20251201T202022Z
LAST-MODIFIED:20251201T202022Z
UID:6573-1789966800-1789984800@castlewoodhoa.com
SUMMARY:NO RESERVATIONS
DESCRIPTION:
URL:https://castlewoodhoa.com/event/no-reservations-380/
CATEGORIES:HOA BOD Administration
END:VEVENT
BEGIN:VEVENT
DTSTART;TZID=America/Chicago:20260924T160000
DTEND;TZID=America/Chicago:20260924T233000
DTSTAMP:20260423T203844
CREATED:20251201T202101Z
LAST-MODIFIED:20251201T202101Z
UID:6575-1790265600-1790292600@castlewoodhoa.com
SUMMARY:NO RESERVATIONS
DESCRIPTION:
URL:https://castlewoodhoa.com/event/no-reservations-381/
CATEGORIES:HOA BOD Administration
END:VEVENT
BEGIN:VEVENT
DTSTART;TZID=America/Chicago:20260928T050000
DTEND;TZID=America/Chicago:20260928T100000
DTSTAMP:20260423T203844
CREATED:20251201T202132Z
LAST-MODIFIED:20251201T202132Z
UID:6577-1790571600-1790589600@castlewoodhoa.com
SUMMARY:NO RESERVATIONS
DESCRIPTION:
URL:https://castlewoodhoa.com/event/no-reservations-382/
CATEGORIES:HOA BOD Administration
END:VEVENT
END:VCALENDAR