BEGIN:VCALENDAR
VERSION:2.0
PRODID:-//Castlewood Homeowners Association - ECPv6.15.17//NONSGML v1.0//EN
CALSCALE:GREGORIAN
METHOD:PUBLISH
X-WR-CALNAME:Castlewood Homeowners Association
X-ORIGINAL-URL:https://castlewoodhoa.com
X-WR-CALDESC:Events for Castlewood Homeowners Association
REFRESH-INTERVAL;VALUE=DURATION:PT1H
X-Robots-Tag:noindex
X-PUBLISHED-TTL:PT1H
BEGIN:VTIMEZONE
TZID:America/Chicago
BEGIN:DAYLIGHT
TZOFFSETFROM:-0600
TZOFFSETTO:-0500
TZNAME:CDT
DTSTART:20250309T080000
END:DAYLIGHT
BEGIN:STANDARD
TZOFFSETFROM:-0500
TZOFFSETTO:-0600
TZNAME:CST
DTSTART:20251102T070000
END:STANDARD
BEGIN:DAYLIGHT
TZOFFSETFROM:-0600
TZOFFSETTO:-0500
TZNAME:CDT
DTSTART:20260308T080000
END:DAYLIGHT
BEGIN:STANDARD
TZOFFSETFROM:-0500
TZOFFSETTO:-0600
TZNAME:CST
DTSTART:20261101T070000
END:STANDARD
BEGIN:DAYLIGHT
TZOFFSETFROM:-0600
TZOFFSETTO:-0500
TZNAME:CDT
DTSTART:20270314T080000
END:DAYLIGHT
BEGIN:STANDARD
TZOFFSETFROM:-0500
TZOFFSETTO:-0600
TZNAME:CST
DTSTART:20271107T070000
END:STANDARD
END:VTIMEZONE
BEGIN:VEVENT
DTSTART;TZID=America/Chicago:20260420T050000
DTEND;TZID=America/Chicago:20260420T100000
DTSTAMP:20260423T161610
CREATED:20251201T195042Z
LAST-MODIFIED:20251201T195042Z
UID:6485-1776661200-1776679200@castlewoodhoa.com
SUMMARY:NO RESERVATIONS
DESCRIPTION:
URL:https://castlewoodhoa.com/event/no-reservations-336/
CATEGORIES:HOA BOD Administration
END:VEVENT
BEGIN:VEVENT
DTSTART;TZID=America/Chicago:20260416T160000
DTEND;TZID=America/Chicago:20260416T233000
DTSTAMP:20260423T161610
CREATED:20251201T195015Z
LAST-MODIFIED:20251201T195015Z
UID:6483-1776355200-1776382200@castlewoodhoa.com
SUMMARY:NO RESERVATIONS
DESCRIPTION:
URL:https://castlewoodhoa.com/event/no-reservations-335/
CATEGORIES:HOA BOD Administration
END:VEVENT
BEGIN:VEVENT
DTSTART;TZID=America/Chicago:20260413T050000
DTEND;TZID=America/Chicago:20260413T100000
DTSTAMP:20260423T161610
CREATED:20251201T194932Z
LAST-MODIFIED:20251201T194932Z
UID:6481-1776056400-1776074400@castlewoodhoa.com
SUMMARY:NO RESERVATIONS
DESCRIPTION:
URL:https://castlewoodhoa.com/event/no-reservations-334/
CATEGORIES:HOA BOD Administration
END:VEVENT
BEGIN:VEVENT
DTSTART;TZID=America/Chicago:20260409T160000
DTEND;TZID=America/Chicago:20260409T233000
DTSTAMP:20260423T161610
CREATED:20251201T194847Z
LAST-MODIFIED:20251201T194901Z
UID:6479-1775750400-1775777400@castlewoodhoa.com
SUMMARY:NO RESERVATIONS
DESCRIPTION:
URL:https://castlewoodhoa.com/event/no-reservations-333/
CATEGORIES:HOA BOD Administration
END:VEVENT
BEGIN:VEVENT
DTSTART;TZID=America/Chicago:20260406T050000
DTEND;TZID=America/Chicago:20260406T100000
DTSTAMP:20260423T161610
CREATED:20251201T194758Z
LAST-MODIFIED:20251201T194815Z
UID:6477-1775451600-1775469600@castlewoodhoa.com
SUMMARY:NO RESERVATIONS
DESCRIPTION:
URL:https://castlewoodhoa.com/event/no-reservations-332/
CATEGORIES:HOA BOD Administration
END:VEVENT
BEGIN:VEVENT
DTSTART;TZID=America/Chicago:20260402T160000
DTEND;TZID=America/Chicago:20260402T233000
DTSTAMP:20260423T161610
CREATED:20251201T194513Z
LAST-MODIFIED:20251201T194513Z
UID:6473-1775145600-1775172600@castlewoodhoa.com
SUMMARY:NO RESERVATIONS
DESCRIPTION:
URL:https://castlewoodhoa.com/event/no-reservations-331/
CATEGORIES:HOA BOD Administration
END:VEVENT
BEGIN:VEVENT
DTSTART;TZID=America/Chicago:20260330T050000
DTEND;TZID=America/Chicago:20260330T100000
DTSTAMP:20260423T161610
CREATED:20251201T194429Z
LAST-MODIFIED:20251201T194429Z
UID:6471-1774846800-1774864800@castlewoodhoa.com
SUMMARY:NO RESERVATIONS
DESCRIPTION:
URL:https://castlewoodhoa.com/event/no-reservations-330/
CATEGORIES:HOA BOD Administration
END:VEVENT
BEGIN:VEVENT
DTSTART;TZID=America/Chicago:20260326T160000
DTEND;TZID=America/Chicago:20260326T233000
DTSTAMP:20260423T161610
CREATED:20251201T194351Z
LAST-MODIFIED:20251201T194351Z
UID:6469-1774540800-1774567800@castlewoodhoa.com
SUMMARY:NO RESERVATIONS
DESCRIPTION:
URL:https://castlewoodhoa.com/event/no-reservations-329/
CATEGORIES:HOA BOD Administration
END:VEVENT
BEGIN:VEVENT
DTSTART;TZID=America/Chicago:20260323T050000
DTEND;TZID=America/Chicago:20260323T100000
DTSTAMP:20260423T161610
CREATED:20251201T194322Z
LAST-MODIFIED:20251201T194322Z
UID:6467-1774242000-1774260000@castlewoodhoa.com
SUMMARY:NO RESERVATIONS
DESCRIPTION:
URL:https://castlewoodhoa.com/event/no-reservations-328/
CATEGORIES:HOA BOD Administration
END:VEVENT
BEGIN:VEVENT
DTSTART;TZID=America/Chicago:20260319T160000
DTEND;TZID=America/Chicago:20260319T233000
DTSTAMP:20260423T161610
CREATED:20251201T194237Z
LAST-MODIFIED:20251201T194237Z
UID:6465-1773936000-1773963000@castlewoodhoa.com
SUMMARY:NO RESERVATIONS
DESCRIPTION:
URL:https://castlewoodhoa.com/event/no-reservations-327/
CATEGORIES:HOA BOD Administration
END:VEVENT
BEGIN:VEVENT
DTSTART;TZID=America/Chicago:20260316T100000
DTEND;TZID=America/Chicago:20260316T100000
DTSTAMP:20260423T161610
CREATED:20251201T194213Z
LAST-MODIFIED:20251201T194213Z
UID:6463-1773655200-1773655200@castlewoodhoa.com
SUMMARY:NO RESERVATIONS
DESCRIPTION:
URL:https://castlewoodhoa.com/event/no-reservations-326/
CATEGORIES:HOA BOD Administration
END:VEVENT
BEGIN:VEVENT
DTSTART;TZID=America/Chicago:20260312T160000
DTEND;TZID=America/Chicago:20260312T233000
DTSTAMP:20260423T161610
CREATED:20251201T194140Z
LAST-MODIFIED:20251201T194140Z
UID:6461-1773331200-1773358200@castlewoodhoa.com
SUMMARY:NO RESERVATIONS
DESCRIPTION:
URL:https://castlewoodhoa.com/event/no-reservations-325/
CATEGORIES:HOA BOD Administration
END:VEVENT
BEGIN:VEVENT
DTSTART;TZID=America/Chicago:20260310T180000
DTEND;TZID=America/Chicago:20260310T210000
DTSTAMP:20260423T161610
CREATED:20251201T180323Z
LAST-MODIFIED:20251201T180323Z
UID:6413-1773165600-1773176400@castlewoodhoa.com
SUMMARY:BOD Meeting
DESCRIPTION:
URL:https://castlewoodhoa.com/event/bod-meeting-30/
CATEGORIES:HOA BOD Administration
END:VEVENT
BEGIN:VEVENT
DTSTART;TZID=America/Chicago:20260309T050000
DTEND;TZID=America/Chicago:20260309T100000
DTSTAMP:20260423T161610
CREATED:20251201T194053Z
LAST-MODIFIED:20251201T194053Z
UID:6459-1773032400-1773050400@castlewoodhoa.com
SUMMARY:NO RESERVATIONS
DESCRIPTION:
URL:https://castlewoodhoa.com/event/no-reservations-324/
CATEGORIES:HOA BOD Administration
END:VEVENT
BEGIN:VEVENT
DTSTART;TZID=America/Chicago:20260305T050000
DTEND;TZID=America/Chicago:20260305T100000
DTSTAMP:20260423T161610
CREATED:20251201T194021Z
LAST-MODIFIED:20251201T194021Z
UID:6457-1772686800-1772704800@castlewoodhoa.com
SUMMARY:NO RESERVATIONS
DESCRIPTION:
URL:https://castlewoodhoa.com/event/no-reservations-323/
CATEGORIES:HOA BOD Administration
END:VEVENT
BEGIN:VEVENT
DTSTART;TZID=America/Chicago:20260302T050000
DTEND;TZID=America/Chicago:20260302T100000
DTSTAMP:20260423T161610
CREATED:20251201T193943Z
LAST-MODIFIED:20251201T193943Z
UID:6455-1772427600-1772445600@castlewoodhoa.com
SUMMARY:NO RESERVATIONS
DESCRIPTION:
URL:https://castlewoodhoa.com/event/no-reservations-316/
CATEGORIES:HOA BOD Administration
END:VEVENT
BEGIN:VEVENT
DTSTART;TZID=America/Chicago:20260226T160000
DTEND;TZID=America/Chicago:20260226T233000
DTSTAMP:20260423T161610
CREATED:20250912T203205Z
LAST-MODIFIED:20250912T203205Z
UID:6328-1772121600-1772148600@castlewoodhoa.com
SUMMARY:NO RESERVATIONS
DESCRIPTION:
URL:https://castlewoodhoa.com/event/no-reservations-322/
CATEGORIES:HOA BOD Administration
END:VEVENT
BEGIN:VEVENT
DTSTART;TZID=America/Chicago:20260223T050000
DTEND;TZID=America/Chicago:20260223T100000
DTSTAMP:20260423T161610
CREATED:20250912T203117Z
LAST-MODIFIED:20250912T203117Z
UID:6326-1771822800-1771840800@castlewoodhoa.com
SUMMARY:NO RESERVATIONS
DESCRIPTION:
URL:https://castlewoodhoa.com/event/no-reservations-321/
CATEGORIES:HOA BOD Administration
END:VEVENT
BEGIN:VEVENT
DTSTART;TZID=America/Chicago:20260219T160000
DTEND;TZID=America/Chicago:20260219T233000
DTSTAMP:20260423T161610
CREATED:20250912T203028Z
LAST-MODIFIED:20250912T203028Z
UID:6324-1771516800-1771543800@castlewoodhoa.com
SUMMARY:NO RESERVATIONS
DESCRIPTION:
URL:https://castlewoodhoa.com/event/no-reservations-320/
CATEGORIES:HOA BOD Administration
END:VEVENT
BEGIN:VEVENT
DTSTART;TZID=America/Chicago:20260217T180000
DTEND;TZID=America/Chicago:20260217T210000
DTSTAMP:20260423T161610
CREATED:20251201T180015Z
LAST-MODIFIED:20251201T180015Z
UID:6411-1771351200-1771362000@castlewoodhoa.com
SUMMARY:BOD Meeting
DESCRIPTION:
URL:https://castlewoodhoa.com/event/bod-meeting-26/
CATEGORIES:HOA BOD Administration
END:VEVENT
BEGIN:VEVENT
DTSTART;TZID=America/Chicago:20260216T050000
DTEND;TZID=America/Chicago:20260216T100000
DTSTAMP:20260423T161610
CREATED:20250912T202944Z
LAST-MODIFIED:20250912T202944Z
UID:6322-1771218000-1771236000@castlewoodhoa.com
SUMMARY:NO RESERVATIONS
DESCRIPTION:
URL:https://castlewoodhoa.com/event/no-reservations-319/
CATEGORIES:HOA BOD Administration
END:VEVENT
BEGIN:VEVENT
DTSTART;TZID=America/Chicago:20260212T160000
DTEND;TZID=America/Chicago:20260212T233000
DTSTAMP:20260423T161610
CREATED:20250912T202255Z
LAST-MODIFIED:20250912T202855Z
UID:6320-1770912000-1770939000@castlewoodhoa.com
SUMMARY:NO RESERVATIONS
DESCRIPTION:
URL:https://castlewoodhoa.com/event/no-reservations-318/
CATEGORIES:HOA BOD Administration
END:VEVENT
BEGIN:VEVENT
DTSTART;TZID=America/Chicago:20260209T050000
DTEND;TZID=America/Chicago:20260209T100000
DTSTAMP:20260423T161610
CREATED:20250912T202144Z
LAST-MODIFIED:20250912T202144Z
UID:6318-1770613200-1770631200@castlewoodhoa.com
SUMMARY:NO RESERVATIONS
DESCRIPTION:
URL:https://castlewoodhoa.com/event/no-reservations-317/
CATEGORIES:HOA BOD Administration
END:VEVENT
BEGIN:VEVENT
DTSTART;TZID=America/Chicago:20260202T050000
DTEND;TZID=America/Chicago:20260202T100000
DTSTAMP:20260423T161610
CREATED:20250912T201954Z
LAST-MODIFIED:20250912T201954Z
UID:6314-1770008400-1770026400@castlewoodhoa.com
SUMMARY:NO RESERVATIONS
DESCRIPTION:
URL:https://castlewoodhoa.com/event/no-reservations-315/
CATEGORIES:HOA BOD Administration
END:VEVENT
BEGIN:VEVENT
DTSTART;TZID=America/Chicago:20260129T160000
DTEND;TZID=America/Chicago:20260129T233000
DTSTAMP:20260423T161610
CREATED:20250912T201847Z
LAST-MODIFIED:20250912T202740Z
UID:6312-1769702400-1769729400@castlewoodhoa.com
SUMMARY:NO RESERVATIONS
DESCRIPTION:
URL:https://castlewoodhoa.com/event/no-reservations-314/
CATEGORIES:HOA BOD Administration
END:VEVENT
BEGIN:VEVENT
DTSTART;TZID=America/Chicago:20260126T050000
DTEND;TZID=America/Chicago:20260126T100000
DTSTAMP:20260423T161610
CREATED:20250912T201759Z
LAST-MODIFIED:20250912T201759Z
UID:6310-1769403600-1769421600@castlewoodhoa.com
SUMMARY:NO RESERVATIONS
DESCRIPTION:
URL:https://castlewoodhoa.com/event/no-reservations-313/
CATEGORIES:HOA BOD Administration
END:VEVENT
BEGIN:VEVENT
DTSTART;TZID=America/Chicago:20260122T160000
DTEND;TZID=America/Chicago:20260122T233000
DTSTAMP:20260423T161610
CREATED:20250912T201713Z
LAST-MODIFIED:20250912T202652Z
UID:6308-1769097600-1769124600@castlewoodhoa.com
SUMMARY:NO RESERVATIONS
DESCRIPTION:
URL:https://castlewoodhoa.com/event/no-reservations-312/
CATEGORIES:HOA BOD Administration
END:VEVENT
BEGIN:VEVENT
DTSTART;TZID=America/Chicago:20260120T180000
DTEND;TZID=America/Chicago:20260120T210000
DTSTAMP:20260423T161610
CREATED:20251201T175839Z
LAST-MODIFIED:20251201T175839Z
UID:6409-1768932000-1768942800@castlewoodhoa.com
SUMMARY:BOD Meeting
DESCRIPTION:
URL:https://castlewoodhoa.com/event/bod-meeting-22/
CATEGORIES:HOA BOD Administration
END:VEVENT
BEGIN:VEVENT
DTSTART;TZID=America/Chicago:20260119T050000
DTEND;TZID=America/Chicago:20260119T100000
DTSTAMP:20260423T161610
CREATED:20250912T201631Z
LAST-MODIFIED:20250912T201631Z
UID:6306-1768798800-1768816800@castlewoodhoa.com
SUMMARY:NO RESERVATIONS
DESCRIPTION:
URL:https://castlewoodhoa.com/event/no-reservations-311/
CATEGORIES:HOA BOD Administration
END:VEVENT
BEGIN:VEVENT
DTSTART;TZID=America/Chicago:20260115T160000
DTEND;TZID=America/Chicago:20260115T233000
DTSTAMP:20260423T161610
CREATED:20250912T201554Z
LAST-MODIFIED:20250912T202617Z
UID:6304-1768492800-1768519800@castlewoodhoa.com
SUMMARY:NO RESERVATIONS
DESCRIPTION:
URL:https://castlewoodhoa.com/event/no-reservations-308/
CATEGORIES:HOA BOD Administration
END:VEVENT
END:VCALENDAR