BEGIN:VCALENDAR
VERSION:2.0
PRODID:-//Castlewood Homeowners Association - ECPv6.15.17//NONSGML v1.0//EN
CALSCALE:GREGORIAN
METHOD:PUBLISH
X-ORIGINAL-URL:https://castlewoodhoa.com
X-WR-CALDESC:Events for Castlewood Homeowners Association
REFRESH-INTERVAL;VALUE=DURATION:PT1H
X-Robots-Tag:noindex
X-PUBLISHED-TTL:PT1H
BEGIN:VTIMEZONE
TZID:America/Chicago
BEGIN:DAYLIGHT
TZOFFSETFROM:-0600
TZOFFSETTO:-0500
TZNAME:CDT
DTSTART:20250309T080000
END:DAYLIGHT
BEGIN:STANDARD
TZOFFSETFROM:-0500
TZOFFSETTO:-0600
TZNAME:CST
DTSTART:20251102T070000
END:STANDARD
BEGIN:DAYLIGHT
TZOFFSETFROM:-0600
TZOFFSETTO:-0500
TZNAME:CDT
DTSTART:20260308T080000
END:DAYLIGHT
BEGIN:STANDARD
TZOFFSETFROM:-0500
TZOFFSETTO:-0600
TZNAME:CST
DTSTART:20261101T070000
END:STANDARD
BEGIN:DAYLIGHT
TZOFFSETFROM:-0600
TZOFFSETTO:-0500
TZNAME:CDT
DTSTART:20270314T080000
END:DAYLIGHT
BEGIN:STANDARD
TZOFFSETFROM:-0500
TZOFFSETTO:-0600
TZNAME:CST
DTSTART:20271107T070000
END:STANDARD
END:VTIMEZONE
BEGIN:VEVENT
DTSTART;TZID=America/Chicago:20260423T160000
DTEND;TZID=America/Chicago:20260423T233000
DTSTAMP:20260423T144056
CREATED:20251201T195108Z
LAST-MODIFIED:20251201T195108Z
UID:6487-1776960000-1776987000@castlewoodhoa.com
SUMMARY:NO RESERVATIONS
DESCRIPTION:
URL:https://castlewoodhoa.com/event/no-reservations-337/
CATEGORIES:HOA BOD Administration
END:VEVENT
BEGIN:VEVENT
DTSTART;TZID=America/Chicago:20260427T050000
DTEND;TZID=America/Chicago:20260427T100000
DTSTAMP:20260423T144056
CREATED:20251201T195135Z
LAST-MODIFIED:20251201T195135Z
UID:6489-1777266000-1777284000@castlewoodhoa.com
SUMMARY:NO RESERVATIONS
DESCRIPTION:
URL:https://castlewoodhoa.com/event/no-reservations-338/
CATEGORIES:HOA BOD Administration
END:VEVENT
BEGIN:VEVENT
DTSTART;TZID=America/Chicago:20260430T160000
DTEND;TZID=America/Chicago:20260430T233000
DTSTAMP:20260423T144056
CREATED:20251201T195158Z
LAST-MODIFIED:20251201T195158Z
UID:6491-1777564800-1777591800@castlewoodhoa.com
SUMMARY:NO RESERVATIONS
DESCRIPTION:
URL:https://castlewoodhoa.com/event/no-reservations-339/
CATEGORIES:HOA BOD Administration
END:VEVENT
BEGIN:VEVENT
DTSTART;TZID=America/Chicago:20260504T050000
DTEND;TZID=America/Chicago:20260504T100000
DTSTAMP:20260423T144056
CREATED:20251201T195245Z
LAST-MODIFIED:20251201T195245Z
UID:6493-1777870800-1777888800@castlewoodhoa.com
SUMMARY:NO RESERVATIONS
DESCRIPTION:
URL:https://castlewoodhoa.com/event/no-reservations-340/
CATEGORIES:HOA BOD Administration
END:VEVENT
BEGIN:VEVENT
DTSTART;TZID=America/Chicago:20260507T160000
DTEND;TZID=America/Chicago:20260507T233000
DTSTAMP:20260423T144056
CREATED:20251201T195310Z
LAST-MODIFIED:20251201T195310Z
UID:6495-1778169600-1778196600@castlewoodhoa.com
SUMMARY:NO RESERVATIONS
DESCRIPTION:
URL:https://castlewoodhoa.com/event/no-reservations-341/
CATEGORIES:HOA BOD Administration
END:VEVENT
BEGIN:VEVENT
DTSTART;TZID=America/Chicago:20260511T050000
DTEND;TZID=America/Chicago:20260511T100000
DTSTAMP:20260423T144056
CREATED:20251201T195341Z
LAST-MODIFIED:20251201T195341Z
UID:6497-1778475600-1778493600@castlewoodhoa.com
SUMMARY:NO RESERVATIONS
DESCRIPTION:
URL:https://castlewoodhoa.com/event/no-reservations-342/
CATEGORIES:HOA BOD Administration
END:VEVENT
BEGIN:VEVENT
DTSTART;TZID=America/Chicago:20260514T160000
DTEND;TZID=America/Chicago:20260514T233000
DTSTAMP:20260423T144056
CREATED:20251201T195406Z
LAST-MODIFIED:20251201T195406Z
UID:6499-1778774400-1778801400@castlewoodhoa.com
SUMMARY:NO RESERVATIONS
DESCRIPTION:
URL:https://castlewoodhoa.com/event/no-reservations-343/
CATEGORIES:HOA BOD Administration
END:VEVENT
BEGIN:VEVENT
DTSTART;TZID=America/Chicago:20260518T050000
DTEND;TZID=America/Chicago:20260518T100000
DTSTAMP:20260423T144056
CREATED:20251201T195433Z
LAST-MODIFIED:20251201T195433Z
UID:6501-1779080400-1779098400@castlewoodhoa.com
SUMMARY:NO RESERVATIONS
DESCRIPTION:
URL:https://castlewoodhoa.com/event/no-reservations-344/
CATEGORIES:HOA BOD Administration
END:VEVENT
BEGIN:VEVENT
DTSTART;TZID=America/Chicago:20260519T180000
DTEND;TZID=America/Chicago:20260519T210000
DTSTAMP:20260423T144056
CREATED:20251201T180430Z
LAST-MODIFIED:20251201T180430Z
UID:6417-1779213600-1779224400@castlewoodhoa.com
SUMMARY:BOD Meeting
DESCRIPTION:
URL:https://castlewoodhoa.com/event/bod-meeting-32/
CATEGORIES:HOA BOD Administration
END:VEVENT
BEGIN:VEVENT
DTSTART;TZID=America/Chicago:20260521T160000
DTEND;TZID=America/Chicago:20260521T233000
DTSTAMP:20260423T144056
CREATED:20251201T195500Z
LAST-MODIFIED:20251201T195500Z
UID:6503-1779379200-1779406200@castlewoodhoa.com
SUMMARY:NO RESERVATIONS
DESCRIPTION:
URL:https://castlewoodhoa.com/event/no-reservations-345/
CATEGORIES:HOA BOD Administration
END:VEVENT
BEGIN:VEVENT
DTSTART;TZID=America/Chicago:20260525T050000
DTEND;TZID=America/Chicago:20260525T100000
DTSTAMP:20260423T144056
CREATED:20251201T195528Z
LAST-MODIFIED:20251201T195528Z
UID:6505-1779685200-1779703200@castlewoodhoa.com
SUMMARY:NO RESERVATIONS
DESCRIPTION:
URL:https://castlewoodhoa.com/event/no-reservations-346/
CATEGORIES:HOA BOD Administration
END:VEVENT
BEGIN:VEVENT
DTSTART;TZID=America/Chicago:20260528T160000
DTEND;TZID=America/Chicago:20260528T233000
DTSTAMP:20260423T144056
CREATED:20251201T195554Z
LAST-MODIFIED:20251201T195554Z
UID:6507-1779984000-1780011000@castlewoodhoa.com
SUMMARY:NO RESERVATIONS
DESCRIPTION:
URL:https://castlewoodhoa.com/event/no-reservations-347/
CATEGORIES:HOA BOD Administration
END:VEVENT
BEGIN:VEVENT
DTSTART;TZID=America/Chicago:20260601T050000
DTEND;TZID=America/Chicago:20260601T100000
DTSTAMP:20260423T144056
CREATED:20251201T200400Z
LAST-MODIFIED:20251201T200400Z
UID:6509-1780290000-1780308000@castlewoodhoa.com
SUMMARY:NO RESERVATIONS
DESCRIPTION:
URL:https://castlewoodhoa.com/event/no-reservations-348/
CATEGORIES:HOA BOD Administration
END:VEVENT
BEGIN:VEVENT
DTSTART;TZID=America/Chicago:20260604T160000
DTEND;TZID=America/Chicago:20260604T233000
DTSTAMP:20260423T144056
CREATED:20251201T200424Z
LAST-MODIFIED:20251201T200424Z
UID:6511-1780588800-1780615800@castlewoodhoa.com
SUMMARY:NO RESERVATIONS
DESCRIPTION:
URL:https://castlewoodhoa.com/event/no-reservations-349/
CATEGORIES:HOA BOD Administration
END:VEVENT
BEGIN:VEVENT
DTSTART;TZID=America/Chicago:20260608T050000
DTEND;TZID=America/Chicago:20260608T100000
DTSTAMP:20260423T144056
CREATED:20251201T200451Z
LAST-MODIFIED:20251201T200451Z
UID:6513-1780894800-1780912800@castlewoodhoa.com
SUMMARY:NO RESERVATIONS
DESCRIPTION:
URL:https://castlewoodhoa.com/event/no-reservations-350/
CATEGORIES:HOA BOD Administration
END:VEVENT
BEGIN:VEVENT
DTSTART;TZID=America/Chicago:20260615T050000
DTEND;TZID=America/Chicago:20260615T100000
DTSTAMP:20260423T144056
CREATED:20251201T200635Z
LAST-MODIFIED:20251201T200635Z
UID:6517-1781499600-1781517600@castlewoodhoa.com
SUMMARY:NO RESERVATIONS
DESCRIPTION:
URL:https://castlewoodhoa.com/event/no-reservations-352/
CATEGORIES:HOA BOD Administration
END:VEVENT
BEGIN:VEVENT
DTSTART;TZID=America/Chicago:20260616T180000
DTEND;TZID=America/Chicago:20260616T210000
DTSTAMP:20260423T144056
CREATED:20251201T180503Z
LAST-MODIFIED:20251201T180503Z
UID:6419-1781632800-1781643600@castlewoodhoa.com
SUMMARY:BOD Meeting
DESCRIPTION:
URL:https://castlewoodhoa.com/event/bod-meeting-33/
CATEGORIES:HOA BOD Administration
END:VEVENT
BEGIN:VEVENT
DTSTART;TZID=America/Chicago:20260618T160000
DTEND;TZID=America/Chicago:20260618T233000
DTSTAMP:20260423T144056
CREATED:20251201T200657Z
LAST-MODIFIED:20251201T200657Z
UID:6519-1781798400-1781825400@castlewoodhoa.com
SUMMARY:NO RESERVATIONS
DESCRIPTION:
URL:https://castlewoodhoa.com/event/no-reservations-353/
CATEGORIES:HOA BOD Administration
END:VEVENT
BEGIN:VEVENT
DTSTART;TZID=America/Chicago:20260622T050000
DTEND;TZID=America/Chicago:20260622T100000
DTSTAMP:20260423T144056
CREATED:20251201T200720Z
LAST-MODIFIED:20251201T200720Z
UID:6521-1782104400-1782122400@castlewoodhoa.com
SUMMARY:NO RESERVATIONS
DESCRIPTION:
URL:https://castlewoodhoa.com/event/no-reservations-354/
CATEGORIES:HOA BOD Administration
END:VEVENT
BEGIN:VEVENT
DTSTART;TZID=America/Chicago:20260625T160000
DTEND;TZID=America/Chicago:20260625T233000
DTSTAMP:20260423T144056
CREATED:20251201T200742Z
LAST-MODIFIED:20251201T200742Z
UID:6523-1782403200-1782430200@castlewoodhoa.com
SUMMARY:NO RESERVATIONS
DESCRIPTION:
URL:https://castlewoodhoa.com/event/no-reservations-355/
CATEGORIES:HOA BOD Administration
END:VEVENT
BEGIN:VEVENT
DTSTART;TZID=America/Chicago:20260629T050000
DTEND;TZID=America/Chicago:20260629T100000
DTSTAMP:20260423T144056
CREATED:20251201T200809Z
LAST-MODIFIED:20251201T200809Z
UID:6525-1782709200-1782727200@castlewoodhoa.com
SUMMARY:NO RESERVATIONS
DESCRIPTION:
URL:https://castlewoodhoa.com/event/no-reservations-356/
CATEGORIES:HOA BOD Administration
END:VEVENT
BEGIN:VEVENT
DTSTART;TZID=America/Chicago:20260702T160000
DTEND;TZID=America/Chicago:20260702T233000
DTSTAMP:20260423T144056
CREATED:20251201T201014Z
LAST-MODIFIED:20251201T201014Z
UID:6527-1783008000-1783035000@castlewoodhoa.com
SUMMARY:NO RESERVATIONS
DESCRIPTION:
URL:https://castlewoodhoa.com/event/no-reservations-357/
CATEGORIES:HOA BOD Administration
END:VEVENT
BEGIN:VEVENT
DTSTART;TZID=America/Chicago:20260706T050000
DTEND;TZID=America/Chicago:20260706T100000
DTSTAMP:20260423T144056
CREATED:20251201T201038Z
LAST-MODIFIED:20251201T201038Z
UID:6529-1783314000-1783332000@castlewoodhoa.com
SUMMARY:NO RESERVATIONS
DESCRIPTION:
URL:https://castlewoodhoa.com/event/no-reservations-358/
CATEGORIES:HOA BOD Administration
END:VEVENT
BEGIN:VEVENT
DTSTART;TZID=America/Chicago:20260709T160000
DTEND;TZID=America/Chicago:20260709T233000
DTSTAMP:20260423T144056
CREATED:20251201T201101Z
LAST-MODIFIED:20251201T201101Z
UID:6531-1783612800-1783639800@castlewoodhoa.com
SUMMARY:NO RESERVATIONS
DESCRIPTION:
URL:https://castlewoodhoa.com/event/no-reservations-359/
CATEGORIES:HOA BOD Administration
END:VEVENT
BEGIN:VEVENT
DTSTART;TZID=America/Chicago:20260713T050000
DTEND;TZID=America/Chicago:20260713T100000
DTSTAMP:20260423T144056
CREATED:20251201T201122Z
LAST-MODIFIED:20251201T201122Z
UID:6533-1783918800-1783936800@castlewoodhoa.com
SUMMARY:NO RESERVATIONS
DESCRIPTION:
URL:https://castlewoodhoa.com/event/no-reservations-360/
CATEGORIES:HOA BOD Administration
END:VEVENT
BEGIN:VEVENT
DTSTART;TZID=America/Chicago:20260716T160000
DTEND;TZID=America/Chicago:20260716T233000
DTSTAMP:20260423T144056
CREATED:20251201T201145Z
LAST-MODIFIED:20251201T201145Z
UID:6535-1784217600-1784244600@castlewoodhoa.com
SUMMARY:NO RESERVATIONS
DESCRIPTION:
URL:https://castlewoodhoa.com/event/no-reservations-361/
CATEGORIES:HOA BOD Administration
END:VEVENT
BEGIN:VEVENT
DTSTART;TZID=America/Chicago:20260720T050000
DTEND;TZID=America/Chicago:20260720T100000
DTSTAMP:20260423T144056
CREATED:20251201T201213Z
LAST-MODIFIED:20251201T201213Z
UID:6537-1784523600-1784541600@castlewoodhoa.com
SUMMARY:NO RESERVATIONS
DESCRIPTION:
URL:https://castlewoodhoa.com/event/no-reservations-362/
CATEGORIES:HOA BOD Administration
END:VEVENT
BEGIN:VEVENT
DTSTART;TZID=America/Chicago:20260721T180000
DTEND;TZID=America/Chicago:20260721T210000
DTSTAMP:20260423T144056
CREATED:20251201T180537Z
LAST-MODIFIED:20251201T180537Z
UID:6421-1784656800-1784667600@castlewoodhoa.com
SUMMARY:BOD Meeting
DESCRIPTION:
URL:https://castlewoodhoa.com/event/bod-meeting-34/
CATEGORIES:HOA BOD Administration
END:VEVENT
BEGIN:VEVENT
DTSTART;TZID=America/Chicago:20260723T160000
DTEND;TZID=America/Chicago:20260723T233000
DTSTAMP:20260423T144056
CREATED:20251201T201235Z
LAST-MODIFIED:20251201T201235Z
UID:6539-1784822400-1784849400@castlewoodhoa.com
SUMMARY:NO RESERVATIONS
DESCRIPTION:
URL:https://castlewoodhoa.com/event/no-reservations-363/
CATEGORIES:HOA BOD Administration
END:VEVENT
BEGIN:VEVENT
DTSTART;TZID=America/Chicago:20260727T050000
DTEND;TZID=America/Chicago:20260727T100000
DTSTAMP:20260423T144056
CREATED:20251201T201257Z
LAST-MODIFIED:20251201T201257Z
UID:6541-1785128400-1785146400@castlewoodhoa.com
SUMMARY:NO RESERVATIONS
DESCRIPTION:
URL:https://castlewoodhoa.com/event/no-reservations-364/
CATEGORIES:HOA BOD Administration
END:VEVENT
END:VCALENDAR