BEGIN:VCALENDAR
VERSION:2.0
PRODID:-//Castlewood Homeowners Association - ECPv6.15.17//NONSGML v1.0//EN
CALSCALE:GREGORIAN
METHOD:PUBLISH
X-WR-CALNAME:Castlewood Homeowners Association
X-ORIGINAL-URL:https://castlewoodhoa.com
X-WR-CALDESC:Events for Castlewood Homeowners Association
REFRESH-INTERVAL;VALUE=DURATION:PT1H
X-Robots-Tag:noindex
X-PUBLISHED-TTL:PT1H
BEGIN:VTIMEZONE
TZID:America/Chicago
BEGIN:DAYLIGHT
TZOFFSETFROM:-0600
TZOFFSETTO:-0500
TZNAME:CDT
DTSTART:20240310T080000
END:DAYLIGHT
BEGIN:STANDARD
TZOFFSETFROM:-0500
TZOFFSETTO:-0600
TZNAME:CST
DTSTART:20241103T070000
END:STANDARD
BEGIN:DAYLIGHT
TZOFFSETFROM:-0600
TZOFFSETTO:-0500
TZNAME:CDT
DTSTART:20250309T080000
END:DAYLIGHT
BEGIN:STANDARD
TZOFFSETFROM:-0500
TZOFFSETTO:-0600
TZNAME:CST
DTSTART:20251102T070000
END:STANDARD
BEGIN:DAYLIGHT
TZOFFSETFROM:-0600
TZOFFSETTO:-0500
TZNAME:CDT
DTSTART:20260308T080000
END:DAYLIGHT
BEGIN:STANDARD
TZOFFSETFROM:-0500
TZOFFSETTO:-0600
TZNAME:CST
DTSTART:20261101T070000
END:STANDARD
BEGIN:DAYLIGHT
TZOFFSETFROM:-0600
TZOFFSETTO:-0500
TZNAME:CDT
DTSTART:20270314T080000
END:DAYLIGHT
BEGIN:STANDARD
TZOFFSETFROM:-0500
TZOFFSETTO:-0600
TZNAME:CST
DTSTART:20271107T070000
END:STANDARD
END:VTIMEZONE
BEGIN:VEVENT
DTSTART;VALUE=DATE:20251030
DTEND;VALUE=DATE:20251031
DTSTAMP:20260425T073331
CREATED:20241028T174757Z
LAST-MODIFIED:20241028T174757Z
UID:5741-1761782400-1761868799@castlewoodhoa.com
SUMMARY:NO RESERVATION
DESCRIPTION:
URL:https://castlewoodhoa.com/event/no-reservation-3/
CATEGORIES:HOA BOD Administration
END:VEVENT
BEGIN:VEVENT
DTSTART;TZID=America/Chicago:20251103T050000
DTEND;TZID=America/Chicago:20251103T100000
DTSTAMP:20260425T073331
CREATED:20241023T180859Z
LAST-MODIFIED:20241023T180859Z
UID:5691-1762146000-1762164000@castlewoodhoa.com
SUMMARY:NO RESERVATIONS
DESCRIPTION:
URL:https://castlewoodhoa.com/event/no-reservations-273/
CATEGORIES:HOA BOD Administration
END:VEVENT
BEGIN:VEVENT
DTSTART;TZID=America/Chicago:20251106T160000
DTEND;TZID=America/Chicago:20251106T233000
DTSTAMP:20260425T073331
CREATED:20241023T181036Z
LAST-MODIFIED:20241023T181036Z
UID:5693-1762444800-1762471800@castlewoodhoa.com
SUMMARY:NO RESERVATIONS
DESCRIPTION:
URL:https://castlewoodhoa.com/event/no-reservations-274/
CATEGORIES:HOA BOD Administration
END:VEVENT
BEGIN:VEVENT
DTSTART;TZID=America/Chicago:20251110T050000
DTEND;TZID=America/Chicago:20251110T100000
DTSTAMP:20260425T073331
CREATED:20241023T181230Z
LAST-MODIFIED:20241023T181230Z
UID:5695-1762750800-1762768800@castlewoodhoa.com
SUMMARY:NO RESERVATIONS
DESCRIPTION:
URL:https://castlewoodhoa.com/event/no-reservations-275/
CATEGORIES:HOA BOD Administration
END:VEVENT
BEGIN:VEVENT
DTSTART;TZID=America/Chicago:20251113T160000
DTEND;TZID=America/Chicago:20251113T233000
DTSTAMP:20260425T073331
CREATED:20241023T181353Z
LAST-MODIFIED:20241023T181353Z
UID:5697-1763049600-1763076600@castlewoodhoa.com
SUMMARY:NO RESERVATIONS
DESCRIPTION:
URL:https://castlewoodhoa.com/event/no-reservations-276/
CATEGORIES:HOA BOD Administration
END:VEVENT
BEGIN:VEVENT
DTSTART;TZID=America/Chicago:20251117T050000
DTEND;TZID=America/Chicago:20251117T100000
DTSTAMP:20260425T073331
CREATED:20241023T181500Z
LAST-MODIFIED:20241023T181603Z
UID:5699-1763355600-1763373600@castlewoodhoa.com
SUMMARY:NO RESERVATIONS
DESCRIPTION:
URL:https://castlewoodhoa.com/event/no-reservations-277/
CATEGORIES:HOA BOD Administration
END:VEVENT
BEGIN:VEVENT
DTSTART;VALUE=DATE:20251118
DTEND;VALUE=DATE:20251119
DTSTAMP:20260425T073331
CREATED:20250203T184724Z
LAST-MODIFIED:20250203T184724Z
UID:5890-1763424000-1763510399@castlewoodhoa.com
SUMMARY:NO RESERVATIONS
DESCRIPTION:
URL:https://castlewoodhoa.com/event/no-reservations-296/
LOCATION:Castlewood HOA Clubhouse\, 3420 Fairfield Lane\, Highland Village\, TX\, 75077\, United States
CATEGORIES:HOA BOD Administration
END:VEVENT
BEGIN:VEVENT
DTSTART;TZID=America/Chicago:20251118T180000
DTEND;TZID=America/Chicago:20251118T210000
DTSTAMP:20260425T073331
CREATED:20241016T163615Z
LAST-MODIFIED:20241016T163615Z
UID:5498-1763488800-1763499600@castlewoodhoa.com
SUMMARY:BOD Meeting
DESCRIPTION:
URL:https://castlewoodhoa.com/event/bod-meeting-29/
LOCATION:Castlewood HOA Clubhouse\, 3420 Fairfield Lane\, Highland Village\, TX\, 75077\, United States
CATEGORIES:HOA BOD Administration
END:VEVENT
BEGIN:VEVENT
DTSTART;TZID=America/Chicago:20251120T160000
DTEND;TZID=America/Chicago:20251120T233000
DTSTAMP:20260425T073331
CREATED:20241023T181726Z
LAST-MODIFIED:20241023T181726Z
UID:5701-1763654400-1763681400@castlewoodhoa.com
SUMMARY:NO RESERVATIONS
DESCRIPTION:
URL:https://castlewoodhoa.com/event/no-reservations-278/
CATEGORIES:HOA BOD Administration
END:VEVENT
BEGIN:VEVENT
DTSTART;TZID=America/Chicago:20251124T050000
DTEND;TZID=America/Chicago:20251124T100000
DTSTAMP:20260425T073331
CREATED:20241023T181852Z
LAST-MODIFIED:20241023T181852Z
UID:5703-1763960400-1763978400@castlewoodhoa.com
SUMMARY:NO RESERVATIONS
DESCRIPTION:
URL:https://castlewoodhoa.com/event/no-reservations-279/
CATEGORIES:HOA BOD Administration
END:VEVENT
BEGIN:VEVENT
DTSTART;VALUE=DATE:20251127
DTEND;VALUE=DATE:20251128
DTSTAMP:20260425T073331
CREATED:20241023T182025Z
LAST-MODIFIED:20241023T183538Z
UID:5705-1764201600-1764287999@castlewoodhoa.com
SUMMARY:NO RESERVATIONS
DESCRIPTION:
URL:https://castlewoodhoa.com/event/no-reservations-280/
CATEGORIES:HOA BOD Administration
END:VEVENT
BEGIN:VEVENT
DTSTART;TZID=America/Chicago:20251201T050000
DTEND;TZID=America/Chicago:20251201T100000
DTSTAMP:20260425T073331
CREATED:20241023T182153Z
LAST-MODIFIED:20241023T182153Z
UID:5707-1764565200-1764583200@castlewoodhoa.com
SUMMARY:NO RESERVATIONS
DESCRIPTION:
URL:https://castlewoodhoa.com/event/no-reservations-281/
CATEGORIES:HOA BOD Administration
END:VEVENT
BEGIN:VEVENT
DTSTART;TZID=America/Chicago:20251204T160000
DTEND;TZID=America/Chicago:20251204T233000
DTSTAMP:20260425T073331
CREATED:20241023T182309Z
LAST-MODIFIED:20241023T182309Z
UID:5709-1764864000-1764891000@castlewoodhoa.com
SUMMARY:NO RESERVATIONS
DESCRIPTION:
URL:https://castlewoodhoa.com/event/no-reservations-282/
CATEGORIES:HOA BOD Administration
END:VEVENT
BEGIN:VEVENT
DTSTART;VALUE=DATE:20251205
DTEND;VALUE=DATE:20251206
DTSTAMP:20260425T073331
CREATED:20241028T175810Z
LAST-MODIFIED:20250203T183838Z
UID:5747-1764892800-1764979199@castlewoodhoa.com
SUMMARY:NO RESERVATIONS
DESCRIPTION:
URL:https://castlewoodhoa.com/event/no-reservation-4/
CATEGORIES:HOA BOD Administration
END:VEVENT
BEGIN:VEVENT
DTSTART;TZID=America/Chicago:20251208T050000
DTEND;TZID=America/Chicago:20251208T100000
DTSTAMP:20260425T073331
CREATED:20241023T182428Z
LAST-MODIFIED:20241023T182428Z
UID:5711-1765170000-1765188000@castlewoodhoa.com
SUMMARY:NO RESERVATIONS
DESCRIPTION:
URL:https://castlewoodhoa.com/event/no-reservations-283/
CATEGORIES:HOA BOD Administration
END:VEVENT
BEGIN:VEVENT
DTSTART;VALUE=DATE:20251210
DTEND;VALUE=DATE:20251211
DTSTAMP:20260425T073331
CREATED:20241028T181258Z
LAST-MODIFIED:20241028T181258Z
UID:5755-1765324800-1765411199@castlewoodhoa.com
SUMMARY:NO RESERVATIONS
DESCRIPTION:
URL:https://castlewoodhoa.com/event/no-reservations-272/
LOCATION:Castlewood HOA Clubhouse\, 3420 Fairfield Lane\, Highland Village\, TX\, 75077\, United States
CATEGORIES:HOA BOD Administration
END:VEVENT
BEGIN:VEVENT
DTSTART;TZID=America/Chicago:20251210T180000
DTEND;TZID=America/Chicago:20251210T210000
DTSTAMP:20260425T073331
CREATED:20241016T164046Z
LAST-MODIFIED:20241016T164046Z
UID:5500-1765389600-1765400400@castlewoodhoa.com
SUMMARY:Annual Meeting
DESCRIPTION:
URL:https://castlewoodhoa.com/event/annual-meeting-5/
LOCATION:Castlewood HOA Clubhouse\, 3420 Fairfield Lane\, Highland Village\, TX\, 75077\, United States
CATEGORIES:HOA BOD Administration
END:VEVENT
BEGIN:VEVENT
DTSTART;TZID=America/Chicago:20251211T160000
DTEND;TZID=America/Chicago:20251211T233000
DTSTAMP:20260425T073331
CREATED:20241023T182614Z
LAST-MODIFIED:20241023T182614Z
UID:5713-1765468800-1765495800@castlewoodhoa.com
SUMMARY:NO RESERVATIONS
DESCRIPTION:
URL:https://castlewoodhoa.com/event/no-reservations-284/
CATEGORIES:HOA BOD Administration
END:VEVENT
BEGIN:VEVENT
DTSTART;TZID=America/Chicago:20251215T160000
DTEND;TZID=America/Chicago:20251215T233000
DTSTAMP:20260425T073331
CREATED:20241023T182733Z
LAST-MODIFIED:20241023T182733Z
UID:5715-1765814400-1765841400@castlewoodhoa.com
SUMMARY:NO RESERVATIONS
DESCRIPTION:
URL:https://castlewoodhoa.com/event/no-reservations-285/
CATEGORIES:HOA BOD Administration
END:VEVENT
BEGIN:VEVENT
DTSTART;TZID=America/Chicago:20251218T160000
DTEND;TZID=America/Chicago:20251218T233000
DTSTAMP:20260425T073331
CREATED:20241023T182908Z
LAST-MODIFIED:20241023T182908Z
UID:5717-1766073600-1766100600@castlewoodhoa.com
SUMMARY:NO RESERVATIONS
DESCRIPTION:
URL:https://castlewoodhoa.com/event/no-reservations-286/
CATEGORIES:HOA BOD Administration
END:VEVENT
BEGIN:VEVENT
DTSTART;TZID=America/Chicago:20251222T050000
DTEND;TZID=America/Chicago:20251222T100000
DTSTAMP:20260425T073331
CREATED:20241023T183036Z
LAST-MODIFIED:20241023T183036Z
UID:5719-1766379600-1766397600@castlewoodhoa.com
SUMMARY:NO RESERVATIONS
DESCRIPTION:
URL:https://castlewoodhoa.com/event/no-reservations-287/
CATEGORIES:HOA BOD Administration
END:VEVENT
BEGIN:VEVENT
DTSTART;VALUE=DATE:20251225
DTEND;VALUE=DATE:20251226
DTSTAMP:20260425T073331
CREATED:20241023T183146Z
LAST-MODIFIED:20241023T183324Z
UID:5721-1766620800-1766707199@castlewoodhoa.com
SUMMARY:NO RESERVATIONS
DESCRIPTION:
URL:https://castlewoodhoa.com/event/no-reservations-288/
CATEGORIES:HOA BOD Administration
END:VEVENT
BEGIN:VEVENT
DTSTART;VALUE=DATE:20251229
DTEND;VALUE=DATE:20251230
DTSTAMP:20260425T073331
CREATED:20241023T184156Z
LAST-MODIFIED:20241226T175841Z
UID:5725-1766966400-1767052799@castlewoodhoa.com
SUMMARY:Clubhouse Reserved
DESCRIPTION:
URL:https://castlewoodhoa.com/event/no-reservations-290/
CATEGORIES:HOA BOD Administration
END:VEVENT
BEGIN:VEVENT
DTSTART;VALUE=DATE:20251231
DTEND;VALUE=DATE:20260102
DTSTAMP:20260425T073331
CREATED:20250204T172718Z
LAST-MODIFIED:20251111T190442Z
UID:5929-1767139200-1767311999@castlewoodhoa.com
SUMMARY:Clubhouse Reserved
DESCRIPTION:
URL:https://castlewoodhoa.com/event/no-reservations-309/
LOCATION:Castlewood HOA Clubhouse\, 3420 Fairfield Lane\, Highland Village\, TX\, 75077\, United States
CATEGORIES:HOA BOD Administration
END:VEVENT
BEGIN:VEVENT
DTSTART;TZID=America/Chicago:20260101T160000
DTEND;TZID=America/Chicago:20260101T233000
DTSTAMP:20260425T073331
CREATED:20250912T201334Z
LAST-MODIFIED:20250912T202459Z
UID:6298-1767283200-1767310200@castlewoodhoa.com
SUMMARY:NO RESERVATIONS
DESCRIPTION:
URL:https://castlewoodhoa.com/event/no-reservations-303/
CATEGORIES:HOA BOD Administration
END:VEVENT
BEGIN:VEVENT
DTSTART;TZID=America/Chicago:20260105T050000
DTEND;TZID=America/Chicago:20260105T100000
DTSTAMP:20260425T073331
CREATED:20250912T201113Z
LAST-MODIFIED:20250912T201246Z
UID:6296-1767589200-1767607200@castlewoodhoa.com
SUMMARY:NO RESERVATIONS
DESCRIPTION:
URL:https://castlewoodhoa.com/event/no-reservations-293/
CATEGORIES:HOA BOD Administration
END:VEVENT
BEGIN:VEVENT
DTSTART;TZID=America/Chicago:20260108T163000
DTEND;TZID=America/Chicago:20260108T233000
DTSTAMP:20260425T073331
CREATED:20250912T201411Z
LAST-MODIFIED:20250912T202536Z
UID:6300-1767889800-1767915000@castlewoodhoa.com
SUMMARY:NO RESERVATIONS
DESCRIPTION:
URL:https://castlewoodhoa.com/event/no-reservations-304/
CATEGORIES:HOA BOD Administration
END:VEVENT
BEGIN:VEVENT
DTSTART;TZID=America/Chicago:20260112T050000
DTEND;TZID=America/Chicago:20260112T100000
DTSTAMP:20260425T073331
CREATED:20250912T201451Z
LAST-MODIFIED:20250912T201451Z
UID:6302-1768194000-1768212000@castlewoodhoa.com
SUMMARY:NO RESERVATIONS
DESCRIPTION:
URL:https://castlewoodhoa.com/event/no-reservations-307/
CATEGORIES:HOA BOD Administration
END:VEVENT
BEGIN:VEVENT
DTSTART;TZID=America/Chicago:20260115T160000
DTEND;TZID=America/Chicago:20260115T233000
DTSTAMP:20260425T073331
CREATED:20250912T201554Z
LAST-MODIFIED:20250912T202617Z
UID:6304-1768492800-1768519800@castlewoodhoa.com
SUMMARY:NO RESERVATIONS
DESCRIPTION:
URL:https://castlewoodhoa.com/event/no-reservations-308/
CATEGORIES:HOA BOD Administration
END:VEVENT
BEGIN:VEVENT
DTSTART;TZID=America/Chicago:20260119T050000
DTEND;TZID=America/Chicago:20260119T100000
DTSTAMP:20260425T073331
CREATED:20250912T201631Z
LAST-MODIFIED:20250912T201631Z
UID:6306-1768798800-1768816800@castlewoodhoa.com
SUMMARY:NO RESERVATIONS
DESCRIPTION:
URL:https://castlewoodhoa.com/event/no-reservations-311/
CATEGORIES:HOA BOD Administration
END:VEVENT
END:VCALENDAR