BEGIN:VCALENDAR
VERSION:2.0
PRODID:-//Castlewood Homeowners Association - ECPv6.15.17//NONSGML v1.0//EN
CALSCALE:GREGORIAN
METHOD:PUBLISH
X-WR-CALNAME:Castlewood Homeowners Association
X-ORIGINAL-URL:https://castlewoodhoa.com
X-WR-CALDESC:Events for Castlewood Homeowners Association
REFRESH-INTERVAL;VALUE=DURATION:PT1H
X-Robots-Tag:noindex
X-PUBLISHED-TTL:PT1H
BEGIN:VTIMEZONE
TZID:America/Chicago
BEGIN:DAYLIGHT
TZOFFSETFROM:-0600
TZOFFSETTO:-0500
TZNAME:CDT
DTSTART:20220313T080000
END:DAYLIGHT
BEGIN:STANDARD
TZOFFSETFROM:-0500
TZOFFSETTO:-0600
TZNAME:CST
DTSTART:20221106T070000
END:STANDARD
BEGIN:DAYLIGHT
TZOFFSETFROM:-0600
TZOFFSETTO:-0500
TZNAME:CDT
DTSTART:20230312T080000
END:DAYLIGHT
BEGIN:STANDARD
TZOFFSETFROM:-0500
TZOFFSETTO:-0600
TZNAME:CST
DTSTART:20231105T070000
END:STANDARD
BEGIN:DAYLIGHT
TZOFFSETFROM:-0600
TZOFFSETTO:-0500
TZNAME:CDT
DTSTART:20240310T080000
END:DAYLIGHT
BEGIN:STANDARD
TZOFFSETFROM:-0500
TZOFFSETTO:-0600
TZNAME:CST
DTSTART:20241103T070000
END:STANDARD
END:VTIMEZONE
BEGIN:VEVENT
DTSTART;TZID=America/Chicago:20230831T170000
DTEND;TZID=America/Chicago:20230831T233000
DTSTAMP:20260423T192405
CREATED:20230525T211121Z
LAST-MODIFIED:20230525T211121Z
UID:4366-1693501200-1693524600@castlewoodhoa.com
SUMMARY:NO RESERVATIONS
DESCRIPTION:
URL:https://castlewoodhoa.com/event/no-reservations-53/
LOCATION:Castlewood HOA Clubhouse\, 3420 Fairfield Lane\, Highland Village\, TX\, 75077\, United States
CATEGORIES:HOA BOD Administration
END:VEVENT
BEGIN:VEVENT
DTSTART;TZID=America/Chicago:20230828T050000
DTEND;TZID=America/Chicago:20230828T100000
DTSTAMP:20260423T192405
CREATED:20230525T210757Z
LAST-MODIFIED:20230525T210757Z
UID:4356-1693198800-1693216800@castlewoodhoa.com
SUMMARY:NO RESERVATIONS
DESCRIPTION:
URL:https://castlewoodhoa.com/event/no-reservations-48/
LOCATION:Castlewood HOA Clubhouse\, 3420 Fairfield Lane\, Highland Village\, TX\, 75077\, United States
CATEGORIES:HOA BOD Administration
END:VEVENT
BEGIN:VEVENT
DTSTART;TZID=America/Chicago:20230824T170000
DTEND;TZID=America/Chicago:20230824T233000
DTSTAMP:20260423T192405
CREATED:20230525T211047Z
LAST-MODIFIED:20230525T211047Z
UID:4364-1692896400-1692919800@castlewoodhoa.com
SUMMARY:NO RESERVATIONS
DESCRIPTION:
URL:https://castlewoodhoa.com/event/no-reservations-52/
LOCATION:Castlewood HOA Clubhouse\, 3420 Fairfield Lane\, Highland Village\, TX\, 75077\, United States
CATEGORIES:HOA BOD Administration
END:VEVENT
BEGIN:VEVENT
DTSTART;TZID=America/Chicago:20230821T050000
DTEND;TZID=America/Chicago:20230821T100000
DTSTAMP:20260423T192405
CREATED:20230525T205215Z
LAST-MODIFIED:20230525T205215Z
UID:4354-1692594000-1692612000@castlewoodhoa.com
SUMMARY:NO RESERVATIONS
DESCRIPTION:
URL:https://castlewoodhoa.com/event/no-reservations-47/
LOCATION:Castlewood HOA Clubhouse\, 3420 Fairfield Lane\, Highland Village\, TX\, 75077\, United States
CATEGORIES:HOA BOD Administration
END:VEVENT
BEGIN:VEVENT
DTSTART;TZID=America/Chicago:20230817T170000
DTEND;TZID=America/Chicago:20230817T233000
DTSTAMP:20260423T192405
CREATED:20230525T211001Z
LAST-MODIFIED:20230525T211001Z
UID:4362-1692291600-1692315000@castlewoodhoa.com
SUMMARY:NO RESERVATIONS
DESCRIPTION:
URL:https://castlewoodhoa.com/event/no-reservations-51/
LOCATION:Castlewood HOA Clubhouse\, 3420 Fairfield Lane\, Highland Village\, TX\, 75077\, United States
CATEGORIES:HOA BOD Administration
END:VEVENT
BEGIN:VEVENT
DTSTART;TZID=America/Chicago:20230816T180000
DTEND;TZID=America/Chicago:20230816T210000
DTSTAMP:20260423T192405
CREATED:20220603T185353Z
LAST-MODIFIED:20221208T165442Z
UID:3220-1692208800-1692219600@castlewoodhoa.com
SUMMARY:BOD Meeting
DESCRIPTION:
URL:https://castlewoodhoa.com/event/bod-meeting-8/
LOCATION:Castlewood HOA Clubhouse\, 3420 Fairfield Lane\, Highland Village\, TX\, 75077\, United States
CATEGORIES:HOA BOD Administration
END:VEVENT
BEGIN:VEVENT
DTSTART;TZID=America/Chicago:20230814T050000
DTEND;TZID=America/Chicago:20230814T100000
DTSTAMP:20260423T192405
CREATED:20230525T205139Z
LAST-MODIFIED:20230525T205139Z
UID:4352-1691989200-1692007200@castlewoodhoa.com
SUMMARY:NO RESERVATIONS
DESCRIPTION:
URL:https://castlewoodhoa.com/event/no-reservations-46/
LOCATION:Castlewood HOA Clubhouse\, 3420 Fairfield Lane\, Highland Village\, TX\, 75077\, United States
CATEGORIES:HOA BOD Administration
END:VEVENT
BEGIN:VEVENT
DTSTART;VALUE=DATE:20230811
DTEND;VALUE=DATE:20230812
DTSTAMP:20260423T192405
CREATED:20220603T184245Z
LAST-MODIFIED:20220603T184245Z
UID:3190-1691712000-1691798399@castlewoodhoa.com
SUMMARY:NO RESERVATIONS
DESCRIPTION:
URL:https://castlewoodhoa.com/event/no-reservations-20/
LOCATION:Castlewood HOA Clubhouse\, 3420 Fairfield Lane\, Highland Village\, TX\, 75077\, United States
CATEGORIES:HOA BOD Administration
END:VEVENT
BEGIN:VEVENT
DTSTART;TZID=America/Chicago:20230810T170000
DTEND;TZID=America/Chicago:20230810T233000
DTSTAMP:20260423T192405
CREATED:20230525T210923Z
LAST-MODIFIED:20230525T210923Z
UID:4360-1691686800-1691710200@castlewoodhoa.com
SUMMARY:NO RESERVATIONS
DESCRIPTION:
URL:https://castlewoodhoa.com/event/no-reservations-50/
LOCATION:Castlewood HOA Clubhouse\, 3420 Fairfield Lane\, Highland Village\, TX\, 75077\, United States
CATEGORIES:HOA BOD Administration
END:VEVENT
BEGIN:VEVENT
DTSTART;TZID=America/Chicago:20230807T050000
DTEND;TZID=America/Chicago:20230807T100000
DTSTAMP:20260423T192405
CREATED:20230525T205104Z
LAST-MODIFIED:20230525T205104Z
UID:4350-1691384400-1691402400@castlewoodhoa.com
SUMMARY:NO RESERVATIONS
DESCRIPTION:
URL:https://castlewoodhoa.com/event/no-reservations-45/
LOCATION:Castlewood HOA Clubhouse\, 3420 Fairfield Lane\, Highland Village\, TX\, 75077\, United States
CATEGORIES:HOA BOD Administration
END:VEVENT
BEGIN:VEVENT
DTSTART;TZID=America/Chicago:20230803T170000
DTEND;TZID=America/Chicago:20230803T233000
DTSTAMP:20260423T192405
CREATED:20230525T210837Z
LAST-MODIFIED:20230525T210837Z
UID:4358-1691082000-1691105400@castlewoodhoa.com
SUMMARY:NO RESERVATIONS
DESCRIPTION:
URL:https://castlewoodhoa.com/event/no-reservations-49/
LOCATION:Castlewood HOA Clubhouse\, 3420 Fairfield Lane\, Highland Village\, TX\, 75077\, United States
CATEGORIES:HOA BOD Administration
END:VEVENT
BEGIN:VEVENT
DTSTART;TZID=America/Chicago:20230731T050000
DTEND;TZID=America/Chicago:20230731T100000
DTSTAMP:20260423T192405
CREATED:20230525T204650Z
LAST-MODIFIED:20230525T204650Z
UID:4340-1690779600-1690797600@castlewoodhoa.com
SUMMARY:NO RESERVATIONS
DESCRIPTION:
URL:https://castlewoodhoa.com/event/no-reservations-40/
LOCATION:Castlewood HOA Clubhouse\, 3420 Fairfield Lane\, Highland Village\, TX\, 75077\, United States
CATEGORIES:HOA BOD Administration
END:VEVENT
BEGIN:VEVENT
DTSTART;TZID=America/Chicago:20230727T170000
DTEND;TZID=America/Chicago:20230727T233000
DTSTAMP:20260423T192405
CREATED:20230525T204932Z
LAST-MODIFIED:20230525T204932Z
UID:4348-1690477200-1690500600@castlewoodhoa.com
SUMMARY:NO RESERVATIONS
DESCRIPTION:
URL:https://castlewoodhoa.com/event/no-reservations-44/
LOCATION:Castlewood HOA Clubhouse\, 3420 Fairfield Lane\, Highland Village\, TX\, 75077\, United States
CATEGORIES:HOA BOD Administration
END:VEVENT
BEGIN:VEVENT
DTSTART;TZID=America/Chicago:20230726T180000
DTEND;TZID=America/Chicago:20230726T210000
DTSTAMP:20260423T192405
CREATED:20220603T185318Z
LAST-MODIFIED:20230628T181940Z
UID:3218-1690394400-1690405200@castlewoodhoa.com
SUMMARY:BOD Meeting
DESCRIPTION:
URL:https://castlewoodhoa.com/event/bod-meeting-7/
LOCATION:Castlewood HOA Clubhouse\, 3420 Fairfield Lane\, Highland Village\, TX\, 75077\, United States
CATEGORIES:HOA BOD Administration
END:VEVENT
BEGIN:VEVENT
DTSTART;TZID=America/Chicago:20230724T050000
DTEND;TZID=America/Chicago:20230724T100000
DTSTAMP:20260423T192405
CREATED:20230525T204519Z
LAST-MODIFIED:20230525T204519Z
UID:4338-1690174800-1690192800@castlewoodhoa.com
SUMMARY:NO RESERVATIONS
DESCRIPTION:
URL:https://castlewoodhoa.com/event/no-reservations-39/
LOCATION:Castlewood HOA Clubhouse\, 3420 Fairfield Lane\, Highland Village\, TX\, 75077\, United States
CATEGORIES:HOA BOD Administration
END:VEVENT
BEGIN:VEVENT
DTSTART;TZID=America/Chicago:20230720T170000
DTEND;TZID=America/Chicago:20230720T233000
DTSTAMP:20260423T192405
CREATED:20230525T204902Z
LAST-MODIFIED:20230525T204902Z
UID:4346-1689872400-1689895800@castlewoodhoa.com
SUMMARY:NO RESERVATIONS
DESCRIPTION:
URL:https://castlewoodhoa.com/event/no-reservations-43/
LOCATION:Castlewood HOA Clubhouse\, 3420 Fairfield Lane\, Highland Village\, TX\, 75077\, United States
CATEGORIES:HOA BOD Administration
END:VEVENT
BEGIN:VEVENT
DTSTART;TZID=America/Chicago:20230713T170000
DTEND;TZID=America/Chicago:20230713T233000
DTSTAMP:20260423T192405
CREATED:20230525T204822Z
LAST-MODIFIED:20230525T204822Z
UID:4344-1689267600-1689291000@castlewoodhoa.com
SUMMARY:NO RESERVATIONS
DESCRIPTION:
URL:https://castlewoodhoa.com/event/no-reservations-42/
LOCATION:Castlewood HOA Clubhouse\, 3420 Fairfield Lane\, Highland Village\, TX\, 75077\, United States
CATEGORIES:HOA BOD Administration
END:VEVENT
BEGIN:VEVENT
DTSTART;TZID=America/Chicago:20230710T050000
DTEND;TZID=America/Chicago:20230710T100000
DTSTAMP:20260423T192405
CREATED:20230525T204317Z
LAST-MODIFIED:20230525T204317Z
UID:4334-1688965200-1688983200@castlewoodhoa.com
SUMMARY:NO RESERVATIONS
DESCRIPTION:
URL:https://castlewoodhoa.com/event/no-reservations-37/
LOCATION:Castlewood HOA Clubhouse\, 3420 Fairfield Lane\, Highland Village\, TX\, 75077\, United States
CATEGORIES:HOA BOD Administration
END:VEVENT
BEGIN:VEVENT
DTSTART;TZID=America/Chicago:20230706T170000
DTEND;TZID=America/Chicago:20230706T233000
DTSTAMP:20260423T192405
CREATED:20230525T204750Z
LAST-MODIFIED:20230525T204750Z
UID:4342-1688662800-1688686200@castlewoodhoa.com
SUMMARY:NO RESERVATIONS
DESCRIPTION:
URL:https://castlewoodhoa.com/event/no-reservations-41/
LOCATION:Castlewood HOA Clubhouse\, 3420 Fairfield Lane\, Highland Village\, TX\, 75077\, United States
CATEGORIES:HOA BOD Administration
END:VEVENT
BEGIN:VEVENT
DTSTART;TZID=America/Chicago:20230703T050000
DTEND;TZID=America/Chicago:20230703T100000
DTSTAMP:20260423T192405
CREATED:20230525T204245Z
LAST-MODIFIED:20230525T204245Z
UID:4332-1688360400-1688378400@castlewoodhoa.com
SUMMARY:NO RESERVATIONS
DESCRIPTION:
URL:https://castlewoodhoa.com/event/no-reservations-36/
LOCATION:Castlewood HOA Clubhouse\, 3420 Fairfield Lane\, Highland Village\, TX\, 75077\, United States
CATEGORIES:HOA BOD Administration
END:VEVENT
BEGIN:VEVENT
DTSTART;VALUE=DATE:20230703
DTEND;VALUE=DATE:20230706
DTSTAMP:20260423T192405
CREATED:20230621T213120Z
LAST-MODIFIED:20230621T213120Z
UID:4487-1688342400-1688601599@castlewoodhoa.com
SUMMARY:Office Closed
DESCRIPTION:
URL:https://castlewoodhoa.com/event/office-closed-24/
CATEGORIES:HOA BOD Administration
END:VEVENT
BEGIN:VEVENT
DTSTART;TZID=America/Chicago:20230629T170000
DTEND;TZID=America/Chicago:20230629T233000
DTSTAMP:20260423T192405
CREATED:20230525T203630Z
LAST-MODIFIED:20230525T203630Z
UID:4330-1688058000-1688081400@castlewoodhoa.com
SUMMARY:NO RESERVATIONS
DESCRIPTION:
URL:https://castlewoodhoa.com/event/no-reservations-35/
LOCATION:Castlewood HOA Clubhouse\, 3420 Fairfield Lane\, Highland Village\, TX\, 75077\, United States
CATEGORIES:HOA BOD Administration
END:VEVENT
BEGIN:VEVENT
DTSTART;TZID=America/Chicago:20230626T050000
DTEND;TZID=America/Chicago:20230626T100000
DTSTAMP:20260423T192405
CREATED:20230525T203450Z
LAST-MODIFIED:20230525T203450Z
UID:4326-1687755600-1687773600@castlewoodhoa.com
SUMMARY:NO RESERVATIONS
DESCRIPTION:← Back Thank you for your response. ✨\n\n\n					\n						\n						\n						\n						\n						\n							\n								\n									\n										\n										\n									\n									\n										\n										\n									\n								\n							\n						\n						\n							\n								\n									\n									\n										\n									\n									\n									\n								\n							\n						\n					\n				\n\n\n\nName(required)\n\n \n			\n				\n					\n						\n						\n						\n					\n				\n				\n			 \n	\n\n\nEmail(required)\n\n \n			\n				\n					\n						\n						\n						\n					\n				\n				\n			 \n	\n\n\nWebsite\n\n \n			\n				\n					\n						\n						\n						\n					\n				\n				\n			 \n	\n\n\nMessage\n\n \n			\n				\n					\n						\n						\n						\n					\n				\n				\n			\n	\n	\n\n				\n					\n				\n						Submit		\n		\n		\n	 \nΔ
URL:https://castlewoodhoa.com/event/no-reservations-33/
LOCATION:Castlewood HOA Clubhouse\, 3420 Fairfield Lane\, Highland Village\, TX\, 75077\, United States
CATEGORIES:HOA BOD Administration
END:VEVENT
BEGIN:VEVENT
DTSTART;TZID=America/Chicago:20230622T170000
DTEND;TZID=America/Chicago:20230622T233000
DTSTAMP:20260423T192405
CREATED:20230525T203357Z
LAST-MODIFIED:20230525T203357Z
UID:4324-1687453200-1687476600@castlewoodhoa.com
SUMMARY:NO RESERVATIONS
DESCRIPTION:
URL:https://castlewoodhoa.com/event/no-reservations-32/
LOCATION:Castlewood HOA Clubhouse\, 3420 Fairfield Lane\, Highland Village\, TX\, 75077\, United States
CATEGORIES:HOA BOD Administration
END:VEVENT
BEGIN:VEVENT
DTSTART;TZID=America/Chicago:20230621T180000
DTEND;TZID=America/Chicago:20230621T210000
DTSTAMP:20260423T192405
CREATED:20220603T185137Z
LAST-MODIFIED:20221208T165624Z
UID:3216-1687370400-1687381200@castlewoodhoa.com
SUMMARY:BOD Meeting
DESCRIPTION:
URL:https://castlewoodhoa.com/event/bod-meeting-6/
LOCATION:Castlewood HOA Clubhouse\, 3420 Fairfield Lane\, Highland Village\, TX\, 75077\, United States
CATEGORIES:HOA BOD Administration
END:VEVENT
BEGIN:VEVENT
DTSTART;TZID=America/Chicago:20230619T050000
DTEND;TZID=America/Chicago:20230619T220000
DTSTAMP:20260423T192405
CREATED:20230525T203311Z
LAST-MODIFIED:20230525T203311Z
UID:4322-1687150800-1687212000@castlewoodhoa.com
SUMMARY:NO RESERVATIONS
DESCRIPTION:
URL:https://castlewoodhoa.com/event/no-reservations-31/
LOCATION:Castlewood HOA Clubhouse\, 3420 Fairfield Lane\, Highland Village\, TX\, 75077\, United States
CATEGORIES:HOA BOD Administration
END:VEVENT
BEGIN:VEVENT
DTSTART;TZID=America/Chicago:20230615T170000
DTEND;TZID=America/Chicago:20230615T233000
DTSTAMP:20260423T192405
CREATED:20230525T203235Z
LAST-MODIFIED:20230525T203235Z
UID:4320-1686848400-1686871800@castlewoodhoa.com
SUMMARY:NO RESERVATIONS
DESCRIPTION:
URL:https://castlewoodhoa.com/event/no-reservations-30/
LOCATION:Castlewood HOA Clubhouse\, 3420 Fairfield Lane\, Highland Village\, TX\, 75077\, United States
CATEGORIES:HOA BOD Administration
END:VEVENT
BEGIN:VEVENT
DTSTART;TZID=America/Chicago:20230612T050000
DTEND;TZID=America/Chicago:20230612T100000
DTSTAMP:20260423T192405
CREATED:20230525T180303Z
LAST-MODIFIED:20230525T180351Z
UID:4304-1686546000-1686564000@castlewoodhoa.com
SUMMARY:NO RESERVATIONS
DESCRIPTION:
URL:https://castlewoodhoa.com/event/no-reservations-28/
LOCATION:Castlewood HOA Clubhouse\, 3420 Fairfield Lane\, Highland Village\, TX\, 75077\, United States
CATEGORIES:HOA BOD Administration
END:VEVENT
BEGIN:VEVENT
DTSTART;TZID=America/Chicago:20230608T170000
DTEND;TZID=America/Chicago:20230608T233000
DTSTAMP:20260423T192405
CREATED:20230525T180454Z
LAST-MODIFIED:20230525T180454Z
UID:4306-1686243600-1686267000@castlewoodhoa.com
SUMMARY:NO RESERVATIONS
DESCRIPTION:
URL:https://castlewoodhoa.com/event/no-reservations-29/
LOCATION:Castlewood HOA Clubhouse\, 3420 Fairfield Lane\, Highland Village\, TX\, 75077\, United States
CATEGORIES:HOA BOD Administration
END:VEVENT
BEGIN:VEVENT
DTSTART;TZID=America/Chicago:20230605T050000
DTEND;TZID=America/Chicago:20230605T100000
DTSTAMP:20260423T192405
CREATED:20230525T180106Z
LAST-MODIFIED:20230525T180106Z
UID:4302-1685941200-1685959200@castlewoodhoa.com
SUMMARY:NO RESERVATIONS
DESCRIPTION:
URL:https://castlewoodhoa.com/event/no-reservations-27/
LOCATION:Castlewood HOA Clubhouse\, 3420 Fairfield Lane\, Highland Village\, TX\, 75077\, United States
CATEGORIES:HOA BOD Administration
END:VEVENT
END:VCALENDAR