BEGIN:VCALENDAR
VERSION:2.0
PRODID:-//Castlewood Homeowners Association - ECPv6.15.17//NONSGML v1.0//EN
CALSCALE:GREGORIAN
METHOD:PUBLISH
X-ORIGINAL-URL:https://castlewoodhoa.com
X-WR-CALDESC:Events for Castlewood Homeowners Association
REFRESH-INTERVAL;VALUE=DURATION:PT1H
X-Robots-Tag:noindex
X-PUBLISHED-TTL:PT1H
BEGIN:VTIMEZONE
TZID:America/Chicago
BEGIN:DAYLIGHT
TZOFFSETFROM:-0600
TZOFFSETTO:-0500
TZNAME:CDT
DTSTART:20230312T080000
END:DAYLIGHT
BEGIN:STANDARD
TZOFFSETFROM:-0500
TZOFFSETTO:-0600
TZNAME:CST
DTSTART:20231105T070000
END:STANDARD
BEGIN:DAYLIGHT
TZOFFSETFROM:-0600
TZOFFSETTO:-0500
TZNAME:CDT
DTSTART:20240310T080000
END:DAYLIGHT
BEGIN:STANDARD
TZOFFSETFROM:-0500
TZOFFSETTO:-0600
TZNAME:CST
DTSTART:20241103T070000
END:STANDARD
BEGIN:DAYLIGHT
TZOFFSETFROM:-0600
TZOFFSETTO:-0500
TZNAME:CDT
DTSTART:20250309T080000
END:DAYLIGHT
BEGIN:STANDARD
TZOFFSETFROM:-0500
TZOFFSETTO:-0600
TZNAME:CST
DTSTART:20251102T070000
END:STANDARD
END:VTIMEZONE
BEGIN:VEVENT
DTSTART;TZID=America/Chicago:20240504T080000
DTEND;TZID=America/Chicago:20240504T100000
DTSTAMP:20260424T230150
CREATED:20240116T215000Z
LAST-MODIFIED:20240116T215000Z
UID:4877-1714809600-1714816800@castlewoodhoa.com
SUMMARY:Swim Team AM Practice
DESCRIPTION:
URL:https://castlewoodhoa.com/event/swim-team-am-practice/
CATEGORIES:Pavilion Reservation
END:VEVENT
BEGIN:VEVENT
DTSTART;TZID=America/Chicago:20240511T080000
DTEND;TZID=America/Chicago:20240511T100000
DTSTAMP:20260424T230150
CREATED:20240116T215039Z
LAST-MODIFIED:20240116T215039Z
UID:4879-1715414400-1715421600@castlewoodhoa.com
SUMMARY:Swim Team AM Practice
DESCRIPTION:
URL:https://castlewoodhoa.com/event/swim-team-am-practice-2/
CATEGORIES:Pavilion Reservation
END:VEVENT
BEGIN:VEVENT
DTSTART;TZID=America/Chicago:20240518T080000
DTEND;TZID=America/Chicago:20240518T100000
DTSTAMP:20260424T230150
CREATED:20240116T215106Z
LAST-MODIFIED:20240116T215106Z
UID:4881-1716019200-1716026400@castlewoodhoa.com
SUMMARY:Swim Team AM Practice
DESCRIPTION:
URL:https://castlewoodhoa.com/event/swim-team-am-practice-3/
CATEGORIES:Pavilion Reservation
END:VEVENT
BEGIN:VEVENT
DTSTART;TZID=America/Chicago:20240518T120000
DTEND;TZID=America/Chicago:20240518T223000
DTSTAMP:20260424T230150
CREATED:20240301T145755Z
LAST-MODIFIED:20240509T211935Z
UID:5034-1716033600-1716071400@castlewoodhoa.com
SUMMARY:Pavilion Reserved
DESCRIPTION:
URL:https://castlewoodhoa.com/event/clubhouse-reserved-526/
LOCATION:Pavilion\, 3420 Fairfield Lane\, Highland Village\, TX\, 75077\, United States
CATEGORIES:Clubhouse Reservation,Pavilion Reservation
END:VEVENT
BEGIN:VEVENT
DTSTART;TZID=America/Chicago:20240520T130000
DTEND;TZID=America/Chicago:20240520T170000
DTSTAMP:20260424T230150
CREATED:20240520T183619Z
LAST-MODIFIED:20240520T184044Z
UID:5125-1716210000-1716224400@castlewoodhoa.com
SUMMARY:Pavilion Reserved
DESCRIPTION:
URL:https://castlewoodhoa.com/event/pavilion-reserved-38/
LOCATION:Pavilion\, 3420 Fairfield Lane\, Highland Village\, TX\, 75077\, United States
CATEGORIES:Pavilion Reservation
END:VEVENT
BEGIN:VEVENT
DTSTART;TZID=America/Chicago:20240521T170000
DTEND;TZID=America/Chicago:20240521T190000
DTSTAMP:20260424T230150
CREATED:20240116T214918Z
LAST-MODIFIED:20240116T214918Z
UID:4875-1716310800-1716318000@castlewoodhoa.com
SUMMARY:Swim Team Evening Practice
DESCRIPTION:
URL:https://castlewoodhoa.com/event/swim-team-evening-practice/
CATEGORIES:Pavilion Reservation
END:VEVENT
BEGIN:VEVENT
DTSTART;TZID=America/Chicago:20240523T080000
DTEND;TZID=America/Chicago:20240523T180000
DTSTAMP:20260424T230150
CREATED:20240205T191517Z
LAST-MODIFIED:20240205T191517Z
UID:4985-1716451200-1716487200@castlewoodhoa.com
SUMMARY:Clubhouse & Pavilion Reserved
DESCRIPTION:
URL:https://castlewoodhoa.com/event/clubhouse-pavilion-reserved/
LOCATION:Pavilion\, 3420 Fairfield Lane\, Highland Village\, TX\, 75077\, United States
CATEGORIES:Clubhouse Reservation,Pavilion Reservation
END:VEVENT
END:VCALENDAR