BEGIN:VCALENDAR
VERSION:2.0
PRODID:-//Castlewood Homeowners Association - ECPv6.15.17//NONSGML v1.0//EN
CALSCALE:GREGORIAN
METHOD:PUBLISH
X-WR-CALNAME:Castlewood Homeowners Association
X-ORIGINAL-URL:https://castlewoodhoa.com
X-WR-CALDESC:Events for Castlewood Homeowners Association
REFRESH-INTERVAL;VALUE=DURATION:PT1H
X-Robots-Tag:noindex
X-PUBLISHED-TTL:PT1H
BEGIN:VTIMEZONE
TZID:America/Chicago
BEGIN:DAYLIGHT
TZOFFSETFROM:-0600
TZOFFSETTO:-0500
TZNAME:CDT
DTSTART:20240310T080000
END:DAYLIGHT
BEGIN:STANDARD
TZOFFSETFROM:-0500
TZOFFSETTO:-0600
TZNAME:CST
DTSTART:20241103T070000
END:STANDARD
BEGIN:DAYLIGHT
TZOFFSETFROM:-0600
TZOFFSETTO:-0500
TZNAME:CDT
DTSTART:20250309T080000
END:DAYLIGHT
BEGIN:STANDARD
TZOFFSETFROM:-0500
TZOFFSETTO:-0600
TZNAME:CST
DTSTART:20251102T070000
END:STANDARD
BEGIN:DAYLIGHT
TZOFFSETFROM:-0600
TZOFFSETTO:-0500
TZNAME:CDT
DTSTART:20260308T080000
END:DAYLIGHT
BEGIN:STANDARD
TZOFFSETFROM:-0500
TZOFFSETTO:-0600
TZNAME:CST
DTSTART:20261101T070000
END:STANDARD
END:VTIMEZONE
BEGIN:VEVENT
DTSTART;TZID=America/Chicago:20250606T150000
DTEND;TZID=America/Chicago:20250606T210000
DTSTAMP:20260424T041249
CREATED:20250519T172641Z
LAST-MODIFIED:20250519T172641Z
UID:6109-1749222000-1749243600@castlewoodhoa.com
SUMMARY:Pavilion Reserved
DESCRIPTION:
URL:https://castlewoodhoa.com/event/pavilion-reserved-48/
LOCATION:Pavilion\, 3420 Fairfield Lane\, Highland Village\, TX\, 75077\, United States
CATEGORIES:Pavilion Reservation
END:VEVENT
BEGIN:VEVENT
DTSTART;VALUE=DATE:20250612
DTEND;VALUE=DATE:20250613
DTSTAMP:20260424T041249
CREATED:20250214T160653Z
LAST-MODIFIED:20250214T161416Z
UID:5945-1749686400-1749772799@castlewoodhoa.com
SUMMARY:Swim Team- Pavillion Reserved
DESCRIPTION:
URL:https://castlewoodhoa.com/event/swim-team-3/
LOCATION:Pavilion\, 3420 Fairfield Lane\, Highland Village\, TX\, 75077\, United States
CATEGORIES:Pavilion Reservation
END:VEVENT
BEGIN:VEVENT
DTSTART;VALUE=DATE:20250629
DTEND;VALUE=DATE:20250630
DTSTAMP:20260424T041249
CREATED:20250214T163909Z
LAST-MODIFIED:20250214T163909Z
UID:5960-1751155200-1751241599@castlewoodhoa.com
SUMMARY:Pavillion Reserved
DESCRIPTION:
URL:https://castlewoodhoa.com/event/pavillion-reserved/
LOCATION:Pavilion\, 3420 Fairfield Lane\, Highland Village\, TX\, 75077\, United States
CATEGORIES:Pavilion Reservation
END:VEVENT
END:VCALENDAR