BEGIN:VCALENDAR
VERSION:2.0
PRODID:-//Castlewood Homeowners Association - ECPv6.15.17//NONSGML v1.0//EN
CALSCALE:GREGORIAN
METHOD:PUBLISH
X-WR-CALNAME:Castlewood Homeowners Association
X-ORIGINAL-URL:https://castlewoodhoa.com
X-WR-CALDESC:Events for Castlewood Homeowners Association
REFRESH-INTERVAL;VALUE=DURATION:PT1H
X-Robots-Tag:noindex
X-PUBLISHED-TTL:PT1H
BEGIN:VTIMEZONE
TZID:America/Chicago
BEGIN:DAYLIGHT
TZOFFSETFROM:-0600
TZOFFSETTO:-0500
TZNAME:CDT
DTSTART:20240310T080000
END:DAYLIGHT
BEGIN:STANDARD
TZOFFSETFROM:-0500
TZOFFSETTO:-0600
TZNAME:CST
DTSTART:20241103T070000
END:STANDARD
BEGIN:DAYLIGHT
TZOFFSETFROM:-0600
TZOFFSETTO:-0500
TZNAME:CDT
DTSTART:20250309T080000
END:DAYLIGHT
BEGIN:STANDARD
TZOFFSETFROM:-0500
TZOFFSETTO:-0600
TZNAME:CST
DTSTART:20251102T070000
END:STANDARD
BEGIN:DAYLIGHT
TZOFFSETFROM:-0600
TZOFFSETTO:-0500
TZNAME:CDT
DTSTART:20260308T080000
END:DAYLIGHT
BEGIN:STANDARD
TZOFFSETFROM:-0500
TZOFFSETTO:-0600
TZNAME:CST
DTSTART:20261101T070000
END:STANDARD
END:VTIMEZONE
BEGIN:VEVENT
DTSTART;TZID=America/Chicago:20250731T160000
DTEND;TZID=America/Chicago:20250731T233000
DTSTAMP:20260424T065728
CREATED:20241016T201109Z
LAST-MODIFIED:20241016T201109Z
UID:5624-1753977600-1754004600@castlewoodhoa.com
SUMMARY:NO RESERVATIONS
DESCRIPTION:
URL:https://castlewoodhoa.com/event/no-reservations-249/
LOCATION:Castlewood HOA Clubhouse\, 3420 Fairfield Lane\, Highland Village\, TX\, 75077\, United States
CATEGORIES:HOA BOD Administration
END:VEVENT
BEGIN:VEVENT
DTSTART;TZID=America/Chicago:20250728T050000
DTEND;TZID=America/Chicago:20250728T100000
DTSTAMP:20260424T065728
CREATED:20241016T200636Z
LAST-MODIFIED:20241016T200636Z
UID:5616-1753678800-1753696800@castlewoodhoa.com
SUMMARY:NO RESERVATIONS
DESCRIPTION:
URL:https://castlewoodhoa.com/event/no-reservations-245/
LOCATION:Castlewood HOA Clubhouse\, 3420 Fairfield Lane\, Highland Village\, TX\, 75077\, United States
CATEGORIES:HOA BOD Administration
END:VEVENT
BEGIN:VEVENT
DTSTART;TZID=America/Chicago:20250724T160000
DTEND;TZID=America/Chicago:20250724T233000
DTSTAMP:20260424T065728
CREATED:20241016T200951Z
LAST-MODIFIED:20241016T200951Z
UID:5622-1753372800-1753399800@castlewoodhoa.com
SUMMARY:NO RESERVATIONS
DESCRIPTION:
URL:https://castlewoodhoa.com/event/no-reservations-248/
LOCATION:Castlewood HOA Clubhouse\, 3420 Fairfield Lane\, Highland Village\, TX\, 75077\, United States
CATEGORIES:HOA BOD Administration
END:VEVENT
BEGIN:VEVENT
DTSTART;TZID=America/Chicago:20250721T050000
DTEND;TZID=America/Chicago:20250721T100000
DTSTAMP:20260424T065728
CREATED:20241016T200539Z
LAST-MODIFIED:20241016T200539Z
UID:5614-1753074000-1753092000@castlewoodhoa.com
SUMMARY:NO RESERVATIONS
DESCRIPTION:
URL:https://castlewoodhoa.com/event/no-reservations-244/
LOCATION:Castlewood HOA Clubhouse\, 3420 Fairfield Lane\, Highland Village\, TX\, 75077\, United States
CATEGORIES:HOA BOD Administration
END:VEVENT
BEGIN:VEVENT
DTSTART;VALUE=DATE:20250720
DTEND;VALUE=DATE:20250721
DTSTAMP:20260424T065728
CREATED:20250616T132521Z
LAST-MODIFIED:20250616T132521Z
UID:6148-1752969600-1753055999@castlewoodhoa.com
SUMMARY:Clubhouse Reserved
DESCRIPTION:
URL:https://castlewoodhoa.com/event/clubhouse-reserved-644/
LOCATION:Castlewood HOA Clubhouse\, 3420 Fairfield Lane\, Highland Village\, TX\, 75077\, United States
CATEGORIES:Clubhouse Reservation
END:VEVENT
BEGIN:VEVENT
DTSTART;VALUE=DATE:20250719
DTEND;VALUE=DATE:20250720
DTSTAMP:20260424T065728
CREATED:20250417T190942Z
LAST-MODIFIED:20250417T190942Z
UID:6066-1752883200-1752969599@castlewoodhoa.com
SUMMARY:Clubhouse Reserved
DESCRIPTION:
URL:https://castlewoodhoa.com/event/clubhouse-reserved-632-2/
LOCATION:Castlewood HOA Clubhouse\, 3420 Fairfield Lane\, Highland Village\, TX\, 75077\, United States
CATEGORIES:Clubhouse Reservation
END:VEVENT
BEGIN:VEVENT
DTSTART;TZID=America/Chicago:20250717T080000
DTEND;TZID=America/Chicago:20250717T170000
DTSTAMP:20260424T065728
CREATED:20241016T200843Z
LAST-MODIFIED:20241016T200843Z
UID:5620-1752739200-1752771600@castlewoodhoa.com
SUMMARY:NO RESERVATIONS
DESCRIPTION:
URL:https://castlewoodhoa.com/event/no-reservations-247/
LOCATION:Castlewood HOA Clubhouse\, 3420 Fairfield Lane\, Highland Village\, TX\, 75077\, United States
CATEGORIES:HOA BOD Administration
END:VEVENT
BEGIN:VEVENT
DTSTART;TZID=America/Chicago:20250715T180000
DTEND;TZID=America/Chicago:20250715T210000
DTSTAMP:20260424T065728
CREATED:20241016T162921Z
LAST-MODIFIED:20241016T162921Z
UID:5490-1752602400-1752613200@castlewoodhoa.com
SUMMARY:BOD Meeting
DESCRIPTION:
URL:https://castlewoodhoa.com/event/bod-meeting-25/
LOCATION:Castlewood HOA Clubhouse\, 3420 Fairfield Lane\, Highland Village\, TX\, 75077\, United States
CATEGORIES:HOA BOD Administration
END:VEVENT
BEGIN:VEVENT
DTSTART;VALUE=DATE:20250715
DTEND;VALUE=DATE:20250716
DTSTAMP:20260424T065728
CREATED:20250203T193336Z
LAST-MODIFIED:20250203T193336Z
UID:5902-1752537600-1752623999@castlewoodhoa.com
SUMMARY:NO RESERVATIONS
DESCRIPTION:
URL:https://castlewoodhoa.com/event/no-reservations-302/
LOCATION:Castlewood HOA Clubhouse\, 3420 Fairfield Lane\, Highland Village\, TX\, 75077\, United States
CATEGORIES:HOA BOD Administration
END:VEVENT
BEGIN:VEVENT
DTSTART;TZID=America/Chicago:20250714T050000
DTEND;TZID=America/Chicago:20250714T100000
DTSTAMP:20260424T065728
CREATED:20241016T200407Z
LAST-MODIFIED:20241016T200407Z
UID:5612-1752469200-1752487200@castlewoodhoa.com
SUMMARY:NO RESERVATIONS
DESCRIPTION:
URL:https://castlewoodhoa.com/event/no-reservations-243/
LOCATION:Castlewood HOA Clubhouse\, 3420 Fairfield Lane\, Highland Village\, TX\, 75077\, United States
CATEGORIES:HOA BOD Administration
END:VEVENT
BEGIN:VEVENT
DTSTART;VALUE=DATE:20250713
DTEND;VALUE=DATE:20250714
DTSTAMP:20260424T065728
CREATED:20250604T173200Z
LAST-MODIFIED:20250604T173436Z
UID:6140-1752364800-1752451199@castlewoodhoa.com
SUMMARY:Pavilion Reserved
DESCRIPTION:
URL:https://castlewoodhoa.com/event/pavilion-reserved-49/
LOCATION:Pavilion\, 3420 Fairfield Lane\, Highland Village\, TX\, 75077\, United States
CATEGORIES:Pavilion Reservation
END:VEVENT
BEGIN:VEVENT
DTSTART;VALUE=DATE:20250713
DTEND;VALUE=DATE:20250714
DTSTAMP:20260424T065728
CREATED:20250604T172059Z
LAST-MODIFIED:20250604T172059Z
UID:6138-1752364800-1752451199@castlewoodhoa.com
SUMMARY:Clubhouse Reserved
DESCRIPTION:
URL:https://castlewoodhoa.com/event/clubhouse-reserved-642/
LOCATION:Castlewood HOA Clubhouse\, 3420 Fairfield Lane\, Highland Village\, TX\, 75077\, United States
CATEGORIES:Clubhouse Reservation
END:VEVENT
BEGIN:VEVENT
DTSTART;TZID=America/Chicago:20250711T160000
DTEND;TZID=America/Chicago:20250711T200000
DTSTAMP:20260424T065728
CREATED:20250626T151312Z
LAST-MODIFIED:20250626T151312Z
UID:6168-1752249600-1752264000@castlewoodhoa.com
SUMMARY:Pavilion Reserved
DESCRIPTION:
URL:https://castlewoodhoa.com/event/pavilion-reserved-50/
LOCATION:Pavilion\, 3420 Fairfield Lane\, Highland Village\, TX\, 75077\, United States
CATEGORIES:Pavilion Reservation
END:VEVENT
BEGIN:VEVENT
DTSTART;TZID=America/Chicago:20250710T160000
DTEND;TZID=America/Chicago:20250710T233000
DTSTAMP:20260424T065728
CREATED:20241016T200751Z
LAST-MODIFIED:20241016T200751Z
UID:5618-1752163200-1752190200@castlewoodhoa.com
SUMMARY:NO RESERVATIONS
DESCRIPTION:
URL:https://castlewoodhoa.com/event/no-reservations-246/
LOCATION:Castlewood HOA Clubhouse\, 3420 Fairfield Lane\, Highland Village\, TX\, 75077\, United States
CATEGORIES:HOA BOD Administration
END:VEVENT
BEGIN:VEVENT
DTSTART;TZID=America/Chicago:20250707T050000
DTEND;TZID=America/Chicago:20250707T100000
DTSTAMP:20260424T065728
CREATED:20241016T200300Z
LAST-MODIFIED:20241016T200300Z
UID:5610-1751864400-1751882400@castlewoodhoa.com
SUMMARY:NO RESERVATIONS
DESCRIPTION:
URL:https://castlewoodhoa.com/event/no-reservations-242/
LOCATION:Castlewood HOA Clubhouse\, 3420 Fairfield Lane\, Highland Village\, TX\, 75077\, United States
CATEGORIES:HOA BOD Administration
END:VEVENT
BEGIN:VEVENT
DTSTART;VALUE=DATE:20250706
DTEND;VALUE=DATE:20250707
DTSTAMP:20260424T065728
CREATED:20250513T153423Z
LAST-MODIFIED:20250514T143431Z
UID:6100-1751760000-1751846399@castlewoodhoa.com
SUMMARY:Clubhouse Reserved
DESCRIPTION:
URL:https://castlewoodhoa.com/event/clubhouse-reservations/
LOCATION:Castlewood HOA Clubhouse\, 3420 Fairfield Lane\, Highland Village\, TX\, 75077\, United States
CATEGORIES:Clubhouse Reservation
END:VEVENT
BEGIN:VEVENT
DTSTART;VALUE=DATE:20250704
DTEND;VALUE=DATE:20250705
DTSTAMP:20260424T065728
CREATED:20250203T184225Z
LAST-MODIFIED:20250203T184225Z
UID:5880-1751587200-1751673599@castlewoodhoa.com
SUMMARY:NO RESERVATIONS
DESCRIPTION:
URL:https://castlewoodhoa.com/event/no-reservations-291/
LOCATION:Castlewood HOA Clubhouse\, 3420 Fairfield Lane\, Highland Village\, TX\, 75077\, United States
CATEGORIES:Community Event
END:VEVENT
BEGIN:VEVENT
DTSTART;VALUE=DATE:20250704
DTEND;VALUE=DATE:20250705
DTSTAMP:20260424T065728
CREATED:20241028T174352Z
LAST-MODIFIED:20241028T174352Z
UID:5739-1751587200-1751673599@castlewoodhoa.com
SUMMARY:Fourth of July Parade
DESCRIPTION:
URL:https://castlewoodhoa.com/event/fourth-of-july-parade-3/
CATEGORIES:Community Event
END:VEVENT
BEGIN:VEVENT
DTSTART;VALUE=DATE:20250703
DTEND;VALUE=DATE:20250704
DTSTAMP:20260424T065728
CREATED:20241016T200125Z
LAST-MODIFIED:20250203T184144Z
UID:5608-1751500800-1751587199@castlewoodhoa.com
SUMMARY:NO RESERVATIONS
DESCRIPTION:
URL:https://castlewoodhoa.com/event/no-reservations-241/
LOCATION:Castlewood HOA Clubhouse\, 3420 Fairfield Lane\, Highland Village\, TX\, 75077\, United States
CATEGORIES:HOA BOD Administration
END:VEVENT
BEGIN:VEVENT
DTSTART;VALUE=DATE:20250701
DTEND;VALUE=DATE:20250702
DTSTAMP:20260424T065728
CREATED:20250115T175716Z
LAST-MODIFIED:20250115T175716Z
UID:5844-1751328000-1751414399@castlewoodhoa.com
SUMMARY:Clubhouse Reserved
DESCRIPTION:
URL:https://castlewoodhoa.com/event/clubhouse-reserved-610/
LOCATION:Castlewood HOA Clubhouse\, 3420 Fairfield Lane\, Highland Village\, TX\, 75077\, United States
CATEGORIES:Clubhouse Reservation
END:VEVENT
BEGIN:VEVENT
DTSTART;TZID=America/Chicago:20250630T050000
DTEND;TZID=America/Chicago:20250630T100000
DTSTAMP:20260424T065728
CREATED:20241016T194816Z
LAST-MODIFIED:20241016T194816Z
UID:5598-1751259600-1751277600@castlewoodhoa.com
SUMMARY:NO RESERVATIONS
DESCRIPTION:
URL:https://castlewoodhoa.com/event/no-reservations-236/
LOCATION:Castlewood HOA Clubhouse\, 3420 Fairfield Lane\, Highland Village\, TX\, 75077\, United States
CATEGORIES:HOA BOD Administration
END:VEVENT
BEGIN:VEVENT
DTSTART;VALUE=DATE:20250630
DTEND;VALUE=DATE:20250701
DTSTAMP:20260424T065728
CREATED:20250424T143143Z
LAST-MODIFIED:20250424T143143Z
UID:6078-1751241600-1751327999@castlewoodhoa.com
SUMMARY:Clubhouse Reserved
DESCRIPTION:
URL:https://castlewoodhoa.com/event/clubhouse-reserved-633/
LOCATION:Castlewood HOA Clubhouse\, 3420 Fairfield Lane\, Highland Village\, TX\, 75077\, United States
CATEGORIES:Clubhouse Reservation
END:VEVENT
BEGIN:VEVENT
DTSTART;TZID=America/Chicago:20250629T140000
DTEND;TZID=America/Chicago:20250629T220000
DTSTAMP:20260424T065728
CREATED:20250214T161937Z
LAST-MODIFIED:20250214T163338Z
UID:5949-1751205600-1751234400@castlewoodhoa.com
SUMMARY:Swim Team/End of Season Party
DESCRIPTION:
URL:https://castlewoodhoa.com/event/swim-team-end-of-season-party-2/
LOCATION:Castlewood HOA Clubhouse\, 3420 Fairfield Lane\, Highland Village\, TX\, 75077\, United States
CATEGORIES:Clubhouse Reservation
END:VEVENT
BEGIN:VEVENT
DTSTART;VALUE=DATE:20250629
DTEND;VALUE=DATE:20250630
DTSTAMP:20260424T065728
CREATED:20250214T163909Z
LAST-MODIFIED:20250214T163909Z
UID:5960-1751155200-1751241599@castlewoodhoa.com
SUMMARY:Pavillion Reserved
DESCRIPTION:
URL:https://castlewoodhoa.com/event/pavillion-reserved/
LOCATION:Pavilion\, 3420 Fairfield Lane\, Highland Village\, TX\, 75077\, United States
CATEGORIES:Pavilion Reservation
END:VEVENT
BEGIN:VEVENT
DTSTART;VALUE=DATE:20250629
DTEND;VALUE=DATE:20250630
DTSTAMP:20260424T065728
CREATED:20250214T163705Z
LAST-MODIFIED:20250214T163746Z
UID:5958-1751155200-1751241599@castlewoodhoa.com
SUMMARY:Clubhouse Reserved
DESCRIPTION:
URL:https://castlewoodhoa.com/event/clubhouse-reserved-615/
LOCATION:Castlewood HOA Clubhouse\, 3420 Fairfield Lane\, Highland Village\, TX\, 75077\, United States
CATEGORIES:Clubhouse Reservation
END:VEVENT
BEGIN:VEVENT
DTSTART;VALUE=DATE:20250628
DTEND;VALUE=DATE:20250629
DTSTAMP:20260424T065728
CREATED:20250423T131725Z
LAST-MODIFIED:20250423T131725Z
UID:6068-1751068800-1751155199@castlewoodhoa.com
SUMMARY:Clubhouse Reserved
DESCRIPTION:
URL:https://castlewoodhoa.com/event/clubhouse-reserved-628/
LOCATION:Castlewood HOA Clubhouse\, 3420 Fairfield Lane\, Highland Village\, TX\, 75077\, United States
CATEGORIES:Clubhouse Reservation
END:VEVENT
BEGIN:VEVENT
DTSTART;TZID=America/Chicago:20250626T160000
DTEND;TZID=America/Chicago:20250626T233000
DTSTAMP:20260424T065728
CREATED:20241016T195530Z
LAST-MODIFIED:20241016T195530Z
UID:5606-1750953600-1750980600@castlewoodhoa.com
SUMMARY:NO RESERVATIONS
DESCRIPTION:
URL:https://castlewoodhoa.com/event/no-reservations-240/
LOCATION:Castlewood HOA Clubhouse\, 3420 Fairfield Lane\, Highland Village\, TX\, 75077\, United States
CATEGORIES:HOA BOD Administration
END:VEVENT
BEGIN:VEVENT
DTSTART;TZID=America/Chicago:20250623T050000
DTEND;TZID=America/Chicago:20250623T100000
DTSTAMP:20260424T065728
CREATED:20241016T194707Z
LAST-MODIFIED:20241016T194707Z
UID:5596-1750654800-1750672800@castlewoodhoa.com
SUMMARY:NO RESERVATIONS
DESCRIPTION:
URL:https://castlewoodhoa.com/event/no-reservations-235/
LOCATION:Castlewood HOA Clubhouse\, 3420 Fairfield Lane\, Highland Village\, TX\, 75077\, United States
CATEGORIES:HOA BOD Administration
END:VEVENT
BEGIN:VEVENT
DTSTART;VALUE=DATE:20250622
DTEND;VALUE=DATE:20250623
DTSTAMP:20260424T065728
CREATED:20250528T155820Z
LAST-MODIFIED:20250528T155820Z
UID:6128-1750550400-1750636799@castlewoodhoa.com
SUMMARY:Clubhouse Reserved
DESCRIPTION:
URL:https://castlewoodhoa.com/event/clubhouse-reserved-639/
LOCATION:Castlewood HOA Clubhouse\, 3420 Fairfield Lane\, Highland Village\, TX\, 75077\, United States
CATEGORIES:Clubhouse Reservation
END:VEVENT
BEGIN:VEVENT
DTSTART;VALUE=DATE:20250621
DTEND;VALUE=DATE:20250622
DTSTAMP:20260424T065728
CREATED:20250512T132933Z
LAST-MODIFIED:20250512T132933Z
UID:6094-1750464000-1750550399@castlewoodhoa.com
SUMMARY:Clubhouse Reserved
DESCRIPTION:
URL:https://castlewoodhoa.com/event/clubhouse-reserved-634/
LOCATION:Castlewood HOA Clubhouse\, 3420 Fairfield Lane\, Highland Village\, TX\, 75077\, United States
CATEGORIES:Clubhouse Reservation
END:VEVENT
END:VCALENDAR