BEGIN:VCALENDAR
VERSION:2.0
PRODID:-//Castlewood Homeowners Association - ECPv6.15.17//NONSGML v1.0//EN
CALSCALE:GREGORIAN
METHOD:PUBLISH
X-WR-CALNAME:Castlewood Homeowners Association
X-ORIGINAL-URL:https://castlewoodhoa.com
X-WR-CALDESC:Events for Castlewood Homeowners Association
REFRESH-INTERVAL;VALUE=DURATION:PT1H
X-Robots-Tag:noindex
X-PUBLISHED-TTL:PT1H
BEGIN:VTIMEZONE
TZID:America/Chicago
BEGIN:DAYLIGHT
TZOFFSETFROM:-0600
TZOFFSETTO:-0500
TZNAME:CDT
DTSTART:20250309T080000
END:DAYLIGHT
BEGIN:STANDARD
TZOFFSETFROM:-0500
TZOFFSETTO:-0600
TZNAME:CST
DTSTART:20251102T070000
END:STANDARD
BEGIN:DAYLIGHT
TZOFFSETFROM:-0600
TZOFFSETTO:-0500
TZNAME:CDT
DTSTART:20260308T080000
END:DAYLIGHT
BEGIN:STANDARD
TZOFFSETFROM:-0500
TZOFFSETTO:-0600
TZNAME:CST
DTSTART:20261101T070000
END:STANDARD
BEGIN:DAYLIGHT
TZOFFSETFROM:-0600
TZOFFSETTO:-0500
TZNAME:CDT
DTSTART:20270314T080000
END:DAYLIGHT
BEGIN:STANDARD
TZOFFSETFROM:-0500
TZOFFSETTO:-0600
TZNAME:CST
DTSTART:20271107T070000
END:STANDARD
END:VTIMEZONE
BEGIN:VEVENT
DTSTART;TZID=America/Chicago:20260507T160000
DTEND;TZID=America/Chicago:20260507T233000
DTSTAMP:20260423T192004
CREATED:20251201T195310Z
LAST-MODIFIED:20251201T195310Z
UID:6495-1778169600-1778196600@castlewoodhoa.com
SUMMARY:NO RESERVATIONS
DESCRIPTION:
URL:https://castlewoodhoa.com/event/no-reservations-341/
CATEGORIES:HOA BOD Administration
END:VEVENT
BEGIN:VEVENT
DTSTART;VALUE=DATE:20260505
DTEND;VALUE=DATE:20260506
DTSTAMP:20260423T192004
CREATED:20260105T162152Z
LAST-MODIFIED:20260105T162152Z
UID:6674-1777939200-1778025599@castlewoodhoa.com
SUMMARY:CLUBHOUSE RESERVED
DESCRIPTION:
URL:https://castlewoodhoa.com/event/clubhouse-reserved-697/
CATEGORIES:Clubhouse Reservation
END:VEVENT
BEGIN:VEVENT
DTSTART;TZID=America/Chicago:20260504T050000
DTEND;TZID=America/Chicago:20260504T100000
DTSTAMP:20260423T192004
CREATED:20251201T195245Z
LAST-MODIFIED:20251201T195245Z
UID:6493-1777870800-1777888800@castlewoodhoa.com
SUMMARY:NO RESERVATIONS
DESCRIPTION:
URL:https://castlewoodhoa.com/event/no-reservations-340/
CATEGORIES:HOA BOD Administration
END:VEVENT
BEGIN:VEVENT
DTSTART;VALUE=DATE:20260502
DTEND;VALUE=DATE:20260503
DTSTAMP:20260423T192004
CREATED:20260324T152657Z
LAST-MODIFIED:20260324T152657Z
UID:6856-1777680000-1777766399@castlewoodhoa.com
SUMMARY:Clubhouse Reserved
DESCRIPTION:
URL:https://castlewoodhoa.com/event/clubhouse-reserved-732/
CATEGORIES:Clubhouse Reservation
END:VEVENT
BEGIN:VEVENT
DTSTART;VALUE=DATE:20260501
DTEND;VALUE=DATE:20260502
DTSTAMP:20260423T192004
CREATED:20260303T180032Z
LAST-MODIFIED:20260303T180032Z
UID:6744-1777593600-1777679999@castlewoodhoa.com
SUMMARY:Clubhouse Reserved
DESCRIPTION:
URL:https://castlewoodhoa.com/event/clubhouse-reserved-718/
CATEGORIES:Clubhouse Reservation
END:VEVENT
BEGIN:VEVENT
DTSTART;TZID=America/Chicago:20260430T160000
DTEND;TZID=America/Chicago:20260430T233000
DTSTAMP:20260423T192004
CREATED:20251201T195158Z
LAST-MODIFIED:20251201T195158Z
UID:6491-1777564800-1777591800@castlewoodhoa.com
SUMMARY:NO RESERVATIONS
DESCRIPTION:
URL:https://castlewoodhoa.com/event/no-reservations-339/
CATEGORIES:HOA BOD Administration
END:VEVENT
BEGIN:VEVENT
DTSTART;TZID=America/Chicago:20260429T180000
DTEND;TZID=America/Chicago:20260429T210000
DTSTAMP:20260423T192004
CREATED:20260317T140051Z
LAST-MODIFIED:20260317T140051Z
UID:6849-1777485600-1777496400@castlewoodhoa.com
SUMMARY:BOD Meeting
DESCRIPTION:
URL:https://castlewoodhoa.com/event/bod-meeting-39/
CATEGORIES:Clubhouse Reservation
END:VEVENT
BEGIN:VEVENT
DTSTART;VALUE=DATE:20260428
DTEND;VALUE=DATE:20260429
DTSTAMP:20260423T192004
CREATED:20260312T151403Z
LAST-MODIFIED:20260312T151403Z
UID:6844-1777334400-1777420799@castlewoodhoa.com
SUMMARY:Clubhouse Reserved
DESCRIPTION:
URL:https://castlewoodhoa.com/event/clubhouse-reserved-729/
CATEGORIES:Clubhouse Reservation
END:VEVENT
BEGIN:VEVENT
DTSTART;TZID=America/Chicago:20260427T050000
DTEND;TZID=America/Chicago:20260427T100000
DTSTAMP:20260423T192004
CREATED:20251201T195135Z
LAST-MODIFIED:20251201T195135Z
UID:6489-1777266000-1777284000@castlewoodhoa.com
SUMMARY:NO RESERVATIONS
DESCRIPTION:
URL:https://castlewoodhoa.com/event/no-reservations-338/
CATEGORIES:HOA BOD Administration
END:VEVENT
BEGIN:VEVENT
DTSTART;VALUE=DATE:20260425
DTEND;VALUE=DATE:20260426
DTSTAMP:20260423T192004
CREATED:20260401T140345Z
LAST-MODIFIED:20260401T140418Z
UID:6865-1777075200-1777161599@castlewoodhoa.com
SUMMARY:Clubhouse Reserved
DESCRIPTION:
URL:https://castlewoodhoa.com/event/clubhouse-reserved-724/
CATEGORIES:Clubhouse Reservation
END:VEVENT
BEGIN:VEVENT
DTSTART;VALUE=DATE:20260425
DTEND;VALUE=DATE:20260426
DTSTAMP:20260423T192004
CREATED:20260311T213657Z
LAST-MODIFIED:20260316T194222Z
UID:6840-1777075200-1777161599@castlewoodhoa.com
SUMMARY:Community Wide Garage Sale
DESCRIPTION:
URL:https://castlewoodhoa.com/event/community-wide-garage-sale-9/
CATEGORIES:HOA Sponsored Event
END:VEVENT
BEGIN:VEVENT
DTSTART;TZID=America/Chicago:20260423T160000
DTEND;TZID=America/Chicago:20260423T233000
DTSTAMP:20260423T192004
CREATED:20251201T195108Z
LAST-MODIFIED:20251201T195108Z
UID:6487-1776960000-1776987000@castlewoodhoa.com
SUMMARY:NO RESERVATIONS
DESCRIPTION:
URL:https://castlewoodhoa.com/event/no-reservations-337/
CATEGORIES:HOA BOD Administration
END:VEVENT
BEGIN:VEVENT
DTSTART;TZID=America/Chicago:20260420T050000
DTEND;TZID=America/Chicago:20260420T100000
DTSTAMP:20260423T192004
CREATED:20251201T195042Z
LAST-MODIFIED:20251201T195042Z
UID:6485-1776661200-1776679200@castlewoodhoa.com
SUMMARY:NO RESERVATIONS
DESCRIPTION:
URL:https://castlewoodhoa.com/event/no-reservations-336/
CATEGORIES:HOA BOD Administration
END:VEVENT
BEGIN:VEVENT
DTSTART;VALUE=DATE:20260418
DTEND;VALUE=DATE:20260419
DTSTAMP:20260423T192004
CREATED:20251201T194615Z
LAST-MODIFIED:20251201T194615Z
UID:6475-1776470400-1776556799@castlewoodhoa.com
SUMMARY:Clubhouse Reserved
DESCRIPTION:
URL:https://castlewoodhoa.com/event/clubhouse-reserved-684/
CATEGORIES:Clubhouse Reservation
END:VEVENT
BEGIN:VEVENT
DTSTART;TZID=America/Chicago:20260416T160000
DTEND;TZID=America/Chicago:20260416T233000
DTSTAMP:20260423T192004
CREATED:20251201T195015Z
LAST-MODIFIED:20251201T195015Z
UID:6483-1776355200-1776382200@castlewoodhoa.com
SUMMARY:NO RESERVATIONS
DESCRIPTION:
URL:https://castlewoodhoa.com/event/no-reservations-335/
CATEGORIES:HOA BOD Administration
END:VEVENT
BEGIN:VEVENT
DTSTART;VALUE=DATE:20260414
DTEND;VALUE=DATE:20260415
DTSTAMP:20260423T192004
CREATED:20260224T163351Z
LAST-MODIFIED:20260224T163351Z
UID:6731-1776124800-1776211199@castlewoodhoa.com
SUMMARY:Clubhouse Reserved
DESCRIPTION:
URL:https://castlewoodhoa.com/event/clubhouse-reserved-715/
CATEGORIES:Clubhouse Reservation
END:VEVENT
BEGIN:VEVENT
DTSTART;TZID=America/Chicago:20260413T050000
DTEND;TZID=America/Chicago:20260413T100000
DTSTAMP:20260423T192004
CREATED:20251201T194932Z
LAST-MODIFIED:20251201T194932Z
UID:6481-1776056400-1776074400@castlewoodhoa.com
SUMMARY:NO RESERVATIONS
DESCRIPTION:
URL:https://castlewoodhoa.com/event/no-reservations-334/
CATEGORIES:HOA BOD Administration
END:VEVENT
BEGIN:VEVENT
DTSTART;VALUE=DATE:20260411
DTEND;VALUE=DATE:20260412
DTSTAMP:20260423T192004
CREATED:20251107T183353Z
LAST-MODIFIED:20251107T183353Z
UID:6390-1775865600-1775951999@castlewoodhoa.com
SUMMARY:Clubhouse Reserved
DESCRIPTION:
URL:https://castlewoodhoa.com/event/clubhouse-reserved-678/
CATEGORIES:Clubhouse Reservation
END:VEVENT
BEGIN:VEVENT
DTSTART;VALUE=DATE:20260410
DTEND;VALUE=DATE:20260411
DTSTAMP:20260423T192004
CREATED:20260304T183822Z
LAST-MODIFIED:20260304T185013Z
UID:6747-1775779200-1775865599@castlewoodhoa.com
SUMMARY:Clubhouse Reserved
DESCRIPTION:
URL:https://castlewoodhoa.com/event/clubhouse-reserved-719/
CATEGORIES:Clubhouse Reservation
END:VEVENT
BEGIN:VEVENT
DTSTART;TZID=America/Chicago:20260409T160000
DTEND;TZID=America/Chicago:20260409T233000
DTSTAMP:20260423T192004
CREATED:20251201T194847Z
LAST-MODIFIED:20251201T194901Z
UID:6479-1775750400-1775777400@castlewoodhoa.com
SUMMARY:NO RESERVATIONS
DESCRIPTION:
URL:https://castlewoodhoa.com/event/no-reservations-333/
CATEGORIES:HOA BOD Administration
END:VEVENT
BEGIN:VEVENT
DTSTART;VALUE=DATE:20260408
DTEND;VALUE=DATE:20260409
DTSTAMP:20260423T192004
CREATED:20260323T193211Z
LAST-MODIFIED:20260323T193211Z
UID:6854-1775606400-1775692799@castlewoodhoa.com
SUMMARY:Clubhouse Reserved
DESCRIPTION:
URL:https://castlewoodhoa.com/event/clubhouse-reserved-731/
CATEGORIES:Clubhouse Reservation
END:VEVENT
BEGIN:VEVENT
DTSTART;VALUE=DATE:20260407
DTEND;VALUE=DATE:20260408
DTSTAMP:20260423T192004
CREATED:20260105T162115Z
LAST-MODIFIED:20260325T212120Z
UID:6672-1775520000-1775606399@castlewoodhoa.com
SUMMARY:Clubhouse Closed
DESCRIPTION:
URL:https://castlewoodhoa.com/event/clubhouse-reserved-696/
CATEGORIES:Clubhouse Reservation
END:VEVENT
BEGIN:VEVENT
DTSTART;TZID=America/Chicago:20260406T050000
DTEND;TZID=America/Chicago:20260406T100000
DTSTAMP:20260423T192004
CREATED:20251201T194758Z
LAST-MODIFIED:20251201T194815Z
UID:6477-1775451600-1775469600@castlewoodhoa.com
SUMMARY:NO RESERVATIONS
DESCRIPTION:
URL:https://castlewoodhoa.com/event/no-reservations-332/
CATEGORIES:HOA BOD Administration
END:VEVENT
BEGIN:VEVENT
DTSTART;VALUE=DATE:20260403
DTEND;VALUE=DATE:20260404
DTSTAMP:20260423T192004
CREATED:20251201T185347Z
LAST-MODIFIED:20251201T185347Z
UID:6437-1775174400-1775260799@castlewoodhoa.com
SUMMARY:Easter Eggstravaganza
DESCRIPTION:
URL:https://castlewoodhoa.com/event/easter-eggstravaganza-3/
CATEGORIES:HOA Sponsored Event
END:VEVENT
BEGIN:VEVENT
DTSTART;TZID=America/Chicago:20260402T160000
DTEND;TZID=America/Chicago:20260402T233000
DTSTAMP:20260423T192004
CREATED:20251201T194513Z
LAST-MODIFIED:20251201T194513Z
UID:6473-1775145600-1775172600@castlewoodhoa.com
SUMMARY:NO RESERVATIONS
DESCRIPTION:
URL:https://castlewoodhoa.com/event/no-reservations-331/
CATEGORIES:HOA BOD Administration
END:VEVENT
BEGIN:VEVENT
DTSTART;VALUE=DATE:20260331
DTEND;VALUE=DATE:20260401
DTSTAMP:20260423T192004
CREATED:20260325T212030Z
LAST-MODIFIED:20260325T212030Z
UID:6858-1774915200-1775001599@castlewoodhoa.com
SUMMARY:Clubhouse Reserved
DESCRIPTION:
URL:https://castlewoodhoa.com/event/clubhouse-reserved-733/
CATEGORIES:Clubhouse Reservation
END:VEVENT
BEGIN:VEVENT
DTSTART;TZID=America/Chicago:20260330T050000
DTEND;TZID=America/Chicago:20260330T100000
DTSTAMP:20260423T192004
CREATED:20251201T194429Z
LAST-MODIFIED:20251201T194429Z
UID:6471-1774846800-1774864800@castlewoodhoa.com
SUMMARY:NO RESERVATIONS
DESCRIPTION:
URL:https://castlewoodhoa.com/event/no-reservations-330/
CATEGORIES:HOA BOD Administration
END:VEVENT
BEGIN:VEVENT
DTSTART;VALUE=DATE:20260328
DTEND;VALUE=DATE:20260329
DTSTAMP:20260423T192004
CREATED:20260206T174440Z
LAST-MODIFIED:20260206T174440Z
UID:6715-1774656000-1774742399@castlewoodhoa.com
SUMMARY:Clubhouse Reserved
DESCRIPTION:
URL:https://castlewoodhoa.com/event/clubhouse-reserved-710/
CATEGORIES:Clubhouse Reservation
END:VEVENT
BEGIN:VEVENT
DTSTART;VALUE=DATE:20260327
DTEND;VALUE=DATE:20260328
DTSTAMP:20260423T192004
CREATED:20260114T233442Z
LAST-MODIFIED:20260114T233442Z
UID:6691-1774569600-1774655999@castlewoodhoa.com
SUMMARY:Clubhouse Reserved
DESCRIPTION:
URL:https://castlewoodhoa.com/event/clubhouse-reserved-702/
CATEGORIES:Clubhouse Reservation
END:VEVENT
BEGIN:VEVENT
DTSTART;TZID=America/Chicago:20260326T160000
DTEND;TZID=America/Chicago:20260326T233000
DTSTAMP:20260423T192004
CREATED:20251201T194351Z
LAST-MODIFIED:20251201T194351Z
UID:6469-1774540800-1774567800@castlewoodhoa.com
SUMMARY:NO RESERVATIONS
DESCRIPTION:
URL:https://castlewoodhoa.com/event/no-reservations-329/
CATEGORIES:HOA BOD Administration
END:VEVENT
END:VCALENDAR