BEGIN:VCALENDAR
VERSION:2.0
PRODID:-//Castlewood Homeowners Association - ECPv6.15.17//NONSGML v1.0//EN
CALSCALE:GREGORIAN
METHOD:PUBLISH
X-WR-CALNAME:Castlewood Homeowners Association
X-ORIGINAL-URL:https://castlewoodhoa.com
X-WR-CALDESC:Events for Castlewood Homeowners Association
REFRESH-INTERVAL;VALUE=DURATION:PT1H
X-Robots-Tag:noindex
X-PUBLISHED-TTL:PT1H
BEGIN:VTIMEZONE
TZID:America/Chicago
BEGIN:DAYLIGHT
TZOFFSETFROM:-0600
TZOFFSETTO:-0500
TZNAME:CDT
DTSTART:20240310T080000
END:DAYLIGHT
BEGIN:STANDARD
TZOFFSETFROM:-0500
TZOFFSETTO:-0600
TZNAME:CST
DTSTART:20241103T070000
END:STANDARD
BEGIN:DAYLIGHT
TZOFFSETFROM:-0600
TZOFFSETTO:-0500
TZNAME:CDT
DTSTART:20250309T080000
END:DAYLIGHT
BEGIN:STANDARD
TZOFFSETFROM:-0500
TZOFFSETTO:-0600
TZNAME:CST
DTSTART:20251102T070000
END:STANDARD
BEGIN:DAYLIGHT
TZOFFSETFROM:-0600
TZOFFSETTO:-0500
TZNAME:CDT
DTSTART:20260308T080000
END:DAYLIGHT
BEGIN:STANDARD
TZOFFSETFROM:-0500
TZOFFSETTO:-0600
TZNAME:CST
DTSTART:20261101T070000
END:STANDARD
END:VTIMEZONE
BEGIN:VEVENT
DTSTART;TZID=America/Chicago:20250512T050000
DTEND;TZID=America/Chicago:20250512T100000
DTSTAMP:20260424T093013
CREATED:20241016T185351Z
LAST-MODIFIED:20241016T185351Z
UID:5576-1747026000-1747044000@castlewoodhoa.com
SUMMARY:NO RESERVATIONS
DESCRIPTION:
URL:https://castlewoodhoa.com/event/no-reservations-225/
LOCATION:Castlewood HOA Clubhouse\, 3420 Fairfield Lane\, Highland Village\, TX\, 75077\, United States
CATEGORIES:HOA BOD Administration
END:VEVENT
BEGIN:VEVENT
DTSTART;TZID=America/Chicago:20250512T170000
DTEND;TZID=America/Chicago:20250512T200000
DTSTAMP:20260424T093013
CREATED:20250214T165900Z
LAST-MODIFIED:20250214T172105Z
UID:5971-1747069200-1747080000@castlewoodhoa.com
SUMMARY:CH & Pavillion Reserved
DESCRIPTION:
URL:https://castlewoodhoa.com/event/swim-team-evening-practice-2/
LOCATION:Castlewood HOA Clubhouse\, 3420 Fairfield Lane\, Highland Village\, TX\, 75077\, United States
CATEGORIES:Clubhouse Reservation
END:VEVENT
BEGIN:VEVENT
DTSTART;TZID=America/Chicago:20250512T170000
DTEND;TZID=America/Chicago:20250512T200000
DTSTAMP:20260424T093013
CREATED:20250214T170017Z
LAST-MODIFIED:20250214T172250Z
UID:5973-1747069200-1747080000@castlewoodhoa.com
SUMMARY:Swim Team Evening Practice
DESCRIPTION:
URL:https://castlewoodhoa.com/event/swim-team-evening-practice-3/
LOCATION:Pavilion\, 3420 Fairfield Lane\, Highland Village\, TX\, 75077\, United States
CATEGORIES:Pavilion Reservation
END:VEVENT
BEGIN:VEVENT
DTSTART;VALUE=DATE:20250513
DTEND;VALUE=DATE:20250514
DTSTAMP:20260424T093013
CREATED:20250416T155442Z
LAST-MODIFIED:20250416T155442Z
UID:6062-1747094400-1747180799@castlewoodhoa.com
SUMMARY:Clubhouse Reserved
DESCRIPTION:
URL:https://castlewoodhoa.com/event/clubhouse-reserved-632/
LOCATION:Castlewood HOA Clubhouse\, 3420 Fairfield Lane\, Highland Village\, TX\, 75077\, United States
CATEGORIES:Clubhouse Reservation
END:VEVENT
BEGIN:VEVENT
DTSTART;TZID=America/Chicago:20250515T160000
DTEND;TZID=America/Chicago:20250515T233000
DTSTAMP:20260424T093013
CREATED:20241016T193438Z
LAST-MODIFIED:20241016T193547Z
UID:5584-1747324800-1747351800@castlewoodhoa.com
SUMMARY:NO RESERVATIONS
DESCRIPTION:
URL:https://castlewoodhoa.com/event/no-reservations-229/
LOCATION:Castlewood HOA Clubhouse\, 3420 Fairfield Lane\, Highland Village\, TX\, 75077\, United States
CATEGORIES:HOA BOD Administration
END:VEVENT
BEGIN:VEVENT
DTSTART;TZID=America/Chicago:20250515T170000
DTEND;TZID=America/Chicago:20250515T200000
DTSTAMP:20260424T093013
CREATED:20250214T172535Z
LAST-MODIFIED:20250214T172535Z
UID:5976-1747328400-1747339200@castlewoodhoa.com
SUMMARY:Swim Team Evening Practice
DESCRIPTION:
URL:https://castlewoodhoa.com/event/swim-team-evening-practice-4/
LOCATION:Pavilion\, 3420 Fairfield Lane\, Highland Village\, TX\, 75077\, United States
CATEGORIES:Pavilion Reservation
END:VEVENT
BEGIN:VEVENT
DTSTART;TZID=America/Chicago:20250515T170000
DTEND;TZID=America/Chicago:20250515T200000
DTSTAMP:20260424T093013
CREATED:20250214T172731Z
LAST-MODIFIED:20250214T172731Z
UID:5978-1747328400-1747339200@castlewoodhoa.com
SUMMARY:CH & Pavillion Reserved
DESCRIPTION:
URL:https://castlewoodhoa.com/event/ch-pavillion-reserved/
LOCATION:Castlewood HOA Clubhouse\, 3420 Fairfield Lane\, Highland Village\, TX\, 75077\, United States
CATEGORIES:Clubhouse Reservation
END:VEVENT
BEGIN:VEVENT
DTSTART;VALUE=DATE:20250517
DTEND;VALUE=DATE:20250518
DTSTAMP:20260424T093013
CREATED:20250321T155706Z
LAST-MODIFIED:20250321T155706Z
UID:6034-1747440000-1747526399@castlewoodhoa.com
SUMMARY:Clubhouse Reserved
DESCRIPTION:
URL:https://castlewoodhoa.com/event/clubhouse-reserved-626/
LOCATION:Castlewood HOA Clubhouse\, 3420 Fairfield Lane\, Highland Village\, TX\, 75077\, United States
CATEGORIES:Clubhouse Reservation
END:VEVENT
BEGIN:VEVENT
DTSTART;TZID=America/Chicago:20250517T080000
DTEND;TZID=America/Chicago:20250517T100000
DTSTAMP:20260424T093013
CREATED:20250214T164730Z
LAST-MODIFIED:20250214T164730Z
UID:5966-1747468800-1747476000@castlewoodhoa.com
SUMMARY:Swim Team AM practice
DESCRIPTION:
URL:https://castlewoodhoa.com/event/swim-team-am-practice-6/
LOCATION:Pavilion\, 3420 Fairfield Lane\, Highland Village\, TX\, 75077\, United States
CATEGORIES:Pavilion Reservation
END:VEVENT
BEGIN:VEVENT
DTSTART;TZID=America/Chicago:20250519T050000
DTEND;TZID=America/Chicago:20250519T100000
DTSTAMP:20260424T093013
CREATED:20241016T185642Z
LAST-MODIFIED:20241016T185642Z
UID:5578-1747630800-1747648800@castlewoodhoa.com
SUMMARY:NO RESERVATIONS
DESCRIPTION:
URL:https://castlewoodhoa.com/event/no-reservations-226/
LOCATION:Castlewood HOA Clubhouse\, 3420 Fairfield Lane\, Highland Village\, TX\, 75077\, United States
CATEGORIES:HOA BOD Administration
END:VEVENT
BEGIN:VEVENT
DTSTART;VALUE=DATE:20250520
DTEND;VALUE=DATE:20250521
DTSTAMP:20260424T093013
CREATED:20250203T193122Z
LAST-MODIFIED:20250203T193122Z
UID:5898-1747699200-1747785599@castlewoodhoa.com
SUMMARY:NO RESERVATIONS
DESCRIPTION:
URL:https://castlewoodhoa.com/event/no-reservations-300/
LOCATION:Castlewood HOA Clubhouse\, 3420 Fairfield Lane\, Highland Village\, TX\, 75077\, United States
CATEGORIES:HOA BOD Administration
END:VEVENT
BEGIN:VEVENT
DTSTART;TZID=America/Chicago:20250520T170000
DTEND;TZID=America/Chicago:20250520T200000
DTSTAMP:20260424T093013
CREATED:20250214T172916Z
LAST-MODIFIED:20250214T172916Z
UID:5980-1747760400-1747771200@castlewoodhoa.com
SUMMARY:Swim Team Evening Practice
DESCRIPTION:
URL:https://castlewoodhoa.com/event/swim-team-evening-practice-5/
LOCATION:Pavilion\, 3420 Fairfield Lane\, Highland Village\, TX\, 75077\, United States
CATEGORIES:Pavilion Reservation
END:VEVENT
BEGIN:VEVENT
DTSTART;TZID=America/Chicago:20250520T170000
DTEND;TZID=America/Chicago:20250520T200000
DTSTAMP:20260424T093013
CREATED:20250214T173052Z
LAST-MODIFIED:20250214T173052Z
UID:5982-1747760400-1747771200@castlewoodhoa.com
SUMMARY:CH & Pavillion Reserved
DESCRIPTION:
URL:https://castlewoodhoa.com/event/ch-pavillion-reserved-2/
LOCATION:Castlewood HOA Clubhouse\, 3420 Fairfield Lane\, Highland Village\, TX\, 75077\, United States
CATEGORIES:Clubhouse Reservation
END:VEVENT
BEGIN:VEVENT
DTSTART;TZID=America/Chicago:20250520T180000
DTEND;TZID=America/Chicago:20250520T210000
DTSTAMP:20260424T093013
CREATED:20241016T162607Z
LAST-MODIFIED:20241016T162607Z
UID:5486-1747764000-1747774800@castlewoodhoa.com
SUMMARY:BOD Meeting
DESCRIPTION:
URL:https://castlewoodhoa.com/event/bod-meeting-23/
LOCATION:Castlewood HOA Clubhouse\, 3420 Fairfield Lane\, Highland Village\, TX\, 75077\, United States
CATEGORIES:HOA BOD Administration
END:VEVENT
BEGIN:VEVENT
DTSTART;TZID=America/Chicago:20250521T170000
DTEND;TZID=America/Chicago:20250521T200000
DTSTAMP:20260424T093013
CREATED:20250214T174154Z
LAST-MODIFIED:20250214T174154Z
UID:5984-1747846800-1747857600@castlewoodhoa.com
SUMMARY:Swim Team Evening Practice
DESCRIPTION:
URL:https://castlewoodhoa.com/event/swim-team-evening-practice-6/
LOCATION:Pavilion\, 3420 Fairfield Lane\, Highland Village\, TX\, 75077\, United States
CATEGORIES:Pavilion Reservation
END:VEVENT
BEGIN:VEVENT
DTSTART;TZID=America/Chicago:20250521T170000
DTEND;TZID=America/Chicago:20250521T200000
DTSTAMP:20260424T093013
CREATED:20250214T174416Z
LAST-MODIFIED:20250214T174416Z
UID:5986-1747846800-1747857600@castlewoodhoa.com
SUMMARY:CH & Pavillion Reserved
DESCRIPTION:
URL:https://castlewoodhoa.com/event/ch-pavillion-reserved-3/
LOCATION:Castlewood HOA Clubhouse\, 3420 Fairfield Lane\, Highland Village\, TX\, 75077\, United States
CATEGORIES:Clubhouse Reservation
END:VEVENT
BEGIN:VEVENT
DTSTART;TZID=America/Chicago:20250522T160000
DTEND;TZID=America/Chicago:20250522T233000
DTSTAMP:20260424T093013
CREATED:20241016T193637Z
LAST-MODIFIED:20241016T193637Z
UID:5586-1747929600-1747956600@castlewoodhoa.com
SUMMARY:NO RESERVATIONS
DESCRIPTION:
URL:https://castlewoodhoa.com/event/no-reservations-230/
LOCATION:Castlewood HOA Clubhouse\, 3420 Fairfield Lane\, Highland Village\, TX\, 75077\, United States
CATEGORIES:HOA BOD Administration
END:VEVENT
BEGIN:VEVENT
DTSTART;VALUE=DATE:20250523
DTEND;VALUE=DATE:20250524
DTSTAMP:20260424T093013
CREATED:20250219T154228Z
LAST-MODIFIED:20250219T154228Z
UID:5990-1747958400-1748044799@castlewoodhoa.com
SUMMARY:Clubhouse and Pavilion Reserved
DESCRIPTION:
URL:https://castlewoodhoa.com/event/clubhouse-and-pavilion-reserved/
LOCATION:Castlewood HOA Clubhouse\, 3420 Fairfield Lane\, Highland Village\, TX\, 75077\, United States
CATEGORIES:Clubhouse Reservation,Pavilion Reservation
END:VEVENT
BEGIN:VEVENT
DTSTART;VALUE=DATE:20250524
DTEND;VALUE=DATE:20250525
DTSTAMP:20260424T093013
CREATED:20241202T175154Z
LAST-MODIFIED:20241202T175154Z
UID:5810-1748044800-1748131199@castlewoodhoa.com
SUMMARY:Clubhouse Reserved
DESCRIPTION:
URL:https://castlewoodhoa.com/event/clubhouse-reserved-602/
LOCATION:Castlewood HOA Clubhouse\, 3420 Fairfield Lane\, Highland Village\, TX\, 75077\, United States
CATEGORIES:Clubhouse Reservation
END:VEVENT
BEGIN:VEVENT
DTSTART;VALUE=DATE:20250525
DTEND;VALUE=DATE:20250526
DTSTAMP:20260424T093013
CREATED:20241204T163825Z
LAST-MODIFIED:20241204T163825Z
UID:5816-1748131200-1748217599@castlewoodhoa.com
SUMMARY:Clubhouse reserved
DESCRIPTION:
URL:https://castlewoodhoa.com/event/clubhouse-reserved-605/
LOCATION:Castlewood HOA Clubhouse\, 3420 Fairfield Lane\, Highland Village\, TX\, 75077\, United States
CATEGORIES:Clubhouse Reservation
END:VEVENT
BEGIN:VEVENT
DTSTART;TZID=America/Chicago:20250526T050000
DTEND;TZID=America/Chicago:20250526T100000
DTSTAMP:20260424T093013
CREATED:20241028T180915Z
LAST-MODIFIED:20241028T180915Z
UID:5751-1748235600-1748253600@castlewoodhoa.com
SUMMARY:NO RESERVATIONS
DESCRIPTION:
URL:https://castlewoodhoa.com/event/no-reservations-205/
LOCATION:Castlewood HOA Clubhouse\, 3420 Fairfield Lane\, Highland Village\, TX\, 75077\, United States
CATEGORIES:HOA BOD Administration
END:VEVENT
BEGIN:VEVENT
DTSTART;VALUE=DATE:20250529
DTEND;VALUE=DATE:20250530
DTSTAMP:20260424T093013
CREATED:20250519T142005Z
LAST-MODIFIED:20250519T142005Z
UID:6107-1748476800-1748563199@castlewoodhoa.com
SUMMARY:Clubhouse Reserved
DESCRIPTION:
URL:https://castlewoodhoa.com/event/clubhouse-reserved-637/
LOCATION:Castlewood HOA Clubhouse\, 3420 Fairfield Lane\, Highland Village\, TX\, 75077\, United States
CATEGORIES:HOA BOD Administration
END:VEVENT
BEGIN:VEVENT
DTSTART;TZID=America/Chicago:20250529T160000
DTEND;TZID=America/Chicago:20250529T233000
DTSTAMP:20260424T093013
CREATED:20241016T193751Z
LAST-MODIFIED:20241016T193751Z
UID:5588-1748534400-1748561400@castlewoodhoa.com
SUMMARY:NO RESERVATIONS
DESCRIPTION:
URL:https://castlewoodhoa.com/event/no-reservations-231/
LOCATION:Castlewood HOA Clubhouse\, 3420 Fairfield Lane\, Highland Village\, TX\, 75077\, United States
CATEGORIES:HOA BOD Administration
END:VEVENT
BEGIN:VEVENT
DTSTART;VALUE=DATE:20250531
DTEND;VALUE=DATE:20250601
DTSTAMP:20260424T093013
CREATED:20241202T195050Z
LAST-MODIFIED:20241202T195050Z
UID:5812-1748649600-1748735999@castlewoodhoa.com
SUMMARY:Clubhouse Reserved
DESCRIPTION:
URL:https://castlewoodhoa.com/event/clubhouse-reserved-603/
LOCATION:Castlewood HOA Clubhouse\, 3420 Fairfield Lane\, Highland Village\, TX\, 75077\, United States
CATEGORIES:Clubhouse Reservation
END:VEVENT
BEGIN:VEVENT
DTSTART;TZID=America/Chicago:20250531T080000
DTEND;TZID=America/Chicago:20250531T100000
DTSTAMP:20260424T093013
CREATED:20250214T165038Z
LAST-MODIFIED:20250214T165038Z
UID:5969-1748678400-1748685600@castlewoodhoa.com
SUMMARY:Swim Team AM practice
DESCRIPTION:
URL:https://castlewoodhoa.com/event/swim-team-am-practice-7/
LOCATION:Pavilion\, 3420 Fairfield Lane\, Highland Village\, TX\, 75077\, United States
CATEGORIES:Pavilion Reservation
END:VEVENT
BEGIN:VEVENT
DTSTART;TZID=America/Chicago:20250602T050000
DTEND;TZID=America/Chicago:20250602T100000
DTSTAMP:20260424T093013
CREATED:20241016T193912Z
LAST-MODIFIED:20241016T193946Z
UID:5590-1748840400-1748858400@castlewoodhoa.com
SUMMARY:NO RESERVATIONS
DESCRIPTION:
URL:https://castlewoodhoa.com/event/no-reservations-232/
LOCATION:Castlewood HOA Clubhouse\, 3420 Fairfield Lane\, Highland Village\, TX\, 75077\, United States
CATEGORIES:HOA BOD Administration
END:VEVENT
BEGIN:VEVENT
DTSTART;VALUE=DATE:20250603
DTEND;VALUE=DATE:20250604
DTSTAMP:20260424T093013
CREATED:20241210T173333Z
LAST-MODIFIED:20241210T173333Z
UID:5819-1748908800-1748995199@castlewoodhoa.com
SUMMARY:Clubhouse Reserved
DESCRIPTION:
URL:https://castlewoodhoa.com/event/clubhouse-reserved-606/
LOCATION:Castlewood HOA Clubhouse\, 3420 Fairfield Lane\, Highland Village\, TX\, 75077\, United States
CATEGORIES:Clubhouse Reservation
END:VEVENT
BEGIN:VEVENT
DTSTART;TZID=America/Chicago:20250605T160000
DTEND;TZID=America/Chicago:20250605T233000
DTSTAMP:20260424T093013
CREATED:20241016T195144Z
LAST-MODIFIED:20241016T195144Z
UID:5600-1749139200-1749166200@castlewoodhoa.com
SUMMARY:NO RESERVATIONS
DESCRIPTION:
URL:https://castlewoodhoa.com/event/no-reservations-237/
LOCATION:Castlewood HOA Clubhouse\, 3420 Fairfield Lane\, Highland Village\, TX\, 75077\, United States
CATEGORIES:HOA BOD Administration
END:VEVENT
BEGIN:VEVENT
DTSTART;TZID=America/Chicago:20250606T150000
DTEND;TZID=America/Chicago:20250606T210000
DTSTAMP:20260424T093013
CREATED:20250519T172641Z
LAST-MODIFIED:20250519T172641Z
UID:6109-1749222000-1749243600@castlewoodhoa.com
SUMMARY:Pavilion Reserved
DESCRIPTION:
URL:https://castlewoodhoa.com/event/pavilion-reserved-48/
LOCATION:Pavilion\, 3420 Fairfield Lane\, Highland Village\, TX\, 75077\, United States
CATEGORIES:Pavilion Reservation
END:VEVENT
BEGIN:VEVENT
DTSTART;TZID=America/Chicago:20250609T050000
DTEND;TZID=America/Chicago:20250609T100000
DTSTAMP:20260424T093013
CREATED:20241016T194044Z
LAST-MODIFIED:20241016T194044Z
UID:5592-1749445200-1749463200@castlewoodhoa.com
SUMMARY:NO RESERVATIONS
DESCRIPTION:
URL:https://castlewoodhoa.com/event/no-reservations-233/
LOCATION:Castlewood HOA Clubhouse\, 3420 Fairfield Lane\, Highland Village\, TX\, 75077\, United States
CATEGORIES:HOA BOD Administration
END:VEVENT
END:VCALENDAR