BEGIN:VCALENDAR
VERSION:2.0
PRODID:-//Castlewood Homeowners Association - ECPv6.15.17//NONSGML v1.0//EN
CALSCALE:GREGORIAN
METHOD:PUBLISH
X-ORIGINAL-URL:https://castlewoodhoa.com
X-WR-CALDESC:Events for Castlewood Homeowners Association
REFRESH-INTERVAL;VALUE=DURATION:PT1H
X-Robots-Tag:noindex
X-PUBLISHED-TTL:PT1H
BEGIN:VTIMEZONE
TZID:America/Chicago
BEGIN:DAYLIGHT
TZOFFSETFROM:-0600
TZOFFSETTO:-0500
TZNAME:CDT
DTSTART:20250309T080000
END:DAYLIGHT
BEGIN:STANDARD
TZOFFSETFROM:-0500
TZOFFSETTO:-0600
TZNAME:CST
DTSTART:20251102T070000
END:STANDARD
BEGIN:DAYLIGHT
TZOFFSETFROM:-0600
TZOFFSETTO:-0500
TZNAME:CDT
DTSTART:20260308T080000
END:DAYLIGHT
BEGIN:STANDARD
TZOFFSETFROM:-0500
TZOFFSETTO:-0600
TZNAME:CST
DTSTART:20261101T070000
END:STANDARD
BEGIN:DAYLIGHT
TZOFFSETFROM:-0600
TZOFFSETTO:-0500
TZNAME:CDT
DTSTART:20270314T080000
END:DAYLIGHT
BEGIN:STANDARD
TZOFFSETFROM:-0500
TZOFFSETTO:-0600
TZNAME:CST
DTSTART:20271107T070000
END:STANDARD
END:VTIMEZONE
BEGIN:VEVENT
DTSTART;TZID=America/Chicago:20260609T070000
DTEND;TZID=America/Chicago:20260609T103000
DTSTAMP:20260423T191549
CREATED:20260304T191852Z
LAST-MODIFIED:20260304T191852Z
UID:6799-1780988400-1781001000@castlewoodhoa.com
SUMMARY:Swim Team Practice
DESCRIPTION:
URL:https://castlewoodhoa.com/event/swim-team-practice-11/
END:VEVENT
BEGIN:VEVENT
DTSTART;VALUE=DATE:20260610
DTEND;VALUE=DATE:20260611
DTSTAMP:20260423T191549
CREATED:20260304T185844Z
LAST-MODIFIED:20260304T190202Z
UID:6763-1781049600-1781135999@castlewoodhoa.com
SUMMARY:Swim Team - Pavilion Reserved
DESCRIPTION:
URL:https://castlewoodhoa.com/event/swim-team-pavilion-reserved/
CATEGORIES:Pavilion Reservation
END:VEVENT
BEGIN:VEVENT
DTSTART;VALUE=DATE:20260610
DTEND;VALUE=DATE:20260611
DTSTAMP:20260423T191549
CREATED:20260304T185920Z
LAST-MODIFIED:20260304T185928Z
UID:6765-1781049600-1781135999@castlewoodhoa.com
SUMMARY:Swim Team - Clubhouse Reserved
DESCRIPTION:
URL:https://castlewoodhoa.com/event/swim-team-clubhouse-reserved-2/
CATEGORIES:Clubhouse Reservation
END:VEVENT
BEGIN:VEVENT
DTSTART;TZID=America/Chicago:20260610T070000
DTEND;TZID=America/Chicago:20260610T103000
DTSTAMP:20260423T191549
CREATED:20260304T191918Z
LAST-MODIFIED:20260304T191918Z
UID:6801-1781074800-1781087400@castlewoodhoa.com
SUMMARY:Swim Team Practice
DESCRIPTION:
URL:https://castlewoodhoa.com/event/swim-team-practice-12/
END:VEVENT
BEGIN:VEVENT
DTSTART;TZID=America/Chicago:20260611T070000
DTEND;TZID=America/Chicago:20260611T103000
DTSTAMP:20260423T191549
CREATED:20260304T192041Z
LAST-MODIFIED:20260304T192041Z
UID:6805-1781161200-1781173800@castlewoodhoa.com
SUMMARY:Swim Team Practice
DESCRIPTION:
URL:https://castlewoodhoa.com/event/swim-team-practice-14/
END:VEVENT
BEGIN:VEVENT
DTSTART;VALUE=DATE:20260612
DTEND;VALUE=DATE:20260613
DTSTAMP:20260423T191549
CREATED:20260309T141906Z
LAST-MODIFIED:20260309T141906Z
UID:6838-1781222400-1781308799@castlewoodhoa.com
SUMMARY:Clubhouse Reserved
DESCRIPTION:
URL:https://castlewoodhoa.com/event/clubhouse-reserved-728/
CATEGORIES:Clubhouse Reservation
END:VEVENT
BEGIN:VEVENT
DTSTART;TZID=America/Chicago:20260612T070000
DTEND;TZID=America/Chicago:20260612T103000
DTSTAMP:20260423T191549
CREATED:20260304T192059Z
LAST-MODIFIED:20260304T192059Z
UID:6807-1781247600-1781260200@castlewoodhoa.com
SUMMARY:Swim Team Practice
DESCRIPTION:
URL:https://castlewoodhoa.com/event/swim-team-practice-15/
END:VEVENT
BEGIN:VEVENT
DTSTART;VALUE=DATE:20260613
DTEND;VALUE=DATE:20260614
DTSTAMP:20260423T191549
CREATED:20251208T201922Z
LAST-MODIFIED:20251208T201922Z
UID:6648-1781308800-1781395199@castlewoodhoa.com
SUMMARY:Clubhouse Reserved
DESCRIPTION:
URL:https://castlewoodhoa.com/event/clubhouse-reserved-691/
CATEGORIES:Clubhouse Reservation
END:VEVENT
BEGIN:VEVENT
DTSTART;TZID=America/Chicago:20260615T050000
DTEND;TZID=America/Chicago:20260615T100000
DTSTAMP:20260423T191549
CREATED:20251201T200635Z
LAST-MODIFIED:20251201T200635Z
UID:6517-1781499600-1781517600@castlewoodhoa.com
SUMMARY:NO RESERVATIONS
DESCRIPTION:
URL:https://castlewoodhoa.com/event/no-reservations-352/
CATEGORIES:HOA BOD Administration
END:VEVENT
BEGIN:VEVENT
DTSTART;TZID=America/Chicago:20260616T070000
DTEND;TZID=America/Chicago:20260616T103000
DTSTAMP:20260423T191549
CREATED:20260304T192119Z
LAST-MODIFIED:20260304T192119Z
UID:6809-1781593200-1781605800@castlewoodhoa.com
SUMMARY:Swim Team Practice
DESCRIPTION:
URL:https://castlewoodhoa.com/event/swim-team-practice-16/
END:VEVENT
BEGIN:VEVENT
DTSTART;TZID=America/Chicago:20260616T180000
DTEND;TZID=America/Chicago:20260616T210000
DTSTAMP:20260423T191549
CREATED:20251201T180503Z
LAST-MODIFIED:20251201T180503Z
UID:6419-1781632800-1781643600@castlewoodhoa.com
SUMMARY:BOD Meeting
DESCRIPTION:
URL:https://castlewoodhoa.com/event/bod-meeting-33/
CATEGORIES:HOA BOD Administration
END:VEVENT
BEGIN:VEVENT
DTSTART;VALUE=DATE:20260617
DTEND;VALUE=DATE:20260618
DTSTAMP:20260423T191549
CREATED:20260309T141019Z
LAST-MODIFIED:20260309T141019Z
UID:6834-1781654400-1781740799@castlewoodhoa.com
SUMMARY:Swim Team – Pavilion Reserved
DESCRIPTION:
URL:https://castlewoodhoa.com/event/swim-team-pavilion-reserved-3/
CATEGORIES:Pavilion Reservation
END:VEVENT
BEGIN:VEVENT
DTSTART;VALUE=DATE:20260617
DTEND;VALUE=DATE:20260618
DTSTAMP:20260423T191549
CREATED:20260309T141049Z
LAST-MODIFIED:20260309T141049Z
UID:6836-1781654400-1781740799@castlewoodhoa.com
SUMMARY:Swim Team – Clubhouse Reserved
DESCRIPTION:
URL:https://castlewoodhoa.com/event/swim-team-clubhouse-reserved-3/
CATEGORIES:Clubhouse Reservation
END:VEVENT
BEGIN:VEVENT
DTSTART;TZID=America/Chicago:20260617T070000
DTEND;TZID=America/Chicago:20260617T103000
DTSTAMP:20260423T191549
CREATED:20260304T192142Z
LAST-MODIFIED:20260304T192142Z
UID:6811-1781679600-1781692200@castlewoodhoa.com
SUMMARY:Swim Team Practice
DESCRIPTION:
URL:https://castlewoodhoa.com/event/swim-team-practice-17/
END:VEVENT
BEGIN:VEVENT
DTSTART;TZID=America/Chicago:20260618T070000
DTEND;TZID=America/Chicago:20260618T103000
DTSTAMP:20260423T191549
CREATED:20260304T192225Z
LAST-MODIFIED:20260304T192225Z
UID:6815-1781766000-1781778600@castlewoodhoa.com
SUMMARY:Swim Team Practice
DESCRIPTION:
URL:https://castlewoodhoa.com/event/swim-team-practice-19/
END:VEVENT
BEGIN:VEVENT
DTSTART;TZID=America/Chicago:20260618T160000
DTEND;TZID=America/Chicago:20260618T233000
DTSTAMP:20260423T191549
CREATED:20251201T200657Z
LAST-MODIFIED:20251201T200657Z
UID:6519-1781798400-1781825400@castlewoodhoa.com
SUMMARY:NO RESERVATIONS
DESCRIPTION:
URL:https://castlewoodhoa.com/event/no-reservations-353/
CATEGORIES:HOA BOD Administration
END:VEVENT
BEGIN:VEVENT
DTSTART;TZID=America/Chicago:20260619T070000
DTEND;TZID=America/Chicago:20260619T103000
DTSTAMP:20260423T191549
CREATED:20260304T192244Z
LAST-MODIFIED:20260304T192244Z
UID:6817-1781852400-1781865000@castlewoodhoa.com
SUMMARY:Swim Team Practice
DESCRIPTION:
URL:https://castlewoodhoa.com/event/swim-team-practice-20/
END:VEVENT
BEGIN:VEVENT
DTSTART;TZID=America/Chicago:20260622T050000
DTEND;TZID=America/Chicago:20260622T100000
DTSTAMP:20260423T191549
CREATED:20251201T200720Z
LAST-MODIFIED:20251201T200720Z
UID:6521-1782104400-1782122400@castlewoodhoa.com
SUMMARY:NO RESERVATIONS
DESCRIPTION:
URL:https://castlewoodhoa.com/event/no-reservations-354/
CATEGORIES:HOA BOD Administration
END:VEVENT
BEGIN:VEVENT
DTSTART;TZID=America/Chicago:20260623T070000
DTEND;TZID=America/Chicago:20260623T103000
DTSTAMP:20260423T191549
CREATED:20260304T192307Z
LAST-MODIFIED:20260304T192307Z
UID:6819-1782198000-1782210600@castlewoodhoa.com
SUMMARY:Swim Team Practice
DESCRIPTION:
URL:https://castlewoodhoa.com/event/swim-team-practice-21/
END:VEVENT
BEGIN:VEVENT
DTSTART;TZID=America/Chicago:20260624T070000
DTEND;TZID=America/Chicago:20260624T103000
DTSTAMP:20260423T191549
CREATED:20260304T192325Z
LAST-MODIFIED:20260304T192325Z
UID:6821-1782284400-1782297000@castlewoodhoa.com
SUMMARY:Swim Team Practice
DESCRIPTION:
URL:https://castlewoodhoa.com/event/swim-team-practice-22/
END:VEVENT
BEGIN:VEVENT
DTSTART;TZID=America/Chicago:20260625T070000
DTEND;TZID=America/Chicago:20260625T103000
DTSTAMP:20260423T191549
CREATED:20260304T192346Z
LAST-MODIFIED:20260304T192346Z
UID:6823-1782370800-1782383400@castlewoodhoa.com
SUMMARY:Swim Team Practice
DESCRIPTION:
URL:https://castlewoodhoa.com/event/swim-team-practice-23/
END:VEVENT
BEGIN:VEVENT
DTSTART;TZID=America/Chicago:20260625T160000
DTEND;TZID=America/Chicago:20260625T233000
DTSTAMP:20260423T191549
CREATED:20251201T200742Z
LAST-MODIFIED:20251201T200742Z
UID:6523-1782403200-1782430200@castlewoodhoa.com
SUMMARY:NO RESERVATIONS
DESCRIPTION:
URL:https://castlewoodhoa.com/event/no-reservations-355/
CATEGORIES:HOA BOD Administration
END:VEVENT
BEGIN:VEVENT
DTSTART;VALUE=DATE:20260626
DTEND;VALUE=DATE:20260627
DTSTAMP:20260423T191549
CREATED:20260114T233510Z
LAST-MODIFIED:20260114T233510Z
UID:6693-1782432000-1782518399@castlewoodhoa.com
SUMMARY:Clubhouse Reserved
DESCRIPTION:
URL:https://castlewoodhoa.com/event/clubhouse-reserved-703/
CATEGORIES:Clubhouse Reservation
END:VEVENT
BEGIN:VEVENT
DTSTART;TZID=America/Chicago:20260626T070000
DTEND;TZID=America/Chicago:20260626T103000
DTSTAMP:20260423T191549
CREATED:20260304T192405Z
LAST-MODIFIED:20260304T192405Z
UID:6825-1782457200-1782469800@castlewoodhoa.com
SUMMARY:Swim Team Practice
DESCRIPTION:
URL:https://castlewoodhoa.com/event/swim-team-practice-24/
END:VEVENT
BEGIN:VEVENT
DTSTART;VALUE=DATE:20260628
DTEND;VALUE=DATE:20260629
DTSTAMP:20260423T191549
CREATED:20260304T190433Z
LAST-MODIFIED:20260304T190433Z
UID:6773-1782604800-1782691199@castlewoodhoa.com
SUMMARY:Swim Team - Pavilion Reserved
DESCRIPTION:
URL:https://castlewoodhoa.com/event/swim-team-pavilion-reserved-2/
CATEGORIES:Pavilion Reservation
END:VEVENT
BEGIN:VEVENT
DTSTART;VALUE=DATE:20260628
DTEND;VALUE=DATE:20260629
DTSTAMP:20260423T191549
CREATED:20260304T190500Z
LAST-MODIFIED:20260304T190500Z
UID:6775-1782604800-1782691199@castlewoodhoa.com
SUMMARY:Swim Team - Clubhouse Reserved
DESCRIPTION:
URL:https://castlewoodhoa.com/event/swim-team-clubhouse-reserved-4/
CATEGORIES:Clubhouse Reservation
END:VEVENT
BEGIN:VEVENT
DTSTART;TZID=America/Chicago:20260628T130000
DTEND;TZID=America/Chicago:20260628T220000
DTSTAMP:20260423T191549
CREATED:20260304T190653Z
LAST-MODIFIED:20260304T190719Z
UID:6777-1782651600-1782684000@castlewoodhoa.com
SUMMARY:Swim Team End of Season Party
DESCRIPTION:
URL:https://castlewoodhoa.com/event/swim-team-end-of-season-party-3/
END:VEVENT
BEGIN:VEVENT
DTSTART;TZID=America/Chicago:20260629T050000
DTEND;TZID=America/Chicago:20260629T100000
DTSTAMP:20260423T191549
CREATED:20251201T200809Z
LAST-MODIFIED:20251201T200809Z
UID:6525-1782709200-1782727200@castlewoodhoa.com
SUMMARY:NO RESERVATIONS
DESCRIPTION:
URL:https://castlewoodhoa.com/event/no-reservations-356/
CATEGORIES:HOA BOD Administration
END:VEVENT
BEGIN:VEVENT
DTSTART;TZID=America/Chicago:20260702T160000
DTEND;TZID=America/Chicago:20260702T233000
DTSTAMP:20260423T191549
CREATED:20251201T201014Z
LAST-MODIFIED:20251201T201014Z
UID:6527-1783008000-1783035000@castlewoodhoa.com
SUMMARY:NO RESERVATIONS
DESCRIPTION:
URL:https://castlewoodhoa.com/event/no-reservations-357/
CATEGORIES:HOA BOD Administration
END:VEVENT
BEGIN:VEVENT
DTSTART;VALUE=DATE:20260704
DTEND;VALUE=DATE:20260705
DTSTAMP:20260423T191549
CREATED:20251201T185309Z
LAST-MODIFIED:20251201T185309Z
UID:6435-1783123200-1783209599@castlewoodhoa.com
SUMMARY:July 4th Parade
DESCRIPTION:
URL:https://castlewoodhoa.com/event/july-4th-parade/
CATEGORIES:HOA Sponsored Event
END:VEVENT
END:VCALENDAR