BEGIN:VCALENDAR
VERSION:2.0
PRODID:-//Castlewood Homeowners Association - ECPv6.15.17//NONSGML v1.0//EN
CALSCALE:GREGORIAN
METHOD:PUBLISH
X-WR-CALNAME:Castlewood Homeowners Association
X-ORIGINAL-URL:https://castlewoodhoa.com
X-WR-CALDESC:Events for Castlewood Homeowners Association
REFRESH-INTERVAL;VALUE=DURATION:PT1H
X-Robots-Tag:noindex
X-PUBLISHED-TTL:PT1H
BEGIN:VTIMEZONE
TZID:America/Chicago
BEGIN:DAYLIGHT
TZOFFSETFROM:-0600
TZOFFSETTO:-0500
TZNAME:CDT
DTSTART:20200308T080000
END:DAYLIGHT
BEGIN:STANDARD
TZOFFSETFROM:-0500
TZOFFSETTO:-0600
TZNAME:CST
DTSTART:20201101T070000
END:STANDARD
BEGIN:DAYLIGHT
TZOFFSETFROM:-0600
TZOFFSETTO:-0500
TZNAME:CDT
DTSTART:20210314T080000
END:DAYLIGHT
BEGIN:STANDARD
TZOFFSETFROM:-0500
TZOFFSETTO:-0600
TZNAME:CST
DTSTART:20211107T070000
END:STANDARD
BEGIN:DAYLIGHT
TZOFFSETFROM:-0600
TZOFFSETTO:-0500
TZNAME:CDT
DTSTART:20220313T080000
END:DAYLIGHT
BEGIN:STANDARD
TZOFFSETFROM:-0500
TZOFFSETTO:-0600
TZNAME:CST
DTSTART:20221106T070000
END:STANDARD
END:VTIMEZONE
BEGIN:VEVENT
DTSTART;TZID=America/Chicago:20210120T190000
DTEND;TZID=America/Chicago:20210120T200000
DTSTAMP:20260424T185515
CREATED:20210118T152200Z
LAST-MODIFIED:20210120T200842Z
UID:201-1611169200-1611172800@castlewoodhoa.com
SUMMARY:HOA Board Meeting
DESCRIPTION:Meeting Information \nWhen: Wednesday\, January 20\, 2021\nTime: 7:00 p.m. Teleconference meeting\n \nDue to COVID restrictions\, meetings are currently being held via Zoom. If you would like to attend but did not receive an email link please complete the form below to have one sent. \n \nItems that may be discussed in executive session include actions involving personnel\, pending or threatened litigation\, contract negotiations\, enforcement actions\, confidential communications with the Association attorney\, matters involving invasion of privacy of owners\, and other matters that are confidential by request of an affected party and agreement of the Board. Please see here for your agenda.\n \nPlease enable JavaScript in your browser to complete this form.Name *FirstLastEmail *Home Address *Additional Comment or MessageSubmit
URL:https://castlewoodhoa.com/event/hoa-board-meeting/
LOCATION:Castlewood HOA Clubhouse\, 3420 Fairfield Lane\, Highland Village\, TX\, 75077\, United States
CATEGORIES:HOA BOD Administration
END:VEVENT
END:VCALENDAR