BEGIN:VCALENDAR
VERSION:2.0
PRODID:-//Castlewood Homeowners Association - ECPv6.15.17//NONSGML v1.0//EN
CALSCALE:GREGORIAN
METHOD:PUBLISH
X-WR-CALNAME:Castlewood Homeowners Association
X-ORIGINAL-URL:https://castlewoodhoa.com
X-WR-CALDESC:Events for Castlewood Homeowners Association
REFRESH-INTERVAL;VALUE=DURATION:PT1H
X-Robots-Tag:noindex
X-PUBLISHED-TTL:PT1H
BEGIN:VTIMEZONE
TZID:America/Chicago
BEGIN:DAYLIGHT
TZOFFSETFROM:-0600
TZOFFSETTO:-0500
TZNAME:CDT
DTSTART:20200308T080000
END:DAYLIGHT
BEGIN:STANDARD
TZOFFSETFROM:-0500
TZOFFSETTO:-0600
TZNAME:CST
DTSTART:20201101T070000
END:STANDARD
BEGIN:DAYLIGHT
TZOFFSETFROM:-0600
TZOFFSETTO:-0500
TZNAME:CDT
DTSTART:20210314T080000
END:DAYLIGHT
BEGIN:STANDARD
TZOFFSETFROM:-0500
TZOFFSETTO:-0600
TZNAME:CST
DTSTART:20211107T070000
END:STANDARD
BEGIN:DAYLIGHT
TZOFFSETFROM:-0600
TZOFFSETTO:-0500
TZNAME:CDT
DTSTART:20220313T080000
END:DAYLIGHT
BEGIN:STANDARD
TZOFFSETFROM:-0500
TZOFFSETTO:-0600
TZNAME:CST
DTSTART:20221106T070000
END:STANDARD
END:VTIMEZONE
BEGIN:VEVENT
DTSTART;TZID=America/Chicago:20210609T140000
DTEND;TZID=America/Chicago:20210609T180000
DTSTAMP:20260424T080257
CREATED:20210505T140441Z
LAST-MODIFIED:20210505T163012Z
UID:1700-1623247200-1623261600@castlewoodhoa.com
SUMMARY:Castlewood Dragons Event
DESCRIPTION:
URL:https://castlewoodhoa.com/event/castlewood-dragons-event/
LOCATION:Pavilion\, 3420 Fairfield Lane\, Highland Village\, TX\, 75077\, United States
CATEGORIES:HOA Sponsored Event
END:VEVENT
BEGIN:VEVENT
DTSTART;TZID=America/Chicago:20210608T180000
DTEND;TZID=America/Chicago:20210608T220000
DTSTAMP:20260424T080257
CREATED:20210607T144653Z
LAST-MODIFIED:20210607T144653Z
UID:1809-1623175200-1623189600@castlewoodhoa.com
SUMMARY:Clubhouse Reserved
DESCRIPTION:
URL:https://castlewoodhoa.com/event/clubhouse-reserved-79/
LOCATION:Castlewood HOA Clubhouse\, 3420 Fairfield Lane\, Highland Village\, TX\, 75077\, United States
CATEGORIES:Clubhouse Reservation
END:VEVENT
BEGIN:VEVENT
DTSTART;VALUE=DATE:20210607
DTEND;VALUE=DATE:20210608
DTSTAMP:20260424T080257
CREATED:20210513T130317Z
LAST-MODIFIED:20210513T130317Z
UID:1740-1623024000-1623110399@castlewoodhoa.com
SUMMARY:Clubhouse Maintenance
DESCRIPTION:
URL:https://castlewoodhoa.com/event/clubhouse-maintenance-2/
LOCATION:Castlewood HOA Clubhouse\, 3420 Fairfield Lane\, Highland Village\, TX\, 75077\, United States
CATEGORIES:HOA BOD Administration
END:VEVENT
BEGIN:VEVENT
DTSTART;VALUE=DATE:20210605
DTEND;VALUE=DATE:20210607
DTSTAMP:20260424T080257
CREATED:20210416T005941Z
LAST-MODIFIED:20210416T005941Z
UID:1621-1622851200-1623023999@castlewoodhoa.com
SUMMARY:Clubhouse Reserved
DESCRIPTION:
URL:https://castlewoodhoa.com/event/clubhouse-reserved-65/
LOCATION:Castlewood HOA Clubhouse\, 3420 Fairfield Lane\, Highland Village\, TX\, 75077\, United States
CATEGORIES:Clubhouse Reservation
END:VEVENT
BEGIN:VEVENT
DTSTART;TZID=America/Chicago:20210604T170000
DTEND;TZID=America/Chicago:20210604T230000
DTSTAMP:20260424T080257
CREATED:20210219T150929Z
LAST-MODIFIED:20210219T150929Z
UID:1351-1622826000-1622847600@castlewoodhoa.com
SUMMARY:Clubhouse Reserved
DESCRIPTION:
URL:https://castlewoodhoa.com/event/clubhouse-reserved-9/
LOCATION:Castlewood HOA Clubhouse\, 3420 Fairfield Lane\, Highland Village\, TX\, 75077\, United States
CATEGORIES:Clubhouse Reservation
END:VEVENT
BEGIN:VEVENT
DTSTART;VALUE=DATE:20210604
DTEND;VALUE=DATE:20210605
DTSTAMP:20260424T080257
CREATED:20210603T145911Z
LAST-MODIFIED:20210603T145911Z
UID:1799-1622764800-1622851199@castlewoodhoa.com
SUMMARY:Office Closed
DESCRIPTION:
URL:https://castlewoodhoa.com/event/office-closed-16/
LOCATION:Castlewood HOA Clubhouse\, 3420 Fairfield Lane\, Highland Village\, TX\, 75077\, United States
CATEGORIES:HOA BOD Administration
END:VEVENT
BEGIN:VEVENT
DTSTART;TZID=America/Chicago:20210602T160000
DTEND;TZID=America/Chicago:20210602T180000
DTSTAMP:20260424T080257
CREATED:20210528T131036Z
LAST-MODIFIED:20210528T131036Z
UID:1780-1622649600-1622656800@castlewoodhoa.com
SUMMARY:Clubhouse Reserved
DESCRIPTION:
URL:https://castlewoodhoa.com/event/clubhouse-reserved-59/
LOCATION:Castlewood HOA Clubhouse\, 3420 Fairfield Lane\, Highland Village\, TX\, 75077\, United States
CATEGORIES:Clubhouse Reservation
END:VEVENT
BEGIN:VEVENT
DTSTART;TZID=America/Chicago:20210602T090000
DTEND;TZID=America/Chicago:20210602T150000
DTSTAMP:20260424T080257
CREATED:20210512T231526Z
LAST-MODIFIED:20210512T231526Z
UID:1736-1622624400-1622646000@castlewoodhoa.com
SUMMARY:Clubhouse Reserved
DESCRIPTION:
URL:https://castlewoodhoa.com/event/clubhouse-reserved-75/
LOCATION:Castlewood HOA Clubhouse\, 3420 Fairfield Lane\, Highland Village\, TX\, 75077\, United States
CATEGORIES:Clubhouse Reservation
END:VEVENT
BEGIN:VEVENT
DTSTART;TZID=America/Chicago:20210601T180000
DTEND;TZID=America/Chicago:20210601T230000
DTSTAMP:20260424T080257
CREATED:20210408T141742Z
LAST-MODIFIED:20210408T141742Z
UID:1593-1622570400-1622588400@castlewoodhoa.com
SUMMARY:Clubhouse Reserved
DESCRIPTION:
URL:https://castlewoodhoa.com/event/clubhouse-reserved-63/
LOCATION:Castlewood HOA Clubhouse\, 3420 Fairfield Lane\, Highland Village\, TX\, 75077\, United States
CATEGORIES:Clubhouse Reservation
END:VEVENT
BEGIN:VEVENT
DTSTART;VALUE=DATE:20210531
DTEND;VALUE=DATE:20210601
DTSTAMP:20260424T080257
CREATED:20210329T175244Z
LAST-MODIFIED:20210329T175244Z
UID:1518-1622419200-1622505599@castlewoodhoa.com
SUMMARY:Office Closed
DESCRIPTION:
URL:https://castlewoodhoa.com/event/office-closed-5/
LOCATION:Castlewood HOA Clubhouse\, 3420 Fairfield Lane\, Highland Village\, TX\, 75077\, United States
CATEGORIES:HOA BOD Administration
END:VEVENT
BEGIN:VEVENT
DTSTART;VALUE=DATE:20210530
DTEND;VALUE=DATE:20210531
DTSTAMP:20260424T080257
CREATED:20210330T212319Z
LAST-MODIFIED:20210330T212319Z
UID:1536-1622332800-1622419199@castlewoodhoa.com
SUMMARY:Clubhouse Reserved
DESCRIPTION:
URL:https://castlewoodhoa.com/event/clubhouse-reserved-16/
LOCATION:Castlewood HOA Clubhouse\, 3420 Fairfield Lane\, Highland Village\, TX\, 75077\, United States
CATEGORIES:Clubhouse Reservation
END:VEVENT
BEGIN:VEVENT
DTSTART;VALUE=DATE:20210529
DTEND;VALUE=DATE:20210530
DTSTAMP:20260424T080257
CREATED:20210122T194704Z
LAST-MODIFIED:20210330T212244Z
UID:585-1622246400-1622332799@castlewoodhoa.com
SUMMARY:Reserved Community Event
DESCRIPTION:
URL:https://castlewoodhoa.com/event/hoa-bod-meeting-3/
LOCATION:Castlewood HOA Clubhouse\, 3420 Fairfield Lane\, Highland Village\, TX\, 75077\, United States
CATEGORIES:Community Event
END:VEVENT
BEGIN:VEVENT
DTSTART;VALUE=DATE:20210528
DTEND;VALUE=DATE:20210529
DTSTAMP:20260424T080257
CREATED:20210420T164651Z
LAST-MODIFIED:20210420T164651Z
UID:1642-1622160000-1622246399@castlewoodhoa.com
SUMMARY:Office Closed
DESCRIPTION:
URL:https://castlewoodhoa.com/event/office-closed-13/
LOCATION:Castlewood HOA Clubhouse\, 3420 Fairfield Lane\, Highland Village\, TX\, 75077\, United States
CATEGORIES:HOA BOD Administration
END:VEVENT
BEGIN:VEVENT
DTSTART;TZID=America/Chicago:20210527T170000
DTEND;TZID=America/Chicago:20210527T193000
DTSTAMP:20260424T080257
CREATED:20210211T154259Z
LAST-MODIFIED:20210416T205804Z
UID:1293-1622134800-1622143800@castlewoodhoa.com
SUMMARY:Castlewood Dragons Evening Swim
DESCRIPTION:
URL:https://castlewoodhoa.com/event/castlewood-dragons-evening-swim-4/
LOCATION:Pavilion\, 3420 Fairfield Lane\, Highland Village\, TX\, 75077\, United States
CATEGORIES:HOA Sponsored Event
END:VEVENT
BEGIN:VEVENT
DTSTART;VALUE=DATE:20210527
DTEND;VALUE=DATE:20210528
DTSTAMP:20260424T080257
CREATED:20210420T164616Z
LAST-MODIFIED:20210420T164616Z
UID:1640-1622073600-1622159999@castlewoodhoa.com
SUMMARY:Office Closed
DESCRIPTION:
URL:https://castlewoodhoa.com/event/office-closed-12/
LOCATION:Castlewood HOA Clubhouse\, 3420 Fairfield Lane\, Highland Village\, TX\, 75077\, United States
CATEGORIES:HOA BOD Administration
END:VEVENT
BEGIN:VEVENT
DTSTART;VALUE=DATE:20210526
DTEND;VALUE=DATE:20210527
DTSTAMP:20260424T080257
CREATED:20210519T190852Z
LAST-MODIFIED:20210519T190852Z
UID:1764-1621987200-1622073599@castlewoodhoa.com
SUMMARY:Office Closed
DESCRIPTION:
URL:https://castlewoodhoa.com/event/office-closed-15/
LOCATION:Castlewood HOA Clubhouse\, 3420 Fairfield Lane\, Highland Village\, TX\, 75077\, United States
CATEGORIES:HOA BOD Administration
END:VEVENT
BEGIN:VEVENT
DTSTART;VALUE=DATE:20210526
DTEND;VALUE=DATE:20210527
DTSTAMP:20260424T080257
CREATED:20210519T185447Z
LAST-MODIFIED:20210519T185447Z
UID:1762-1621987200-1622073599@castlewoodhoa.com
SUMMARY:Clubhouse Reserved
DESCRIPTION:
URL:https://castlewoodhoa.com/event/clubhouse-reserved-71/
LOCATION:Castlewood HOA Clubhouse\, 3420 Fairfield Lane\, Highland Village\, TX\, 75077\, United States
CATEGORIES:Clubhouse Reservation
END:VEVENT
BEGIN:VEVENT
DTSTART;TZID=America/Chicago:20210525T170000
DTEND;TZID=America/Chicago:20210525T193000
DTSTAMP:20260424T080257
CREATED:20210211T154221Z
LAST-MODIFIED:20210416T205905Z
UID:1291-1621962000-1621971000@castlewoodhoa.com
SUMMARY:Castlewood Dragons Evening Swim
DESCRIPTION:
URL:https://castlewoodhoa.com/event/castlewood-dragons-evening-swim-3/
LOCATION:Pavilion\, 3420 Fairfield Lane\, Highland Village\, TX\, 75077\, United States
CATEGORIES:HOA Sponsored Event
END:VEVENT
BEGIN:VEVENT
DTSTART;VALUE=DATE:20210523
DTEND;VALUE=DATE:20210524
DTSTAMP:20260424T080257
CREATED:20210518T162733Z
LAST-MODIFIED:20210518T162733Z
UID:1757-1621728000-1621814399@castlewoodhoa.com
SUMMARY:Pavilion Reserved
DESCRIPTION:
URL:https://castlewoodhoa.com/event/pavilion-reserved-6/
LOCATION:Pavilion\, 3420 Fairfield Lane\, Highland Village\, TX\, 75077\, United States
CATEGORIES:Pavilion Reservation
END:VEVENT
BEGIN:VEVENT
DTSTART;VALUE=DATE:20210523
DTEND;VALUE=DATE:20210524
DTSTAMP:20260424T080257
CREATED:20210419T135008Z
LAST-MODIFIED:20210503T130230Z
UID:1629-1621728000-1621814399@castlewoodhoa.com
SUMMARY:Clubhouse Reserved
DESCRIPTION:
URL:https://castlewoodhoa.com/event/pending-reservation-11/
LOCATION:Castlewood HOA Clubhouse\, 3420 Fairfield Lane\, Highland Village\, TX\, 75077\, United States
CATEGORIES:Clubhouse Reservation
END:VEVENT
BEGIN:VEVENT
DTSTART;TZID=America/Chicago:20210522T150000
DTEND;TZID=America/Chicago:20210522T220000
DTSTAMP:20260424T080257
CREATED:20210429T213845Z
LAST-MODIFIED:20210429T213845Z
UID:1671-1621695600-1621720800@castlewoodhoa.com
SUMMARY:Pavilion Reserved
DESCRIPTION:
URL:https://castlewoodhoa.com/event/pavilion-reserved-3/
LOCATION:Pavilion\, 3420 Fairfield Lane\, Highland Village\, TX\, 75077\, United States
CATEGORIES:Pavilion Reservation
END:VEVENT
BEGIN:VEVENT
DTSTART;VALUE=DATE:20210522
DTEND;VALUE=DATE:20210523
DTSTAMP:20260424T080257
CREATED:20210329T140550Z
LAST-MODIFIED:20210405T132415Z
UID:1508-1621641600-1621727999@castlewoodhoa.com
SUMMARY:Clubhouse Reserved
DESCRIPTION:
URL:https://castlewoodhoa.com/event/pending-reservation-5/
LOCATION:Castlewood HOA Clubhouse\, 3420 Fairfield Lane\, Highland Village\, TX\, 75077\, United States
CATEGORIES:Clubhouse Reservation
END:VEVENT
BEGIN:VEVENT
DTSTART;TZID=America/Chicago:20210521T150000
DTEND;TZID=America/Chicago:20210521T230000
DTSTAMP:20260424T080257
CREATED:20210220T223915Z
LAST-MODIFIED:20210517T151235Z
UID:1382-1621609200-1621638000@castlewoodhoa.com
SUMMARY:Clubhouse Reserved
DESCRIPTION:
URL:https://castlewoodhoa.com/event/clubhouse-reserved-55/
LOCATION:Castlewood HOA Clubhouse\, 3420 Fairfield Lane\, Highland Village\, TX\, 75077\, United States
CATEGORIES:Clubhouse Reservation
END:VEVENT
BEGIN:VEVENT
DTSTART;TZID=America/Chicago:20210521T150000
DTEND;TZID=America/Chicago:20210521T210000
DTSTAMP:20260424T080257
CREATED:20210429T214454Z
LAST-MODIFIED:20210429T214454Z
UID:1673-1621609200-1621630800@castlewoodhoa.com
SUMMARY:Pavilion Reserved
DESCRIPTION:
URL:https://castlewoodhoa.com/event/pavilion-reserved-4/
LOCATION:Pavilion\, 3420 Fairfield Lane\, Highland Village\, TX\, 75077\, United States
CATEGORIES:Pavilion Reservation
END:VEVENT
BEGIN:VEVENT
DTSTART;TZID=America/Chicago:20210519T190000
DTEND;TZID=America/Chicago:20210519T200000
DTSTAMP:20260424T080257
CREATED:20210122T220656Z
LAST-MODIFIED:20210125T184810Z
UID:673-1621450800-1621454400@castlewoodhoa.com
SUMMARY:HOA BOD Meeting
DESCRIPTION:Meeting Information \nWhen: Wednesday\, May 19\, 2021\nTime: 7:00 p.m. Teleconference meeting\n \nDue to COVID restrictions\, meetings are currently being held via Zoom. If you would like to attend but did not receive an email link please complete the form below to have one sent. \n \nItems that may be discussed in executive session include actions involving personnel\, pending or threatened litigation\, contract negotiations\, enforcement actions\, confidential communications with the Association attorney\, matters involving invasion of privacy of owners\, and other matters that are confidential by request of an affected party and agreement of the Board. Please see here for your agenda.\n \nPlease enable JavaScript in your browser to complete this form.Name *FirstLastEmail *Home Address *Additional Comment or MessageSubmit
URL:https://castlewoodhoa.com/event/hoa-bod-meeting-10/
LOCATION:Castlewood HOA Clubhouse\, 3420 Fairfield Lane\, Highland Village\, TX\, 75077\, United States
CATEGORIES:HOA BOD Administration
END:VEVENT
BEGIN:VEVENT
DTSTART;TZID=America/Chicago:20210519T170000
DTEND;TZID=America/Chicago:20210519T193000
DTSTAMP:20260424T080257
CREATED:20210211T154035Z
LAST-MODIFIED:20210416T210157Z
UID:1289-1621443600-1621452600@castlewoodhoa.com
SUMMARY:Castlewood Dragons Evening Swim
DESCRIPTION:
URL:https://castlewoodhoa.com/event/castlewood-dragons-evening-swim-2/
LOCATION:Pavilion\, 3420 Fairfield Lane\, Highland Village\, TX\, 75077\, United States
CATEGORIES:HOA Sponsored Event
END:VEVENT
BEGIN:VEVENT
DTSTART;TZID=America/Chicago:20210517T170000
DTEND;TZID=America/Chicago:20210517T193000
DTSTAMP:20260424T080257
CREATED:20210211T153742Z
LAST-MODIFIED:20210416T210004Z
UID:1287-1621270800-1621279800@castlewoodhoa.com
SUMMARY:Castlewood Dragons Evening Swim
DESCRIPTION:
URL:https://castlewoodhoa.com/event/castlewood-dragons-evening-swim/
LOCATION:Pavilion\, 3420 Fairfield Lane\, Highland Village\, TX\, 75077\, United States
CATEGORIES:HOA Sponsored Event
END:VEVENT
BEGIN:VEVENT
DTSTART;VALUE=DATE:20210516
DTEND;VALUE=DATE:20210517
DTSTAMP:20260424T080257
CREATED:20210419T135449Z
LAST-MODIFIED:20210419T135449Z
UID:1631-1621123200-1621209599@castlewoodhoa.com
SUMMARY:Clubhouse Reserved
DESCRIPTION:
URL:https://castlewoodhoa.com/event/clubhouse-reserved-67/
LOCATION:Castlewood HOA Clubhouse\, 3420 Fairfield Lane\, Highland Village\, TX\, 75077\, United States
CATEGORIES:Clubhouse Reservation
END:VEVENT
BEGIN:VEVENT
DTSTART;VALUE=DATE:20210515
DTEND;VALUE=DATE:20210516
DTSTAMP:20260424T080257
CREATED:20210122T194605Z
LAST-MODIFIED:20210125T184847Z
UID:583-1621036800-1621123199@castlewoodhoa.com
SUMMARY:Clubhouse Reserved
DESCRIPTION:
URL:https://castlewoodhoa.com/event/clubhouse-reserved-26/
LOCATION:Castlewood HOA Clubhouse\, 3420 Fairfield Lane\, Highland Village\, TX\, 75077\, United States
CATEGORIES:Clubhouse Reservation
END:VEVENT
BEGIN:VEVENT
DTSTART;VALUE=DATE:20210514
DTEND;VALUE=DATE:20210515
DTSTAMP:20260424T080257
CREATED:20210513T204902Z
LAST-MODIFIED:20210513T204902Z
UID:1742-1620950400-1621036799@castlewoodhoa.com
SUMMARY:Office Closed
DESCRIPTION:
URL:https://castlewoodhoa.com/event/office-closed-14/
LOCATION:Castlewood HOA Clubhouse\, 3420 Fairfield Lane\, Highland Village\, TX\, 75077\, United States
CATEGORIES:HOA BOD Administration
END:VEVENT
END:VCALENDAR