BEGIN:VCALENDAR
VERSION:2.0
PRODID:-//Castlewood Homeowners Association - ECPv6.15.17//NONSGML v1.0//EN
CALSCALE:GREGORIAN
METHOD:PUBLISH
X-WR-CALNAME:Castlewood Homeowners Association
X-ORIGINAL-URL:https://castlewoodhoa.com
X-WR-CALDESC:Events for Castlewood Homeowners Association
REFRESH-INTERVAL;VALUE=DURATION:PT1H
X-Robots-Tag:noindex
X-PUBLISHED-TTL:PT1H
BEGIN:VTIMEZONE
TZID:America/Chicago
BEGIN:DAYLIGHT
TZOFFSETFROM:-0600
TZOFFSETTO:-0500
TZNAME:CDT
DTSTART:20210314T080000
END:DAYLIGHT
BEGIN:STANDARD
TZOFFSETFROM:-0500
TZOFFSETTO:-0600
TZNAME:CST
DTSTART:20211107T070000
END:STANDARD
BEGIN:DAYLIGHT
TZOFFSETFROM:-0600
TZOFFSETTO:-0500
TZNAME:CDT
DTSTART:20220313T080000
END:DAYLIGHT
BEGIN:STANDARD
TZOFFSETFROM:-0500
TZOFFSETTO:-0600
TZNAME:CST
DTSTART:20221106T070000
END:STANDARD
BEGIN:DAYLIGHT
TZOFFSETFROM:-0600
TZOFFSETTO:-0500
TZNAME:CDT
DTSTART:20230312T080000
END:DAYLIGHT
BEGIN:STANDARD
TZOFFSETFROM:-0500
TZOFFSETTO:-0600
TZNAME:CST
DTSTART:20231105T070000
END:STANDARD
BEGIN:DAYLIGHT
TZOFFSETFROM:-0600
TZOFFSETTO:-0500
TZNAME:CDT
DTSTART:20240310T080000
END:DAYLIGHT
BEGIN:STANDARD
TZOFFSETFROM:-0500
TZOFFSETTO:-0600
TZNAME:CST
DTSTART:20241103T070000
END:STANDARD
END:VTIMEZONE
BEGIN:VEVENT
DTSTART;TZID=America/Chicago:20230208T180000
DTEND;TZID=America/Chicago:20230208T200000
DTSTAMP:20260425T075039
CREATED:20220603T184916Z
LAST-MODIFIED:20230124T225132Z
UID:3208-1675879200-1675886400@castlewoodhoa.com
SUMMARY:BOD Meeting
DESCRIPTION:
URL:https://castlewoodhoa.com/event/bod-meeting-2/
LOCATION:Castlewood HOA Clubhouse\, 3420 Fairfield Lane\, Highland Village\, TX\, 75077\, United States
CATEGORIES:HOA BOD Administration
END:VEVENT
BEGIN:VEVENT
DTSTART;TZID=America/Chicago:20230207T190000
DTEND;TZID=America/Chicago:20230207T220000
DTSTAMP:20260425T075039
CREATED:20230103T151611Z
LAST-MODIFIED:20230103T151611Z
UID:3852-1675796400-1675807200@castlewoodhoa.com
SUMMARY:Clubhouse Reserved
DESCRIPTION:
URL:https://castlewoodhoa.com/event/clubhouse-reserved-430/
LOCATION:Castlewood HOA Clubhouse\, 3420 Fairfield Lane\, Highland Village\, TX\, 75077\, United States
CATEGORIES:Clubhouse Reservation
END:VEVENT
BEGIN:VEVENT
DTSTART;TZID=America/Chicago:20230207T170000
DTEND;TZID=America/Chicago:20230207T190000
DTSTAMP:20260425T075039
CREATED:20211216T184342Z
LAST-MODIFIED:20230103T151106Z
UID:2584-1675789200-1675796400@castlewoodhoa.com
SUMMARY:Clubhouse Reserved
DESCRIPTION:
URL:https://castlewoodhoa.com/event/clubhouse-reserved-201/
LOCATION:Castlewood HOA Clubhouse\, 3420 Fairfield Lane\, Highland Village\, TX\, 75077\, United States
CATEGORIES:Clubhouse Reservation
END:VEVENT
BEGIN:VEVENT
DTSTART;TZID=America/Chicago:20230205T170000
DTEND;TZID=America/Chicago:20230205T220000
DTSTAMP:20260425T075039
CREATED:20220630T165451Z
LAST-MODIFIED:20220630T165451Z
UID:3345-1675616400-1675634400@castlewoodhoa.com
SUMMARY:Clubhouse Reserved
DESCRIPTION:
URL:https://castlewoodhoa.com/event/clubhouse-reserved-322/
LOCATION:Castlewood HOA Clubhouse\, 3420 Fairfield Lane\, Highland Village\, TX\, 75077\, United States
CATEGORIES:Clubhouse Reservation
END:VEVENT
BEGIN:VEVENT
DTSTART;TZID=America/Chicago:20230205T130000
DTEND;TZID=America/Chicago:20230205T160000
DTSTAMP:20260425T075039
CREATED:20221201T203723Z
LAST-MODIFIED:20221201T203723Z
UID:3813-1675602000-1675612800@castlewoodhoa.com
SUMMARY:Clubhouse Reserved
DESCRIPTION:
URL:https://castlewoodhoa.com/event/clubhouse-reserved-423/
LOCATION:Castlewood HOA Clubhouse\, 3420 Fairfield Lane\, Highland Village\, TX\, 75077\, United States
CATEGORIES:Clubhouse Reservation
END:VEVENT
BEGIN:VEVENT
DTSTART;VALUE=DATE:20230203
DTEND;VALUE=DATE:20230204
DTSTAMP:20260425T075039
CREATED:20230103T202826Z
LAST-MODIFIED:20230111T153147Z
UID:3875-1675382400-1675468799@castlewoodhoa.com
SUMMARY:Clubhouse Reserved
DESCRIPTION:
URL:https://castlewoodhoa.com/event/clubhouse-reserved-440/
LOCATION:Castlewood HOA Clubhouse\, 3420 Fairfield Lane\, Highland Village\, TX\, 75077\, United States
CATEGORIES:Clubhouse Reservation
END:VEVENT
BEGIN:VEVENT
DTSTART;TZID=America/Chicago:20230201T080000
DTEND;TZID=America/Chicago:20230201T110000
DTSTAMP:20260425T075039
CREATED:20220603T183214Z
LAST-MODIFIED:20221129T174900Z
UID:3164-1675238400-1675249200@castlewoodhoa.com
SUMMARY:Clubhouse Reserved
DESCRIPTION:
URL:https://castlewoodhoa.com/event/clubhouse-reserved-291/
LOCATION:Castlewood HOA Clubhouse\, 3420 Fairfield Lane\, Highland Village\, TX\, 75077\, United States
CATEGORIES:Clubhouse Reservation
END:VEVENT
BEGIN:VEVENT
DTSTART;VALUE=DATE:20230130
DTEND;VALUE=DATE:20230131
DTSTAMP:20260425T075039
CREATED:20230123T160015Z
LAST-MODIFIED:20230123T160015Z
UID:3939-1675036800-1675123199@castlewoodhoa.com
SUMMARY:Clubhouse Reserved
DESCRIPTION:
URL:https://castlewoodhoa.com/event/clubhouse-reserved-454/
LOCATION:Castlewood HOA Clubhouse\, 3420 Fairfield Lane\, Highland Village\, TX\, 75077\, United States
CATEGORIES:Clubhouse Reservation
END:VEVENT
BEGIN:VEVENT
DTSTART;TZID=America/Chicago:20230129T180000
DTEND;TZID=America/Chicago:20230129T230000
DTSTAMP:20260425T075039
CREATED:20230123T155940Z
LAST-MODIFIED:20230123T155940Z
UID:3937-1675015200-1675033200@castlewoodhoa.com
SUMMARY:Clubhouse Reserved
DESCRIPTION:
URL:https://castlewoodhoa.com/event/clubhouse-reserved-453/
LOCATION:Castlewood HOA Clubhouse\, 3420 Fairfield Lane\, Highland Village\, TX\, 75077\, United States
CATEGORIES:Clubhouse Reservation
END:VEVENT
BEGIN:VEVENT
DTSTART;TZID=America/Chicago:20230129T120000
DTEND;TZID=America/Chicago:20230129T180000
DTSTAMP:20260425T075039
CREATED:20221205T172358Z
LAST-MODIFIED:20221205T172358Z
UID:3815-1674993600-1675015200@castlewoodhoa.com
SUMMARY:Clubhouse Reserved
DESCRIPTION:
URL:https://castlewoodhoa.com/event/clubhouse-reserved-424/
LOCATION:Castlewood HOA Clubhouse\, 3420 Fairfield Lane\, Highland Village\, TX\, 75077\, United States
CATEGORIES:Clubhouse Reservation
END:VEVENT
BEGIN:VEVENT
DTSTART;TZID=America/Chicago:20230125T180000
DTEND;TZID=America/Chicago:20230125T220000
DTSTAMP:20260425T075039
CREATED:20220816T164234Z
LAST-MODIFIED:20230120T213306Z
UID:3541-1674669600-1674684000@castlewoodhoa.com
SUMMARY:Clubhouse Reserved
DESCRIPTION:
URL:https://castlewoodhoa.com/event/clubhouse-reserved-369/
LOCATION:Castlewood HOA Clubhouse\, 3420 Fairfield Lane\, Highland Village\, TX\, 75077\, United States
CATEGORIES:Clubhouse Reservation
END:VEVENT
BEGIN:VEVENT
DTSTART;VALUE=DATE:20230124
DTEND;VALUE=DATE:20230125
DTSTAMP:20260425T075039
CREATED:20230109T155801Z
LAST-MODIFIED:20230109T155801Z
UID:3897-1674518400-1674604799@castlewoodhoa.com
SUMMARY:Clubhouse Reserved
DESCRIPTION:
URL:https://castlewoodhoa.com/event/clubhouse-reserved-199/
LOCATION:Castlewood HOA Clubhouse\, 3420 Fairfield Lane\, Highland Village\, TX\, 75077\, United States
CATEGORIES:Clubhouse Reservation
END:VEVENT
BEGIN:VEVENT
DTSTART;TZID=America/Chicago:20230123T080000
DTEND;TZID=America/Chicago:20230123T150000
DTSTAMP:20260425T075039
CREATED:20221109T202144Z
LAST-MODIFIED:20221109T202144Z
UID:3774-1674460800-1674486000@castlewoodhoa.com
SUMMARY:Clubhouse Reserved
DESCRIPTION:
URL:https://castlewoodhoa.com/event/clubhouse-reserved-411/
LOCATION:Castlewood HOA Clubhouse\, 3420 Fairfield Lane\, Highland Village\, TX\, 75077\, United States
CATEGORIES:Clubhouse Reservation
END:VEVENT
BEGIN:VEVENT
DTSTART;TZID=America/Chicago:20230122T170000
DTEND;TZID=America/Chicago:20230122T220000
DTSTAMP:20260425T075039
CREATED:20220630T165413Z
LAST-MODIFIED:20220630T165413Z
UID:3343-1674406800-1674424800@castlewoodhoa.com
SUMMARY:Clubhouse Reserved
DESCRIPTION:
URL:https://castlewoodhoa.com/event/clubhouse-reserved-321/
LOCATION:Castlewood HOA Clubhouse\, 3420 Fairfield Lane\, Highland Village\, TX\, 75077\, United States
CATEGORIES:Clubhouse Reservation
END:VEVENT
BEGIN:VEVENT
DTSTART;TZID=America/Chicago:20230122T140000
DTEND;TZID=America/Chicago:20230122T170000
DTSTAMP:20260425T075039
CREATED:20230119T155945Z
LAST-MODIFIED:20230119T155945Z
UID:3926-1674396000-1674406800@castlewoodhoa.com
SUMMARY:Clubhouse Reserved
DESCRIPTION:
URL:https://castlewoodhoa.com/event/clubhouse-reserved-449/
LOCATION:Castlewood HOA Clubhouse\, 3420 Fairfield Lane\, Highland Village\, TX\, 75077\, United States
CATEGORIES:Clubhouse Reservation
END:VEVENT
BEGIN:VEVENT
DTSTART;VALUE=DATE:20230121
DTEND;VALUE=DATE:20230122
DTSTAMP:20260425T075039
CREATED:20220111T204730Z
LAST-MODIFIED:20220111T204730Z
UID:2662-1674259200-1674345599@castlewoodhoa.com
SUMMARY:Clubhouse Reserved
DESCRIPTION:
URL:https://castlewoodhoa.com/event/clubhouse-reserved-224/
LOCATION:Castlewood HOA Clubhouse\, 3420 Fairfield Lane\, Highland Village\, TX\, 75077\, United States
CATEGORIES:Clubhouse Reservation
END:VEVENT
BEGIN:VEVENT
DTSTART;TZID=America/Chicago:20230120T170000
DTEND;TZID=America/Chicago:20230120T230000
DTSTAMP:20260425T075039
CREATED:20220517T160124Z
LAST-MODIFIED:20220517T160124Z
UID:3098-1674234000-1674255600@castlewoodhoa.com
SUMMARY:Clubhouse Reserved
DESCRIPTION:
URL:https://castlewoodhoa.com/event/clubhouse-reserved-275/
LOCATION:Castlewood HOA Clubhouse\, 3420 Fairfield Lane\, Highland Village\, TX\, 75077\, United States
CATEGORIES:Clubhouse Reservation
END:VEVENT
BEGIN:VEVENT
DTSTART;TZID=America/Chicago:20230118T180000
DTEND;TZID=America/Chicago:20230118T200000
DTSTAMP:20260425T075039
CREATED:20220603T184842Z
LAST-MODIFIED:20221019T143954Z
UID:3206-1674064800-1674072000@castlewoodhoa.com
SUMMARY:BOD Meeting
DESCRIPTION:
URL:https://castlewoodhoa.com/event/bod-meeting/
LOCATION:Castlewood HOA Clubhouse\, 3420 Fairfield Lane\, Highland Village\, TX\, 75077\, United States
CATEGORIES:HOA BOD Administration
END:VEVENT
BEGIN:VEVENT
DTSTART;TZID=America/Chicago:20230118T080000
DTEND;TZID=America/Chicago:20230118T110000
DTSTAMP:20260425T075039
CREATED:20220603T183012Z
LAST-MODIFIED:20221129T174805Z
UID:3160-1674028800-1674039600@castlewoodhoa.com
SUMMARY:Clubhouse Reserved
DESCRIPTION:
URL:https://castlewoodhoa.com/event/clubhouse-reserved-289/
LOCATION:Castlewood HOA Clubhouse\, 3420 Fairfield Lane\, Highland Village\, TX\, 75077\, United States
CATEGORIES:Clubhouse Reservation
END:VEVENT
BEGIN:VEVENT
DTSTART;TZID=America/Chicago:20230117T170000
DTEND;TZID=America/Chicago:20230117T200000
DTSTAMP:20260425T075039
CREATED:20211216T184302Z
LAST-MODIFIED:20211216T184302Z
UID:2582-1673974800-1673985600@castlewoodhoa.com
SUMMARY:Clubhouse Reserved
DESCRIPTION:
URL:https://castlewoodhoa.com/event/clubhouse-reserved-200/
LOCATION:Castlewood HOA Clubhouse\, 3420 Fairfield Lane\, Highland Village\, TX\, 75077\, United States
CATEGORIES:Clubhouse Reservation
END:VEVENT
BEGIN:VEVENT
DTSTART;VALUE=DATE:20230114
DTEND;VALUE=DATE:20230115
DTSTAMP:20260425T075039
CREATED:20221012T192949Z
LAST-MODIFIED:20221012T192949Z
UID:3717-1673654400-1673740799@castlewoodhoa.com
SUMMARY:Clubhouse Reserved
DESCRIPTION:
URL:https://castlewoodhoa.com/event/clubhouse-reserved-402/
LOCATION:Castlewood HOA Clubhouse\, 3420 Fairfield Lane\, Highland Village\, TX\, 75077\, United States
CATEGORIES:Clubhouse Reservation
END:VEVENT
BEGIN:VEVENT
DTSTART;VALUE=DATE:20230111
DTEND;VALUE=DATE:20230112
DTSTAMP:20260425T075039
CREATED:20230111T220758Z
LAST-MODIFIED:20230111T220758Z
UID:3907-1673395200-1673481599@castlewoodhoa.com
SUMMARY:Clubhouse Reserved
DESCRIPTION:
URL:https://castlewoodhoa.com/event/clubhouse-reserved-405/
LOCATION:Castlewood HOA Clubhouse\, 3420 Fairfield Lane\, Highland Village\, TX\, 75077\, United States
CATEGORIES:Clubhouse Reservation
END:VEVENT
BEGIN:VEVENT
DTSTART;VALUE=DATE:20230111
DTEND;VALUE=DATE:20230112
DTSTAMP:20260425T075039
CREATED:20230111T153007Z
LAST-MODIFIED:20230111T153007Z
UID:3900-1673395200-1673481599@castlewoodhoa.com
SUMMARY:Clubhouse Reserved
DESCRIPTION:
URL:https://castlewoodhoa.com/event/clubhouse-reserved-320/
LOCATION:Castlewood HOA Clubhouse\, 3420 Fairfield Lane\, Highland Village\, TX\, 75077\, United States
CATEGORIES:Clubhouse Reservation
END:VEVENT
BEGIN:VEVENT
DTSTART;VALUE=DATE:20230106
DTEND;VALUE=DATE:20230114
DTSTAMP:20260425T075039
CREATED:20230106T215101Z
LAST-MODIFIED:20230106T215101Z
UID:3893-1672963200-1673654399@castlewoodhoa.com
SUMMARY:Clubhouse Closed for Repairs
DESCRIPTION:
URL:https://castlewoodhoa.com/event/clubhouse-closed-for-repairs/
LOCATION:Castlewood HOA Clubhouse\, 3420 Fairfield Lane\, Highland Village\, TX\, 75077\, United States
CATEGORIES:HOA BOD Administration
END:VEVENT
BEGIN:VEVENT
DTSTART;TZID=America/Chicago:20230103T190000
DTEND;TZID=America/Chicago:20230103T220000
DTSTAMP:20260425T075039
CREATED:20230103T150327Z
LAST-MODIFIED:20230103T150327Z
UID:3850-1672772400-1672783200@castlewoodhoa.com
SUMMARY:Clubhouse Reserved
DESCRIPTION:
URL:https://castlewoodhoa.com/event/clubhouse-reserved-429/
LOCATION:Castlewood HOA Clubhouse\, 3420 Fairfield Lane\, Highland Village\, TX\, 75077\, United States
CATEGORIES:Clubhouse Reservation
END:VEVENT
BEGIN:VEVENT
DTSTART;VALUE=DATE:20221231
DTEND;VALUE=DATE:20230102
DTSTAMP:20260425T075039
CREATED:20210827T142835Z
LAST-MODIFIED:20221214T201720Z
UID:2163-1672444800-1672617599@castlewoodhoa.com
SUMMARY:Clubhouse Reserved
DESCRIPTION:
URL:https://castlewoodhoa.com/event/no-reservations-14/
LOCATION:Castlewood HOA Clubhouse\, 3420 Fairfield Lane\, Highland Village\, TX\, 75077\, United States
CATEGORIES:Clubhouse Reservation
END:VEVENT
BEGIN:VEVENT
DTSTART;VALUE=DATE:20221230
DTEND;VALUE=DATE:20221231
DTSTAMP:20260425T075039
CREATED:20220725T203207Z
LAST-MODIFIED:20220725T203207Z
UID:3469-1672358400-1672444799@castlewoodhoa.com
SUMMARY:Clubhouse Reserved
DESCRIPTION:
URL:https://castlewoodhoa.com/event/clubhouse-reserved-348/
LOCATION:Castlewood HOA Clubhouse\, 3420 Fairfield Lane\, Highland Village\, TX\, 75077\, United States
CATEGORIES:Clubhouse Reservation
END:VEVENT
BEGIN:VEVENT
DTSTART;TZID=America/Chicago:20221228T100000
DTEND;TZID=America/Chicago:20221228T120000
DTSTAMP:20260425T075039
CREATED:20221208T152115Z
LAST-MODIFIED:20221208T152115Z
UID:3825-1672221600-1672228800@castlewoodhoa.com
SUMMARY:Clubhouse Reserved
DESCRIPTION:
URL:https://castlewoodhoa.com/event/clubhouse-reserved-426/
LOCATION:Castlewood HOA Clubhouse\, 3420 Fairfield Lane\, Highland Village\, TX\, 75077\, United States
CATEGORIES:Clubhouse Reservation
END:VEVENT
BEGIN:VEVENT
DTSTART;VALUE=DATE:20221224
DTEND;VALUE=DATE:20221225
DTSTAMP:20260425T075039
CREATED:20221212T192058Z
LAST-MODIFIED:20221212T192058Z
UID:3832-1671840000-1671926399@castlewoodhoa.com
SUMMARY:Clubhouse Reserved
DESCRIPTION:
URL:https://castlewoodhoa.com/event/clubhouse-reserved-410/
LOCATION:Castlewood HOA Clubhouse\, 3420 Fairfield Lane\, Highland Village\, TX\, 75077\, United States
CATEGORIES:Clubhouse Reservation
END:VEVENT
BEGIN:VEVENT
DTSTART;VALUE=DATE:20221222
DTEND;VALUE=DATE:20230103
DTSTAMP:20260425T075039
CREATED:20221201T170529Z
LAST-MODIFIED:20221201T170529Z
UID:3811-1671667200-1672703999@castlewoodhoa.com
SUMMARY:Onsite Office Closed
DESCRIPTION:
URL:https://castlewoodhoa.com/event/onsite-office-closed-2/
CATEGORIES:HOA BOD Administration
END:VEVENT
END:VCALENDAR