BEGIN:VCALENDAR
VERSION:2.0
PRODID:-//Castlewood Homeowners Association - ECPv6.15.17//NONSGML v1.0//EN
CALSCALE:GREGORIAN
METHOD:PUBLISH
X-WR-CALNAME:Castlewood Homeowners Association
X-ORIGINAL-URL:https://castlewoodhoa.com
X-WR-CALDESC:Events for Castlewood Homeowners Association
REFRESH-INTERVAL;VALUE=DURATION:PT1H
X-Robots-Tag:noindex
X-PUBLISHED-TTL:PT1H
BEGIN:VTIMEZONE
TZID:America/Chicago
BEGIN:DAYLIGHT
TZOFFSETFROM:-0600
TZOFFSETTO:-0500
TZNAME:CDT
DTSTART:20220313T080000
END:DAYLIGHT
BEGIN:STANDARD
TZOFFSETFROM:-0500
TZOFFSETTO:-0600
TZNAME:CST
DTSTART:20221106T070000
END:STANDARD
BEGIN:DAYLIGHT
TZOFFSETFROM:-0600
TZOFFSETTO:-0500
TZNAME:CDT
DTSTART:20230312T080000
END:DAYLIGHT
BEGIN:STANDARD
TZOFFSETFROM:-0500
TZOFFSETTO:-0600
TZNAME:CST
DTSTART:20231105T070000
END:STANDARD
BEGIN:DAYLIGHT
TZOFFSETFROM:-0600
TZOFFSETTO:-0500
TZNAME:CDT
DTSTART:20240310T080000
END:DAYLIGHT
BEGIN:STANDARD
TZOFFSETFROM:-0500
TZOFFSETTO:-0600
TZNAME:CST
DTSTART:20241103T070000
END:STANDARD
END:VTIMEZONE
BEGIN:VEVENT
DTSTART;TZID=America/Chicago:20230504T170000
DTEND;TZID=America/Chicago:20230504T220000
DTSTAMP:20260424T025902
CREATED:20230127T153318Z
LAST-MODIFIED:20230127T153318Z
UID:3976-1683219600-1683237600@castlewoodhoa.com
SUMMARY:Clubhouse Reserved
DESCRIPTION:
URL:https://castlewoodhoa.com/event/clubhouse-reserved-460/
LOCATION:Castlewood HOA Clubhouse\, 3420 Fairfield Lane\, Highland Village\, TX\, 75077\, United States
CATEGORIES:Clubhouse Reservation
END:VEVENT
BEGIN:VEVENT
DTSTART;TZID=America/Chicago:20230502T190000
DTEND;TZID=America/Chicago:20230502T210000
DTSTAMP:20260424T025902
CREATED:20211216T184820Z
LAST-MODIFIED:20230501T213428Z
UID:2598-1683054000-1683061200@castlewoodhoa.com
SUMMARY:Clubhouse Reserved
DESCRIPTION:
URL:https://castlewoodhoa.com/event/clubhouse-reserved-208/
LOCATION:Castlewood HOA Clubhouse\, 3420 Fairfield Lane\, Highland Village\, TX\, 75077\, United States
CATEGORIES:Clubhouse Reservation
END:VEVENT
BEGIN:VEVENT
DTSTART;VALUE=DATE:20230501
DTEND;VALUE=DATE:20230502
DTSTAMP:20260424T025902
CREATED:20230124T195101Z
LAST-MODIFIED:20230124T195101Z
UID:3954-1682899200-1682985599@castlewoodhoa.com
SUMMARY:Pool Season Begins
DESCRIPTION:
URL:https://castlewoodhoa.com/event/pool-season-begins-3/
CATEGORIES:Community Event
END:VEVENT
BEGIN:VEVENT
DTSTART;TZID=America/Chicago:20230430T160000
DTEND;TZID=America/Chicago:20230430T190000
DTSTAMP:20260424T025902
CREATED:20220912T142102Z
LAST-MODIFIED:20220922T142304Z
UID:3638-1682870400-1682881200@castlewoodhoa.com
SUMMARY:Clubhouse Reserved
DESCRIPTION:
URL:https://castlewoodhoa.com/event/clubhouse-reserved-390/
LOCATION:Castlewood HOA Clubhouse\, 3420 Fairfield Lane\, Highland Village\, TX\, 75077\, United States
CATEGORIES:Clubhouse Reservation
END:VEVENT
BEGIN:VEVENT
DTSTART;VALUE=DATE:20230429
DTEND;VALUE=DATE:20230430
DTSTAMP:20260424T025902
CREATED:20230227T154620Z
LAST-MODIFIED:20230227T154620Z
UID:4029-1682726400-1682812799@castlewoodhoa.com
SUMMARY:Clubhouse Reserved
DESCRIPTION:
URL:https://castlewoodhoa.com/event/clubhouse-reserved-466/
LOCATION:Castlewood HOA Clubhouse\, 3420 Fairfield Lane\, Highland Village\, TX\, 75077\, United States
CATEGORIES:Clubhouse Reservation
END:VEVENT
BEGIN:VEVENT
DTSTART;VALUE=DATE:20230428
DTEND;VALUE=DATE:20230429
DTSTAMP:20260424T025902
CREATED:20230104T203900Z
LAST-MODIFIED:20230104T203900Z
UID:3879-1682640000-1682726399@castlewoodhoa.com
SUMMARY:Clubhouse Reserved
DESCRIPTION:
URL:https://castlewoodhoa.com/event/clubhouse-reserved-442/
LOCATION:Castlewood HOA Clubhouse\, 3420 Fairfield Lane\, Highland Village\, TX\, 75077\, United States
CATEGORIES:Clubhouse Reservation
END:VEVENT
BEGIN:VEVENT
DTSTART;VALUE=DATE:20230427
DTEND;VALUE=DATE:20230428
DTSTAMP:20260424T025902
CREATED:20230427T143548Z
LAST-MODIFIED:20230427T143548Z
UID:4185-1682553600-1682639999@castlewoodhoa.com
SUMMARY:NO RESERVATIONS
DESCRIPTION:
URL:https://castlewoodhoa.com/event/no-reservations-13/
LOCATION:Castlewood HOA Clubhouse\, 3420 Fairfield Lane\, Highland Village\, TX\, 75077\, United States
CATEGORIES:Community Event
END:VEVENT
BEGIN:VEVENT
DTSTART;TZID=America/Chicago:20230425T170000
DTEND;TZID=America/Chicago:20230425T220000
DTSTAMP:20260424T025902
CREATED:20230123T155215Z
LAST-MODIFIED:20230123T155215Z
UID:3935-1682442000-1682460000@castlewoodhoa.com
SUMMARY:Clubhouse Reserved
DESCRIPTION:
URL:https://castlewoodhoa.com/event/clubhouse-reserved-452/
LOCATION:Castlewood HOA Clubhouse\, 3420 Fairfield Lane\, Highland Village\, TX\, 75077\, United States
CATEGORIES:Clubhouse Reservation
END:VEVENT
BEGIN:VEVENT
DTSTART;TZID=America/Chicago:20230425T100000
DTEND;TZID=America/Chicago:20230425T140000
DTSTAMP:20260424T025902
CREATED:20230124T201643Z
LAST-MODIFIED:20230124T201643Z
UID:3967-1682416800-1682431200@castlewoodhoa.com
SUMMARY:Clubhouse Reserved
DESCRIPTION:
URL:https://castlewoodhoa.com/event/clubhouse-reserved-456/
LOCATION:Castlewood HOA Clubhouse\, 3420 Fairfield Lane\, Highland Village\, TX\, 75077\, United States
CATEGORIES:Clubhouse Reservation
END:VEVENT
BEGIN:VEVENT
DTSTART;TZID=America/Chicago:20230424T110000
DTEND;TZID=America/Chicago:20230424T160000
DTSTAMP:20260424T025902
CREATED:20221027T142856Z
LAST-MODIFIED:20221027T142856Z
UID:3753-1682334000-1682352000@castlewoodhoa.com
SUMMARY:Clubhouse Reserved
DESCRIPTION:
URL:https://castlewoodhoa.com/event/clubhouse-reserved-339/
LOCATION:Castlewood HOA Clubhouse\, 3420 Fairfield Lane\, Highland Village\, TX\, 75077\, United States
CATEGORIES:Clubhouse Reservation
END:VEVENT
BEGIN:VEVENT
DTSTART;VALUE=DATE:20230423
DTEND;VALUE=DATE:20230424
DTSTAMP:20260424T025902
CREATED:20230315T192652Z
LAST-MODIFIED:20230420T193633Z
UID:4088-1682208000-1682294399@castlewoodhoa.com
SUMMARY:Clubhouse Reserved
DESCRIPTION:
URL:https://castlewoodhoa.com/event/clubhouse-resolved/
LOCATION:Castlewood HOA Clubhouse\, 3420 Fairfield Lane\, Highland Village\, TX\, 75077\, United States
CATEGORIES:Clubhouse Reservation
END:VEVENT
BEGIN:VEVENT
DTSTART;VALUE=DATE:20230422
DTEND;VALUE=DATE:20230423
DTSTAMP:20260424T025902
CREATED:20230412T181220Z
LAST-MODIFIED:20230412T181220Z
UID:4155-1682121600-1682207999@castlewoodhoa.com
SUMMARY:Clubhouse Reserved
DESCRIPTION:
URL:https://castlewoodhoa.com/event/clubhouse-reserved-480/
LOCATION:Castlewood HOA Clubhouse\, 3420 Fairfield Lane\, Highland Village\, TX\, 75077\, United States
CATEGORIES:Clubhouse Reservation
END:VEVENT
BEGIN:VEVENT
DTSTART;VALUE=DATE:20230422
DTEND;VALUE=DATE:20230423
DTSTAMP:20260424T025902
CREATED:20230124T195304Z
LAST-MODIFIED:20230124T195304Z
UID:3958-1682121600-1682207999@castlewoodhoa.com
SUMMARY:Community Garage Sale
DESCRIPTION:
URL:https://castlewoodhoa.com/event/community-garage-sale-4/
CATEGORIES:Community Event
END:VEVENT
BEGIN:VEVENT
DTSTART;TZID=America/Chicago:20230419T180000
DTEND;TZID=America/Chicago:20230419T200000
DTSTAMP:20260424T025902
CREATED:20220603T185028Z
LAST-MODIFIED:20221019T144208Z
UID:3212-1681927200-1681934400@castlewoodhoa.com
SUMMARY:BOD Meeting
DESCRIPTION:
URL:https://castlewoodhoa.com/event/bod-meeting-4/
LOCATION:Castlewood HOA Clubhouse\, 3420 Fairfield Lane\, Highland Village\, TX\, 75077\, United States
CATEGORIES:HOA BOD Administration
END:VEVENT
BEGIN:VEVENT
DTSTART;TZID=America/Chicago:20230419T080000
DTEND;TZID=America/Chicago:20230419T110000
DTSTAMP:20260424T025902
CREATED:20220603T183507Z
LAST-MODIFIED:20220603T183507Z
UID:3174-1681891200-1681902000@castlewoodhoa.com
SUMMARY:Clubhouse Reserved
DESCRIPTION:
URL:https://castlewoodhoa.com/event/clubhouse-reserved-296/
LOCATION:Castlewood HOA Clubhouse\, 3420 Fairfield Lane\, Highland Village\, TX\, 75077\, United States
CATEGORIES:Clubhouse Reservation
END:VEVENT
BEGIN:VEVENT
DTSTART;TZID=America/Chicago:20230418T170000
DTEND;TZID=America/Chicago:20230418T200000
DTSTAMP:20260424T025902
CREATED:20230309T160916Z
LAST-MODIFIED:20230309T160916Z
UID:4073-1681837200-1681848000@castlewoodhoa.com
SUMMARY:Clubhouse Reserved
DESCRIPTION:
URL:https://castlewoodhoa.com/event/clubhouse-reserved-443/
LOCATION:Castlewood HOA Clubhouse\, 3420 Fairfield Lane\, Highland Village\, TX\, 75077\, United States
CATEGORIES:Clubhouse Reservation
END:VEVENT
BEGIN:VEVENT
DTSTART;TZID=America/Chicago:20230417T170000
DTEND;TZID=America/Chicago:20230417T220000
DTSTAMP:20260424T025902
CREATED:20230411T171708Z
LAST-MODIFIED:20230411T171708Z
UID:4151-1681750800-1681768800@castlewoodhoa.com
SUMMARY:Clubhouse Reserved
DESCRIPTION:
URL:https://castlewoodhoa.com/event/clubhouse-reserved-479/
LOCATION:Castlewood HOA Clubhouse\, 3420 Fairfield Lane\, Highland Village\, TX\, 75077\, United States
CATEGORIES:Clubhouse Reservation
END:VEVENT
BEGIN:VEVENT
DTSTART;TZID=America/Chicago:20230417T080000
DTEND;TZID=America/Chicago:20230417T150000
DTSTAMP:20260424T025902
CREATED:20230123T201737Z
LAST-MODIFIED:20230123T202016Z
UID:3946-1681718400-1681743600@castlewoodhoa.com
SUMMARY:Clubhouse Reserved
DESCRIPTION:
URL:https://castlewoodhoa.com/event/clubhouse-reserved-450/
LOCATION:Castlewood HOA Clubhouse\, 3420 Fairfield Lane\, Highland Village\, TX\, 75077\, United States
CATEGORIES:Clubhouse Reservation
END:VEVENT
BEGIN:VEVENT
DTSTART;VALUE=DATE:20230415
DTEND;VALUE=DATE:20230416
DTSTAMP:20260424T025902
CREATED:20230124T195155Z
LAST-MODIFIED:20230124T195222Z
UID:3956-1681516800-1681603199@castlewoodhoa.com
SUMMARY:Community Garage Sale
DESCRIPTION:
URL:https://castlewoodhoa.com/event/community-garage-sale-3/
CATEGORIES:Community Event
END:VEVENT
BEGIN:VEVENT
DTSTART;VALUE=DATE:20230415
DTEND;VALUE=DATE:20230416
DTSTAMP:20260424T025902
CREATED:20220725T151631Z
LAST-MODIFIED:20220725T151631Z
UID:3465-1681516800-1681603199@castlewoodhoa.com
SUMMARY:Clubhouse Reserved
DESCRIPTION:
URL:https://castlewoodhoa.com/event/clubhouse-reserved-330/
LOCATION:Castlewood HOA Clubhouse\, 3420 Fairfield Lane\, Highland Village\, TX\, 75077\, United States
CATEGORIES:Clubhouse Reservation
END:VEVENT
BEGIN:VEVENT
DTSTART;VALUE=DATE:20230414
DTEND;VALUE=DATE:20230415
DTSTAMP:20260424T025903
CREATED:20230404T151444Z
LAST-MODIFIED:20230404T151444Z
UID:4138-1681430400-1681516799@castlewoodhoa.com
SUMMARY:Clubhouse Reserved
DESCRIPTION:
URL:https://castlewoodhoa.com/event/clubhouse-reserved-328/
LOCATION:Castlewood HOA Clubhouse\, 3420 Fairfield Lane\, Highland Village\, TX\, 75077\, United States
CATEGORIES:Clubhouse Reservation
END:VEVENT
BEGIN:VEVENT
DTSTART;TZID=America/Chicago:20230413T170000
DTEND;TZID=America/Chicago:20230413T230000
DTSTAMP:20260424T025903
CREATED:20220819T145552Z
LAST-MODIFIED:20220819T145552Z
UID:3580-1681405200-1681426800@castlewoodhoa.com
SUMMARY:Clubhouse Reserved
DESCRIPTION:
URL:https://castlewoodhoa.com/event/clubhouse-reserved-379/
LOCATION:Castlewood HOA Clubhouse\, 3420 Fairfield Lane\, Highland Village\, TX\, 75077\, United States
CATEGORIES:Clubhouse Reservation
END:VEVENT
BEGIN:VEVENT
DTSTART;TZID=America/Chicago:20230412T180000
DTEND;TZID=America/Chicago:20230412T220000
DTSTAMP:20260424T025903
CREATED:20220816T164431Z
LAST-MODIFIED:20221116T185621Z
UID:3547-1681322400-1681336800@castlewoodhoa.com
SUMMARY:Clubhouse Reserved
DESCRIPTION:
URL:https://castlewoodhoa.com/event/clubhouse-reserved-372/
LOCATION:Castlewood HOA Clubhouse\, 3420 Fairfield Lane\, Highland Village\, TX\, 75077\, United States
CATEGORIES:Clubhouse Reservation
END:VEVENT
BEGIN:VEVENT
DTSTART;TZID=America/Chicago:20230410T170000
DTEND;TZID=America/Chicago:20230410T220000
DTSTAMP:20260424T025903
CREATED:20230410T180559Z
LAST-MODIFIED:20230410T180559Z
UID:4148-1681146000-1681164000@castlewoodhoa.com
SUMMARY:Clubhouse Reserved
DESCRIPTION:
URL:https://castlewoodhoa.com/event/clubhouse-reserved-207/
LOCATION:Castlewood HOA Clubhouse\, 3420 Fairfield Lane\, Highland Village\, TX\, 75077\, United States
CATEGORIES:Clubhouse Reservation
END:VEVENT
BEGIN:VEVENT
DTSTART;VALUE=DATE:20230408
DTEND;VALUE=DATE:20230409
DTSTAMP:20260424T025903
CREATED:20230307T193820Z
LAST-MODIFIED:20230307T193820Z
UID:4067-1680912000-1680998399@castlewoodhoa.com
SUMMARY:NO RESERVATIONS
DESCRIPTION:
URL:https://castlewoodhoa.com/event/no-reservations-11/
LOCATION:Castlewood HOA Clubhouse\, 3420 Fairfield Lane\, Highland Village\, TX\, 75077\, United States
CATEGORIES:HOA BOD Administration
END:VEVENT
BEGIN:VEVENT
DTSTART;VALUE=DATE:20230407
DTEND;VALUE=DATE:20230408
DTSTAMP:20260424T025903
CREATED:20230403T144701Z
LAST-MODIFIED:20230403T144701Z
UID:4134-1680825600-1680911999@castlewoodhoa.com
SUMMARY:Office Closed
DESCRIPTION:
URL:https://castlewoodhoa.com/event/office-closed-23/
CATEGORIES:HOA BOD Administration
END:VEVENT
BEGIN:VEVENT
DTSTART;VALUE=DATE:20230407
DTEND;VALUE=DATE:20230408
DTSTAMP:20260424T025903
CREATED:20220603T183929Z
LAST-MODIFIED:20230306T185423Z
UID:3184-1680825600-1680911999@castlewoodhoa.com
SUMMARY:Easter Eggstravaganza
DESCRIPTION:
URL:https://castlewoodhoa.com/event/easter-eggstravaganza/
LOCATION:Castlewood HOA Clubhouse\, 3420 Fairfield Lane\, Highland Village\, TX\, 75077\, United States
CATEGORIES:Community Event
ATTACH;FMTTYPE=image/png:https://castlewoodhoa.com/wp-content/uploads/2022/06/Screenshot-2023-03-06-125204.png
END:VEVENT
BEGIN:VEVENT
DTSTART;VALUE=DATE:20230406
DTEND;VALUE=DATE:20230407
DTSTAMP:20260424T025903
CREATED:20220603T184008Z
LAST-MODIFIED:20220603T184008Z
UID:3186-1680739200-1680825599@castlewoodhoa.com
SUMMARY:NO RESERVATIONS
DESCRIPTION:
URL:https://castlewoodhoa.com/event/no-reservations-19/
LOCATION:Castlewood HOA Clubhouse\, 3420 Fairfield Lane\, Highland Village\, TX\, 75077\, United States
CATEGORIES:HOA BOD Administration
END:VEVENT
BEGIN:VEVENT
DTSTART;TZID=America/Chicago:20230405T080000
DTEND;TZID=America/Chicago:20230405T140000
DTSTAMP:20260424T025903
CREATED:20220603T183436Z
LAST-MODIFIED:20230331T150949Z
UID:3172-1680681600-1680703200@castlewoodhoa.com
SUMMARY:Clubhouse Reserved
DESCRIPTION:
URL:https://castlewoodhoa.com/event/clubhouse-reserved-295/
LOCATION:Castlewood HOA Clubhouse\, 3420 Fairfield Lane\, Highland Village\, TX\, 75077\, United States
CATEGORIES:Clubhouse Reservation
END:VEVENT
BEGIN:VEVENT
DTSTART;TZID=America/Chicago:20230404T190000
DTEND;TZID=America/Chicago:20230404T220000
DTSTAMP:20260424T025903
CREATED:20230103T151908Z
LAST-MODIFIED:20230103T151908Z
UID:3856-1680634800-1680645600@castlewoodhoa.com
SUMMARY:Clubhouse Reserved
DESCRIPTION:
URL:https://castlewoodhoa.com/event/clubhouse-reserved-432/
LOCATION:Castlewood HOA Clubhouse\, 3420 Fairfield Lane\, Highland Village\, TX\, 75077\, United States
CATEGORIES:Clubhouse Reservation
END:VEVENT
END:VCALENDAR