BEGIN:VCALENDAR
VERSION:2.0
PRODID:-//Castlewood Homeowners Association - ECPv6.15.17//NONSGML v1.0//EN
CALSCALE:GREGORIAN
METHOD:PUBLISH
X-WR-CALNAME:Castlewood Homeowners Association
X-ORIGINAL-URL:https://castlewoodhoa.com
X-WR-CALDESC:Events for Castlewood Homeowners Association
REFRESH-INTERVAL;VALUE=DURATION:PT1H
X-Robots-Tag:noindex
X-PUBLISHED-TTL:PT1H
BEGIN:VTIMEZONE
TZID:America/Chicago
BEGIN:DAYLIGHT
TZOFFSETFROM:-0600
TZOFFSETTO:-0500
TZNAME:CDT
DTSTART:20210314T080000
END:DAYLIGHT
BEGIN:STANDARD
TZOFFSETFROM:-0500
TZOFFSETTO:-0600
TZNAME:CST
DTSTART:20211107T070000
END:STANDARD
BEGIN:DAYLIGHT
TZOFFSETFROM:-0600
TZOFFSETTO:-0500
TZNAME:CDT
DTSTART:20220313T080000
END:DAYLIGHT
BEGIN:STANDARD
TZOFFSETFROM:-0500
TZOFFSETTO:-0600
TZNAME:CST
DTSTART:20221106T070000
END:STANDARD
BEGIN:DAYLIGHT
TZOFFSETFROM:-0600
TZOFFSETTO:-0500
TZNAME:CDT
DTSTART:20230312T080000
END:DAYLIGHT
BEGIN:STANDARD
TZOFFSETFROM:-0500
TZOFFSETTO:-0600
TZNAME:CST
DTSTART:20231105T070000
END:STANDARD
END:VTIMEZONE
BEGIN:VEVENT
DTSTART;TZID=America/Chicago:20221108T170000
DTEND;TZID=America/Chicago:20221108T200000
DTSTAMP:20260424T025212
CREATED:20211216T183915Z
LAST-MODIFIED:20211216T183915Z
UID:2572-1667926800-1667937600@castlewoodhoa.com
SUMMARY:Clubhouse Reserved
DESCRIPTION:
URL:https://castlewoodhoa.com/event/clubhouse-reserved-195/
LOCATION:Castlewood HOA Clubhouse\, 3420 Fairfield Lane\, Highland Village\, TX\, 75077\, United States
CATEGORIES:Clubhouse Reservation
END:VEVENT
BEGIN:VEVENT
DTSTART;TZID=America/Chicago:20221107T080000
DTEND;TZID=America/Chicago:20221107T150000
DTSTAMP:20260424T025212
CREATED:20221026T202846Z
LAST-MODIFIED:20221026T202846Z
UID:3750-1667808000-1667833200@castlewoodhoa.com
SUMMARY:Clubhouse Reserved
DESCRIPTION:
URL:https://castlewoodhoa.com/event/clubhouse-reserved-338/
LOCATION:Castlewood HOA Clubhouse\, 3420 Fairfield Lane\, Highland Village\, TX\, 75077\, United States
CATEGORIES:Clubhouse Reservation
END:VEVENT
BEGIN:VEVENT
DTSTART;TZID=America/Chicago:20221106T170000
DTEND;TZID=America/Chicago:20221106T220000
DTSTAMP:20260424T025212
CREATED:20220630T170116Z
LAST-MODIFIED:20220630T170116Z
UID:3359-1667754000-1667772000@castlewoodhoa.com
SUMMARY:Clubhouse Reserved
DESCRIPTION:
URL:https://castlewoodhoa.com/event/clubhouse-reserved-329/
LOCATION:Castlewood HOA Clubhouse\, 3420 Fairfield Lane\, Highland Village\, TX\, 75077\, United States
CATEGORIES:Clubhouse Reservation
END:VEVENT
BEGIN:VEVENT
DTSTART;VALUE=DATE:20221105
DTEND;VALUE=DATE:20221106
DTSTAMP:20260424T025212
CREATED:20221031T143209Z
LAST-MODIFIED:20221031T143209Z
UID:3760-1667606400-1667692799@castlewoodhoa.com
SUMMARY:Clubhouse Reserved
DESCRIPTION:
URL:https://castlewoodhoa.com/event/clubhouse-reserved-409/
LOCATION:Castlewood HOA Clubhouse\, 3420 Fairfield Lane\, Highland Village\, TX\, 75077\, United States
CATEGORIES:Clubhouse Reservation
END:VEVENT
BEGIN:VEVENT
DTSTART;TZID=America/Chicago:20221103T170000
DTEND;TZID=America/Chicago:20221103T220000
DTSTAMP:20260424T025212
CREATED:20221024T142440Z
LAST-MODIFIED:20221024T142440Z
UID:3737-1667494800-1667512800@castlewoodhoa.com
SUMMARY:Clubhouse Reserved
DESCRIPTION:
URL:https://castlewoodhoa.com/event/clubhouse-reserved-406/
LOCATION:Castlewood HOA Clubhouse\, 3420 Fairfield Lane\, Highland Village\, TX\, 75077\, United States
CATEGORIES:Clubhouse Reservation
END:VEVENT
BEGIN:VEVENT
DTSTART;TZID=America/Chicago:20221101T190000
DTEND;TZID=America/Chicago:20221101T220000
DTSTAMP:20260424T025212
CREATED:20220817T155459Z
LAST-MODIFIED:20220817T155459Z
UID:3559-1667329200-1667340000@castlewoodhoa.com
SUMMARY:Clubhouse Reserved
DESCRIPTION:
URL:https://castlewoodhoa.com/event/clubhouse-reserved-375/
CATEGORIES:Clubhouse Reservation
END:VEVENT
BEGIN:VEVENT
DTSTART;VALUE=DATE:20221031
DTEND;VALUE=DATE:20221101
DTSTAMP:20260424T025212
CREATED:20210826T200040Z
LAST-MODIFIED:20221019T162503Z
UID:2119-1667174400-1667260799@castlewoodhoa.com
SUMMARY:Halloween Spooktacular
DESCRIPTION:
URL:https://castlewoodhoa.com/event/no-reservations-9/
LOCATION:Castlewood HOA Clubhouse\, 3420 Fairfield Lane\, Highland Village\, TX\, 75077\, United States
CATEGORIES:Community Event
ATTACH;FMTTYPE=image/jpeg:https://castlewoodhoa.com/wp-content/uploads/2021/08/Screenshot-2022-10-19-112201.jpg
END:VEVENT
BEGIN:VEVENT
DTSTART;VALUE=DATE:20221029
DTEND;VALUE=DATE:20221031
DTSTAMP:20260424T025212
CREATED:20220603T190456Z
LAST-MODIFIED:20220603T190456Z
UID:3240-1667001600-1667174399@castlewoodhoa.com
SUMMARY:NO RESERVATIONS
DESCRIPTION:
URL:https://castlewoodhoa.com/event/no-reservations-26/
CATEGORIES:HOA BOD Administration
END:VEVENT
BEGIN:VEVENT
DTSTART;TZID=America/Chicago:20221026T180000
DTEND;TZID=America/Chicago:20221026T233000
DTSTAMP:20260424T025212
CREATED:20220808T212610Z
LAST-MODIFIED:20220808T212610Z
UID:3500-1666807200-1666827000@castlewoodhoa.com
SUMMARY:Clubhouse Reserved
DESCRIPTION:
URL:https://castlewoodhoa.com/event/clubhouse-reserved-354/
LOCATION:Castlewood HOA Clubhouse\, 3420 Fairfield Lane\, Highland Village\, TX\, 75077\, United States
CATEGORIES:Clubhouse Reservation
END:VEVENT
BEGIN:VEVENT
DTSTART;TZID=America/Chicago:20221026T080000
DTEND;TZID=America/Chicago:20221026T110000
DTSTAMP:20260424T025212
CREATED:20220603T182749Z
LAST-MODIFIED:20220603T182749Z
UID:3150-1666771200-1666782000@castlewoodhoa.com
SUMMARY:Clubhouse Reserved
DESCRIPTION:
URL:https://castlewoodhoa.com/event/clubhouse-reserved-284/
LOCATION:Castlewood HOA Clubhouse\, 3420 Fairfield Lane\, Highland Village\, TX\, 75077\, United States
CATEGORIES:Clubhouse Reservation
END:VEVENT
BEGIN:VEVENT
DTSTART;TZID=America/Chicago:20221025T170000
DTEND;TZID=America/Chicago:20221025T210000
DTSTAMP:20260424T025212
CREATED:20221014T140818Z
LAST-MODIFIED:20221014T140818Z
UID:3719-1666717200-1666731600@castlewoodhoa.com
SUMMARY:Clubhouse Reserved
DESCRIPTION:
URL:https://castlewoodhoa.com/event/clubhouse-reserved-403/
LOCATION:Castlewood HOA Clubhouse\, 3420 Fairfield Lane\, Highland Village\, TX\, 75077\, United States
CATEGORIES:Clubhouse Reservation
END:VEVENT
BEGIN:VEVENT
DTSTART;TZID=America/Chicago:20221023T170000
DTEND;TZID=America/Chicago:20221023T210000
DTSTAMP:20260424T025212
CREATED:20220912T153041Z
LAST-MODIFIED:20220912T153041Z
UID:3646-1666544400-1666558800@castlewoodhoa.com
SUMMARY:Clubhouse Reserved
DESCRIPTION:
URL:https://castlewoodhoa.com/event/clubhouse-reserved-394/
LOCATION:Castlewood HOA Clubhouse\, 3420 Fairfield Lane\, Highland Village\, TX\, 75077\, United States
CATEGORIES:Clubhouse Reservation
END:VEVENT
BEGIN:VEVENT
DTSTART;VALUE=DATE:20221022
DTEND;VALUE=DATE:20221023
DTSTAMP:20260424T025212
CREATED:20220629T161338Z
LAST-MODIFIED:20220629T161338Z
UID:3325-1666396800-1666483199@castlewoodhoa.com
SUMMARY:Clubhouse Reserved
DESCRIPTION:
URL:https://castlewoodhoa.com/event/clubhouse-reserved-314/
LOCATION:Castlewood HOA Clubhouse\, 3420 Fairfield Lane\, Highland Village\, TX\, 75077\, United States
CATEGORIES:Clubhouse Reservation
END:VEVENT
BEGIN:VEVENT
DTSTART;TZID=America/Chicago:20221019T180000
DTEND;TZID=America/Chicago:20221019T200000
DTSTAMP:20260424T025212
CREATED:20210826T204516Z
LAST-MODIFIED:20221019T143827Z
UID:2143-1666202400-1666209600@castlewoodhoa.com
SUMMARY:HOA BOD Meeting
DESCRIPTION:
URL:https://castlewoodhoa.com/event/hoa-bod-meeting-21/
LOCATION:Castlewood HOA Clubhouse\, 3420 Fairfield Lane\, Highland Village\, TX\, 75077\, United States
CATEGORIES:HOA BOD Administration
END:VEVENT
BEGIN:VEVENT
DTSTART;TZID=America/Chicago:20221018T180000
DTEND;TZID=America/Chicago:20221018T220000
DTSTAMP:20260424T025212
CREATED:20220816T162534Z
LAST-MODIFIED:20220816T162534Z
UID:3535-1666116000-1666130400@castlewoodhoa.com
SUMMARY:Clubhouse Reserved
DESCRIPTION:
URL:https://castlewoodhoa.com/event/clubhouse-reserved-366/
LOCATION:Castlewood HOA Clubhouse\, 3420 Fairfield Lane\, Highland Village\, TX\, 75077\, United States
END:VEVENT
BEGIN:VEVENT
DTSTART;TZID=America/Chicago:20221018T080000
DTEND;TZID=America/Chicago:20221018T150000
DTSTAMP:20260424T025212
CREATED:20221011T141338Z
LAST-MODIFIED:20221011T141338Z
UID:3709-1666080000-1666105200@castlewoodhoa.com
SUMMARY:Clubhouse Reserved
DESCRIPTION:
URL:https://castlewoodhoa.com/event/clubhouse-reserved-401/
LOCATION:Castlewood HOA Clubhouse\, 3420 Fairfield Lane\, Highland Village\, TX\, 75077\, United States
CATEGORIES:Clubhouse Reservation
END:VEVENT
BEGIN:VEVENT
DTSTART;TZID=America/Chicago:20221017T120000
DTEND;TZID=America/Chicago:20221017T170000
DTSTAMP:20260424T025212
CREATED:20221011T141252Z
LAST-MODIFIED:20221011T173025Z
UID:3707-1666008000-1666026000@castlewoodhoa.com
SUMMARY:Clubhouse Reserved
DESCRIPTION:
URL:https://castlewoodhoa.com/event/clubhouse-reserved-221/
LOCATION:Castlewood HOA Clubhouse\, 3420 Fairfield Lane\, Highland Village\, TX\, 75077\, United States
CATEGORIES:Clubhouse Reservation
END:VEVENT
BEGIN:VEVENT
DTSTART;TZID=America/Chicago:20221016T140000
DTEND;TZID=America/Chicago:20221016T163000
DTSTAMP:20260424T025212
CREATED:20220912T160819Z
LAST-MODIFIED:20220912T160819Z
UID:3648-1665928800-1665937800@castlewoodhoa.com
SUMMARY:Clubhouse Reserved
DESCRIPTION:
URL:https://castlewoodhoa.com/event/clubhouse-reserved-395/
LOCATION:Castlewood HOA Clubhouse\, 3420 Fairfield Lane\, Highland Village\, TX\, 75077\, United States
CATEGORIES:Clubhouse Reservation
END:VEVENT
BEGIN:VEVENT
DTSTART;VALUE=DATE:20221014
DTEND;VALUE=DATE:20221015
DTSTAMP:20260424T025212
CREATED:20220919T174523Z
LAST-MODIFIED:20220919T174523Z
UID:3669-1665705600-1665791999@castlewoodhoa.com
SUMMARY:Clubhouse Reserved
DESCRIPTION:
URL:https://castlewoodhoa.com/event/clubhouse-reserved-397/
LOCATION:Castlewood HOA Clubhouse\, 3420 Fairfield Lane\, Highland Village\, TX\, 75077\, United States
CATEGORIES:Clubhouse Reservation
END:VEVENT
BEGIN:VEVENT
DTSTART;TZID=America/Chicago:20221013T170000
DTEND;TZID=America/Chicago:20221013T230000
DTSTAMP:20260424T025212
CREATED:20220819T145359Z
LAST-MODIFIED:20220819T145359Z
UID:3574-1665680400-1665702000@castlewoodhoa.com
SUMMARY:Clubhouse Reserved
DESCRIPTION:
URL:https://castlewoodhoa.com/event/clubhouse-reserved-376/
LOCATION:Castlewood HOA Clubhouse\, 3420 Fairfield Lane\, Highland Village\, TX\, 75077\, United States
CATEGORIES:Clubhouse Reservation
END:VEVENT
BEGIN:VEVENT
DTSTART;TZID=America/Chicago:20221012T170000
DTEND;TZID=America/Chicago:20221012T200000
DTSTAMP:20260424T025212
CREATED:20220815T152748Z
LAST-MODIFIED:20220815T152748Z
UID:3524-1665594000-1665604800@castlewoodhoa.com
SUMMARY:Clubhouse Reserved
DESCRIPTION:
URL:https://castlewoodhoa.com/event/clubhouse-reserved-363/
LOCATION:Castlewood HOA Clubhouse\, 3420 Fairfield Lane\, Highland Village\, TX\, 75077\, United States
CATEGORIES:Clubhouse Reservation
END:VEVENT
BEGIN:VEVENT
DTSTART;TZID=America/Chicago:20221012T080000
DTEND;TZID=America/Chicago:20221012T110000
DTSTAMP:20260424T025212
CREATED:20220603T182724Z
LAST-MODIFIED:20220603T182724Z
UID:3148-1665561600-1665572400@castlewoodhoa.com
SUMMARY:Clubhouse Reserved
DESCRIPTION:
URL:https://castlewoodhoa.com/event/clubhouse-reserved-283/
LOCATION:Castlewood HOA Clubhouse\, 3420 Fairfield Lane\, Highland Village\, TX\, 75077\, United States
CATEGORIES:Clubhouse Reservation
END:VEVENT
BEGIN:VEVENT
DTSTART;TZID=America/Chicago:20221011T170000
DTEND;TZID=America/Chicago:20221011T200000
DTSTAMP:20260424T025212
CREATED:20211216T183835Z
LAST-MODIFIED:20211216T183835Z
UID:2570-1665507600-1665518400@castlewoodhoa.com
SUMMARY:Clubhouse Reserved
DESCRIPTION:
URL:https://castlewoodhoa.com/event/clubhouse-reserved-194/
LOCATION:Castlewood HOA Clubhouse\, 3420 Fairfield Lane\, Highland Village\, TX\, 75077\, United States
CATEGORIES:Clubhouse Reservation
END:VEVENT
BEGIN:VEVENT
DTSTART;TZID=America/Chicago:20221010T160000
DTEND;TZID=America/Chicago:20221010T220000
DTSTAMP:20260424T025212
CREATED:20220907T142051Z
LAST-MODIFIED:20220907T142051Z
UID:3615-1665417600-1665439200@castlewoodhoa.com
SUMMARY:Clubhouse Reserved
DESCRIPTION:
URL:https://castlewoodhoa.com/event/clubhouse-reserved-382/
LOCATION:Castlewood HOA Clubhouse\, 3420 Fairfield Lane\, Highland Village\, TX\, 75077\, United States
CATEGORIES:Clubhouse Reservation
END:VEVENT
BEGIN:VEVENT
DTSTART;TZID=America/Chicago:20221009T180000
DTEND;TZID=America/Chicago:20221009T210000
DTSTAMP:20260424T025212
CREATED:20220719T140036Z
LAST-MODIFIED:20220719T140036Z
UID:3417-1665338400-1665349200@castlewoodhoa.com
SUMMARY:Clubhouse Reserved
DESCRIPTION:
URL:https://castlewoodhoa.com/event/clubhouse-reserved-337/
LOCATION:Castlewood HOA Clubhouse\, 3420 Fairfield Lane\, Highland Village\, TX\, 75077\, United States
CATEGORIES:Clubhouse Reservation
END:VEVENT
BEGIN:VEVENT
DTSTART;VALUE=DATE:20221008
DTEND;VALUE=DATE:20221009
DTSTAMP:20260424T025212
CREATED:20220506T142810Z
LAST-MODIFIED:20220506T142810Z
UID:3066-1665187200-1665273599@castlewoodhoa.com
SUMMARY:Castlewood Blood Drive
DESCRIPTION:
URL:https://castlewoodhoa.com/event/castlewood-blood-drive/
LOCATION:Castlewood HOA Clubhouse\, 3420 Fairfield Lane\, Highland Village\, TX\, 75077\, United States
CATEGORIES:Community Event
END:VEVENT
BEGIN:VEVENT
DTSTART;VALUE=DATE:20221007
DTEND;VALUE=DATE:20221008
DTSTAMP:20260424T025212
CREATED:20220722T155838Z
LAST-MODIFIED:20221003T170445Z
UID:3461-1665100800-1665187199@castlewoodhoa.com
SUMMARY:Clubhouse Reserved
DESCRIPTION:
URL:https://castlewoodhoa.com/event/no-reservatios/
LOCATION:Castlewood HOA Clubhouse\, 3420 Fairfield Lane\, Highland Village\, TX\, 75077\, United States
CATEGORIES:HOA BOD Administration
END:VEVENT
BEGIN:VEVENT
DTSTART;TZID=America/Chicago:20221005T170000
DTEND;TZID=America/Chicago:20221005T200000
DTSTAMP:20260424T025212
CREATED:20220815T152709Z
LAST-MODIFIED:20220815T152709Z
UID:3522-1664989200-1665000000@castlewoodhoa.com
SUMMARY:Clubhouse Reserved
DESCRIPTION:
URL:https://castlewoodhoa.com/event/clubhouse-reserved-362/
LOCATION:Castlewood HOA Clubhouse\, 3420 Fairfield Lane\, Highland Village\, TX\, 75077\, United States
CATEGORIES:Clubhouse Reservation
END:VEVENT
BEGIN:VEVENT
DTSTART;TZID=America/Chicago:20221004T190000
DTEND;TZID=America/Chicago:20221004T210000
DTSTAMP:20260424T025212
CREATED:20221003T170319Z
LAST-MODIFIED:20221003T170319Z
UID:3683-1664910000-1664917200@castlewoodhoa.com
SUMMARY:Clubhouse Reserved
DESCRIPTION:
URL:https://castlewoodhoa.com/event/clubhouse-reserved-318/
LOCATION:Castlewood HOA Clubhouse\, 3420 Fairfield Lane\, Highland Village\, TX\, 75077\, United States
CATEGORIES:Clubhouse Reservation
END:VEVENT
BEGIN:VEVENT
DTSTART;TZID=America/Chicago:20221004T170000
DTEND;TZID=America/Chicago:20221004T200000
DTSTAMP:20260424T025212
CREATED:20211216T183751Z
LAST-MODIFIED:20211216T183751Z
UID:2568-1664902800-1664913600@castlewoodhoa.com
SUMMARY:Clubhouse Reserved
DESCRIPTION:
URL:https://castlewoodhoa.com/event/clubhouse-reserved-193/
LOCATION:Castlewood HOA Clubhouse\, 3420 Fairfield Lane\, Highland Village\, TX\, 75077\, United States
CATEGORIES:Clubhouse Reservation
END:VEVENT
END:VCALENDAR