BEGIN:VCALENDAR
VERSION:2.0
PRODID:-//Castlewood Homeowners Association - ECPv6.15.17//NONSGML v1.0//EN
CALSCALE:GREGORIAN
METHOD:PUBLISH
X-WR-CALNAME:Castlewood Homeowners Association
X-ORIGINAL-URL:https://castlewoodhoa.com
X-WR-CALDESC:Events for Castlewood Homeowners Association
REFRESH-INTERVAL;VALUE=DURATION:PT1H
X-Robots-Tag:noindex
X-PUBLISHED-TTL:PT1H
BEGIN:VTIMEZONE
TZID:America/Chicago
BEGIN:DAYLIGHT
TZOFFSETFROM:-0600
TZOFFSETTO:-0500
TZNAME:CDT
DTSTART:20210314T080000
END:DAYLIGHT
BEGIN:STANDARD
TZOFFSETFROM:-0500
TZOFFSETTO:-0600
TZNAME:CST
DTSTART:20211107T070000
END:STANDARD
BEGIN:DAYLIGHT
TZOFFSETFROM:-0600
TZOFFSETTO:-0500
TZNAME:CDT
DTSTART:20220313T080000
END:DAYLIGHT
BEGIN:STANDARD
TZOFFSETFROM:-0500
TZOFFSETTO:-0600
TZNAME:CST
DTSTART:20221106T070000
END:STANDARD
BEGIN:DAYLIGHT
TZOFFSETFROM:-0600
TZOFFSETTO:-0500
TZNAME:CDT
DTSTART:20230312T080000
END:DAYLIGHT
BEGIN:STANDARD
TZOFFSETFROM:-0500
TZOFFSETTO:-0600
TZNAME:CST
DTSTART:20231105T070000
END:STANDARD
END:VTIMEZONE
BEGIN:VEVENT
DTSTART;VALUE=DATE:20221211
DTEND;VALUE=DATE:20221212
DTSTAMP:20260424T050152
CREATED:20220630T165252Z
LAST-MODIFIED:20221115T204244Z
UID:3339-1670716800-1670803199@castlewoodhoa.com
SUMMARY:Clubhouse Reserved
DESCRIPTION:
URL:https://castlewoodhoa.com/event/clubhouse-reserved-319/
LOCATION:Castlewood HOA Clubhouse\, 3420 Fairfield Lane\, Highland Village\, TX\, 75077\, United States
CATEGORIES:Clubhouse Reservation
END:VEVENT
BEGIN:VEVENT
DTSTART;TZID=America/Chicago:20221210T110000
DTEND;TZID=America/Chicago:20221210T210000
DTSTAMP:20260424T050152
CREATED:20221115T204150Z
LAST-MODIFIED:20221115T204150Z
UID:3785-1670670000-1670706000@castlewoodhoa.com
SUMMARY:Clubhouse Reserved
DESCRIPTION:
URL:https://castlewoodhoa.com/event/clubhouse-reserved-415/
CATEGORIES:Clubhouse Reservation
END:VEVENT
BEGIN:VEVENT
DTSTART;VALUE=DATE:20221210
DTEND;VALUE=DATE:20221211
DTSTAMP:20260424T050152
CREATED:20210826T204651Z
LAST-MODIFIED:20220603T185917Z
UID:2148-1670630400-1670716799@castlewoodhoa.com
SUMMARY:Annual Meeting
DESCRIPTION:
URL:https://castlewoodhoa.com/event/annual-meeting-2/
LOCATION:Castlewood HOA Clubhouse\, 3420 Fairfield Lane\, Highland Village\, TX\, 75077\, United States
CATEGORIES:HOA BOD Administration
END:VEVENT
BEGIN:VEVENT
DTSTART;VALUE=DATE:20221209
DTEND;VALUE=DATE:20221210
DTSTAMP:20260424T050152
CREATED:20220214T163504Z
LAST-MODIFIED:20220214T163504Z
UID:2787-1670544000-1670630399@castlewoodhoa.com
SUMMARY:Clubhouse Reserved
DESCRIPTION:
URL:https://castlewoodhoa.com/event/clubhouse-reserved-241/
LOCATION:Castlewood HOA Clubhouse\, 3420 Fairfield Lane\, Highland Village\, TX\, 75077\, United States
CATEGORIES:Clubhouse Reservation
END:VEVENT
BEGIN:VEVENT
DTSTART;TZID=America/Chicago:20221207T170000
DTEND;TZID=America/Chicago:20221207T220000
DTSTAMP:20260424T050152
CREATED:20211216T185028Z
LAST-MODIFIED:20221111T172650Z
UID:2602-1670432400-1670450400@castlewoodhoa.com
SUMMARY:Clubhouse Reserved
DESCRIPTION:
URL:https://castlewoodhoa.com/event/clubhouse-reserved-197/
LOCATION:Castlewood HOA Clubhouse\, 3420 Fairfield Lane\, Highland Village\, TX\, 75077\, United States
CATEGORIES:Clubhouse Reservation
END:VEVENT
BEGIN:VEVENT
DTSTART;TZID=America/Chicago:20221207T080000
DTEND;TZID=America/Chicago:20221207T110000
DTSTAMP:20260424T050152
CREATED:20220603T182909Z
LAST-MODIFIED:20220603T182909Z
UID:3156-1670400000-1670410800@castlewoodhoa.com
SUMMARY:Clubhouse Reserved
DESCRIPTION:
URL:https://castlewoodhoa.com/event/clubhouse-reserved-287/
LOCATION:Castlewood HOA Clubhouse\, 3420 Fairfield Lane\, Highland Village\, TX\, 75077\, United States
CATEGORIES:Clubhouse Reservation
END:VEVENT
BEGIN:VEVENT
DTSTART;TZID=America/Chicago:20221206T180000
DTEND;TZID=America/Chicago:20221206T220000
DTSTAMP:20260424T050152
CREATED:20220816T162001Z
LAST-MODIFIED:20220816T162001Z
UID:3533-1670349600-1670364000@castlewoodhoa.com
SUMMARY:Clubhouse Reserved
DESCRIPTION:
URL:https://castlewoodhoa.com/event/clubhouse-reserved-365/
LOCATION:Castlewood HOA Clubhouse\, 3420 Fairfield Lane\, Highland Village\, TX\, 75077\, United States
CATEGORIES:Clubhouse Reservation
END:VEVENT
BEGIN:VEVENT
DTSTART;TZID=America/Chicago:20221206T080000
DTEND;TZID=America/Chicago:20221206T140000
DTSTAMP:20260424T050152
CREATED:20221114T150803Z
LAST-MODIFIED:20221114T150803Z
UID:3779-1670313600-1670335200@castlewoodhoa.com
SUMMARY:Clubhouse Reserved
DESCRIPTION:
URL:https://castlewoodhoa.com/event/clubhouse-reserved-413/
LOCATION:Castlewood HOA Clubhouse\, 3420 Fairfield Lane\, Highland Village\, TX\, 75077\, United States
CATEGORIES:Clubhouse Reservation
END:VEVENT
BEGIN:VEVENT
DTSTART;TZID=America/Chicago:20221205T150000
DTEND;TZID=America/Chicago:20221205T190000
DTSTAMP:20260424T050152
CREATED:20221130T202914Z
LAST-MODIFIED:20221130T202914Z
UID:3799-1670252400-1670266800@castlewoodhoa.com
SUMMARY:Clubhouse Reserved
DESCRIPTION:
URL:https://castlewoodhoa.com/event/clubhouse-reserved-290/
LOCATION:Castlewood HOA Clubhouse\, 3420 Fairfield Lane\, Highland Village\, TX\, 75077\, United States
CATEGORIES:Clubhouse Reservation
END:VEVENT
BEGIN:VEVENT
DTSTART;TZID=America/Chicago:20221205T140000
DTEND;TZID=America/Chicago:20221205T163000
DTSTAMP:20260424T050152
CREATED:20221205T193035Z
LAST-MODIFIED:20221205T193035Z
UID:3817-1670248800-1670257800@castlewoodhoa.com
SUMMARY:Clubhouse Reserved
DESCRIPTION:
URL:https://castlewoodhoa.com/event/clubhouse-reserved-391/
LOCATION:Castlewood HOA Clubhouse\, 3420 Fairfield Lane\, Highland Village\, TX\, 75077\, United States
CATEGORIES:Clubhouse Reservation
END:VEVENT
BEGIN:VEVENT
DTSTART;TZID=America/Chicago:20221204T180000
DTEND;TZID=America/Chicago:20221204T210000
DTSTAMP:20260424T050152
CREATED:20220719T140402Z
LAST-MODIFIED:20220719T140402Z
UID:3423-1670176800-1670187600@castlewoodhoa.com
SUMMARY:Clubhouse Reserved
DESCRIPTION:
URL:https://castlewoodhoa.com/event/clubhouse-reserved-340/
LOCATION:Castlewood HOA Clubhouse\, 3420 Fairfield Lane\, Highland Village\, TX\, 75077\, United States
CATEGORIES:Clubhouse Reservation
END:VEVENT
BEGIN:VEVENT
DTSTART;VALUE=DATE:20221203
DTEND;VALUE=DATE:20221204
DTSTAMP:20260424T050152
CREATED:20210826T195854Z
LAST-MODIFIED:20221019T162642Z
UID:2117-1670025600-1670111999@castlewoodhoa.com
SUMMARY:Cookies With Santa
DESCRIPTION:
URL:https://castlewoodhoa.com/event/no-reservations-8/
LOCATION:Castlewood HOA Clubhouse\, 3420 Fairfield Lane\, Highland Village\, TX\, 75077\, United States
CATEGORIES:Community Event
ATTACH;FMTTYPE=image/png:https://castlewoodhoa.com/wp-content/uploads/2021/08/aaa.png
END:VEVENT
BEGIN:VEVENT
DTSTART;VALUE=DATE:20221202
DTEND;VALUE=DATE:20221203
DTSTAMP:20260424T050152
CREATED:20220603T190320Z
LAST-MODIFIED:20220603T190320Z
UID:3237-1669939200-1670025599@castlewoodhoa.com
SUMMARY:NO RESERVATIONS
DESCRIPTION:
URL:https://castlewoodhoa.com/event/no-reservations-25/
LOCATION:Castlewood HOA Clubhouse\, 3420 Fairfield Lane\, Highland Village\, TX\, 75077\, United States
CATEGORIES:HOA BOD Administration
END:VEVENT
BEGIN:VEVENT
DTSTART;TZID=America/Chicago:20221130T180000
DTEND;TZID=America/Chicago:20221130T233000
DTSTAMP:20260424T050152
CREATED:20220808T212656Z
LAST-MODIFIED:20220808T212656Z
UID:3502-1669831200-1669851000@castlewoodhoa.com
SUMMARY:Clubhouse Reserved
DESCRIPTION:
URL:https://castlewoodhoa.com/event/clubhouse-reserved-355/
LOCATION:Castlewood HOA Clubhouse\, 3420 Fairfield Lane\, Highland Village\, TX\, 75077\, United States
CATEGORIES:Clubhouse Reservation
END:VEVENT
BEGIN:VEVENT
DTSTART;TZID=America/Chicago:20221130T080000
DTEND;TZID=America/Chicago:20221130T110000
DTSTAMP:20260424T050152
CREATED:20220603T182838Z
LAST-MODIFIED:20221129T174600Z
UID:3154-1669795200-1669806000@castlewoodhoa.com
SUMMARY:Clubhouse Reserved
DESCRIPTION:
URL:https://castlewoodhoa.com/event/clubhouse-reserved-286/
LOCATION:Castlewood HOA Clubhouse\, 3420 Fairfield Lane\, Highland Village\, TX\, 75077\, United States
CATEGORIES:Clubhouse Reservation
END:VEVENT
BEGIN:VEVENT
DTSTART;TZID=America/Chicago:20221124T083000
DTEND;TZID=America/Chicago:20221124T083000
DTSTAMP:20260424T050152
CREATED:20221019T162839Z
LAST-MODIFIED:20221019T163000Z
UID:3734-1669278600-1669278600@castlewoodhoa.com
SUMMARY:Turkey Trot
DESCRIPTION:
URL:https://castlewoodhoa.com/event/turkey-trot-2/
LOCATION:Castlewood HOA Clubhouse\, 3420 Fairfield Lane\, Highland Village\, TX\, 75077\, United States
CATEGORIES:Community Event
ATTACH;FMTTYPE=image/jpeg:https://castlewoodhoa.com/wp-content/uploads/2022/10/aaaa.jpg
END:VEVENT
BEGIN:VEVENT
DTSTART;VALUE=DATE:20221124
DTEND;VALUE=DATE:20221126
DTSTAMP:20260424T050152
CREATED:20220106T222502Z
LAST-MODIFIED:20220106T222502Z
UID:2650-1669248000-1669420799@castlewoodhoa.com
SUMMARY:Office Closed/ All Spectrum AM offices Closed
DESCRIPTION:
URL:https://castlewoodhoa.com/event/office-closed-all-spectrum-am-offices-closed-5/
LOCATION:Castlewood HOA Clubhouse\, 3420 Fairfield Lane\, Highland Village\, TX\, 75077\, United States
CATEGORIES:HOA BOD Administration
END:VEVENT
BEGIN:VEVENT
DTSTART;VALUE=DATE:20221124
DTEND;VALUE=DATE:20221125
DTSTAMP:20260424T050152
CREATED:20220929T191736Z
LAST-MODIFIED:20220929T191736Z
UID:3678-1669248000-1669334399@castlewoodhoa.com
SUMMARY:Clubhouse Reserved
DESCRIPTION:
URL:https://castlewoodhoa.com/event/clubhouse-reserved-400/
LOCATION:Castlewood HOA Clubhouse\, 3420 Fairfield Lane\, Highland Village\, TX\, 75077\, United States
CATEGORIES:Clubhouse Reservation
END:VEVENT
BEGIN:VEVENT
DTSTART;VALUE=DATE:20221121
DTEND;VALUE=DATE:20221126
DTSTAMP:20260424T050152
CREATED:20221115T204045Z
LAST-MODIFIED:20221115T204045Z
UID:3783-1668988800-1669420799@castlewoodhoa.com
SUMMARY:Onsite office closed
DESCRIPTION:
URL:https://castlewoodhoa.com/event/onsite-office-closed/
CATEGORIES:HOA BOD Administration
END:VEVENT
BEGIN:VEVENT
DTSTART;VALUE=DATE:20221121
DTEND;VALUE=DATE:20221122
DTSTAMP:20260424T050152
CREATED:20221111T172800Z
LAST-MODIFIED:20221111T172800Z
UID:3776-1668988800-1669075199@castlewoodhoa.com
SUMMARY:Clubhouse Reserved
DESCRIPTION:
URL:https://castlewoodhoa.com/event/clubhouse-reserved-412/
CATEGORIES:Clubhouse Reservation
END:VEVENT
BEGIN:VEVENT
DTSTART;VALUE=DATE:20221119
DTEND;VALUE=DATE:20221120
DTSTAMP:20260424T050152
CREATED:20221017T141823Z
LAST-MODIFIED:20221017T141823Z
UID:3721-1668816000-1668902399@castlewoodhoa.com
SUMMARY:Clubhouse Reserved
DESCRIPTION:
URL:https://castlewoodhoa.com/event/clubhouse-reserved-404/
LOCATION:Castlewood HOA Clubhouse\, 3420 Fairfield Lane\, Highland Village\, TX\, 75077\, United States
CATEGORIES:Clubhouse Reservation
END:VEVENT
BEGIN:VEVENT
DTSTART;VALUE=DATE:20221117
DTEND;VALUE=DATE:20221118
DTSTAMP:20260424T050152
CREATED:20220928T143954Z
LAST-MODIFIED:20220928T143954Z
UID:3676-1668643200-1668729599@castlewoodhoa.com
SUMMARY:Clubhouse Reserved
DESCRIPTION:
URL:https://castlewoodhoa.com/event/clubhouse-reserved-399/
LOCATION:Castlewood HOA Clubhouse\, 3420 Fairfield Lane\, Highland Village\, TX\, 75077\, United States
CATEGORIES:Clubhouse Reservation
END:VEVENT
BEGIN:VEVENT
DTSTART;TZID=America/Chicago:20221116T180000
DTEND;TZID=America/Chicago:20221116T200000
DTSTAMP:20260424T050152
CREATED:20210826T204602Z
LAST-MODIFIED:20221019T143903Z
UID:2146-1668621600-1668628800@castlewoodhoa.com
SUMMARY:HOA BOD Meeting
DESCRIPTION:
URL:https://castlewoodhoa.com/event/hoa-bod-meeting-22/
LOCATION:Castlewood HOA Clubhouse\, 3420 Fairfield Lane\, Highland Village\, TX\, 75077\, United States
CATEGORIES:HOA BOD Administration
END:VEVENT
BEGIN:VEVENT
DTSTART;TZID=America/Chicago:20221115T170000
DTEND;TZID=America/Chicago:20221115T200000
DTSTAMP:20260424T050152
CREATED:20211216T183947Z
LAST-MODIFIED:20211216T183947Z
UID:2574-1668531600-1668542400@castlewoodhoa.com
SUMMARY:Clubhouse Reserved
DESCRIPTION:
URL:https://castlewoodhoa.com/event/clubhouse-reserved-196/
LOCATION:Castlewood HOA Clubhouse\, 3420 Fairfield Lane\, Highland Village\, TX\, 75077\, United States
CATEGORIES:Clubhouse Reservation
END:VEVENT
BEGIN:VEVENT
DTSTART;TZID=America/Chicago:20221115T110000
DTEND;TZID=America/Chicago:20221115T160000
DTSTAMP:20260424T050152
CREATED:20221028T144309Z
LAST-MODIFIED:20221028T144309Z
UID:3756-1668510000-1668528000@castlewoodhoa.com
SUMMARY:Clubhouse Reserved
DESCRIPTION:
URL:https://castlewoodhoa.com/event/clubhouse-reserved-407/
LOCATION:Castlewood HOA Clubhouse\, 3420 Fairfield Lane\, Highland Village\, TX\, 75077\, United States
CATEGORIES:Clubhouse Reservation
END:VEVENT
BEGIN:VEVENT
DTSTART;TZID=America/Chicago:20221113T150000
DTEND;TZID=America/Chicago:20221113T173000
DTSTAMP:20260424T050152
CREATED:20220912T141835Z
LAST-MODIFIED:20220912T141835Z
UID:3632-1668351600-1668360600@castlewoodhoa.com
SUMMARY:Clubhouse Reserved
DESCRIPTION:
URL:https://castlewoodhoa.com/event/clubhouse-reserved-387/
LOCATION:Castlewood HOA Clubhouse\, 3420 Fairfield Lane\, Highland Village\, TX\, 75077\, United States
CATEGORIES:Clubhouse Reservation
END:VEVENT
BEGIN:VEVENT
DTSTART;VALUE=DATE:20221112
DTEND;VALUE=DATE:20221113
DTSTAMP:20260424T050152
CREATED:20220718T162438Z
LAST-MODIFIED:20220722T145005Z
UID:3406-1668211200-1668297599@castlewoodhoa.com
SUMMARY:Clubhouse Reserved
DESCRIPTION:
URL:https://castlewoodhoa.com/event/clubhouse-reserved-280/
LOCATION:Castlewood HOA Clubhouse\, 3420 Fairfield Lane\, Highland Village\, TX\, 75077\, United States
CATEGORIES:Clubhouse Reservation
END:VEVENT
BEGIN:VEVENT
DTSTART;TZID=America/Chicago:20221109T180000
DTEND;TZID=America/Chicago:20221109T220000
DTSTAMP:20260424T050152
CREATED:20220816T162606Z
LAST-MODIFIED:20220816T162606Z
UID:3537-1668016800-1668031200@castlewoodhoa.com
SUMMARY:Clubhouse Reserved
DESCRIPTION:
URL:https://castlewoodhoa.com/event/clubhouse-reserved-367/
LOCATION:Castlewood HOA Clubhouse\, 3420 Fairfield Lane\, Highland Village\, TX\, 75077\, United States
END:VEVENT
BEGIN:VEVENT
DTSTART;TZID=America/Chicago:20221109T080000
DTEND;TZID=America/Chicago:20221109T110000
DTSTAMP:20260424T050152
CREATED:20220603T182814Z
LAST-MODIFIED:20220603T182814Z
UID:3152-1667980800-1667991600@castlewoodhoa.com
SUMMARY:Clubhouse Reserved
DESCRIPTION:
URL:https://castlewoodhoa.com/event/clubhouse-reserved-285/
LOCATION:Castlewood HOA Clubhouse\, 3420 Fairfield Lane\, Highland Village\, TX\, 75077\, United States
CATEGORIES:Clubhouse Reservation
END:VEVENT
BEGIN:VEVENT
DTSTART;TZID=America/Chicago:20221108T170000
DTEND;TZID=America/Chicago:20221108T200000
DTSTAMP:20260424T050152
CREATED:20211216T183915Z
LAST-MODIFIED:20211216T183915Z
UID:2572-1667926800-1667937600@castlewoodhoa.com
SUMMARY:Clubhouse Reserved
DESCRIPTION:
URL:https://castlewoodhoa.com/event/clubhouse-reserved-195/
LOCATION:Castlewood HOA Clubhouse\, 3420 Fairfield Lane\, Highland Village\, TX\, 75077\, United States
CATEGORIES:Clubhouse Reservation
END:VEVENT
END:VCALENDAR