BEGIN:VCALENDAR
VERSION:2.0
PRODID:-//Castlewood Homeowners Association - ECPv6.15.17//NONSGML v1.0//EN
CALSCALE:GREGORIAN
METHOD:PUBLISH
X-WR-CALNAME:Castlewood Homeowners Association
X-ORIGINAL-URL:https://castlewoodhoa.com
X-WR-CALDESC:Events for Castlewood Homeowners Association
REFRESH-INTERVAL;VALUE=DURATION:PT1H
X-Robots-Tag:noindex
X-PUBLISHED-TTL:PT1H
BEGIN:VTIMEZONE
TZID:America/Chicago
BEGIN:DAYLIGHT
TZOFFSETFROM:-0600
TZOFFSETTO:-0500
TZNAME:CDT
DTSTART:20200308T080000
END:DAYLIGHT
BEGIN:STANDARD
TZOFFSETFROM:-0500
TZOFFSETTO:-0600
TZNAME:CST
DTSTART:20201101T070000
END:STANDARD
BEGIN:DAYLIGHT
TZOFFSETFROM:-0600
TZOFFSETTO:-0500
TZNAME:CDT
DTSTART:20210314T080000
END:DAYLIGHT
BEGIN:STANDARD
TZOFFSETFROM:-0500
TZOFFSETTO:-0600
TZNAME:CST
DTSTART:20211107T070000
END:STANDARD
BEGIN:DAYLIGHT
TZOFFSETFROM:-0600
TZOFFSETTO:-0500
TZNAME:CDT
DTSTART:20220313T080000
END:DAYLIGHT
BEGIN:STANDARD
TZOFFSETFROM:-0500
TZOFFSETTO:-0600
TZNAME:CST
DTSTART:20221106T070000
END:STANDARD
END:VTIMEZONE
BEGIN:VEVENT
DTSTART;VALUE=DATE:20210309
DTEND;VALUE=DATE:20210313
DTSTAMP:20260425T074559
CREATED:20210119T201250Z
LAST-MODIFIED:20210301T145330Z
UID:398-1615248000-1615593599@castlewoodhoa.com
SUMMARY:Office Closed
DESCRIPTION:
URL:https://castlewoodhoa.com/event/office-closed/
LOCATION:Castlewood HOA Clubhouse\, 3420 Fairfield Lane\, Highland Village\, TX\, 75077\, United States
CATEGORIES:HOA BOD Administration
END:VEVENT
BEGIN:VEVENT
DTSTART;TZID=America/Chicago:20210305T170000
DTEND;TZID=America/Chicago:20210305T230000
DTSTAMP:20260425T074559
CREATED:20210119T200118Z
LAST-MODIFIED:20210125T190445Z
UID:382-1614963600-1614985200@castlewoodhoa.com
SUMMARY:Clubhouse Reserved
DESCRIPTION:
URL:https://castlewoodhoa.com/event/clubhouse-reserved-14/
LOCATION:Castlewood HOA Clubhouse\, 3420 Fairfield Lane\, Highland Village\, TX\, 75077\, United States
CATEGORIES:Clubhouse Reservation
END:VEVENT
BEGIN:VEVENT
DTSTART;TZID=America/Chicago:20210303T160000
DTEND;TZID=America/Chicago:20210303T210000
DTSTAMP:20260425T074559
CREATED:20210119T200036Z
LAST-MODIFIED:20210125T190524Z
UID:380-1614787200-1614805200@castlewoodhoa.com
SUMMARY:Clubhouse Reserved
DESCRIPTION:
URL:https://castlewoodhoa.com/event/clubhouse-reserved-13/
LOCATION:Castlewood HOA Clubhouse\, 3420 Fairfield Lane\, Highland Village\, TX\, 75077\, United States
CATEGORIES:Clubhouse Reservation
END:VEVENT
BEGIN:VEVENT
DTSTART;TZID=America/Chicago:20210302T170000
DTEND;TZID=America/Chicago:20210302T230000
DTSTAMP:20260425T074559
CREATED:20210119T195954Z
LAST-MODIFIED:20210125T190608Z
UID:378-1614704400-1614726000@castlewoodhoa.com
SUMMARY:Clubhouse Reserved
DESCRIPTION:
URL:https://castlewoodhoa.com/event/clubhouse-reserved-12/
LOCATION:Castlewood HOA Clubhouse\, 3420 Fairfield Lane\, Highland Village\, TX\, 75077\, United States
CATEGORIES:Clubhouse Reservation
END:VEVENT
BEGIN:VEVENT
DTSTART;VALUE=DATE:20210227
DTEND;VALUE=DATE:20210228
DTSTAMP:20260425T074559
CREATED:20210119T195911Z
LAST-MODIFIED:20210125T190647Z
UID:376-1614384000-1614470399@castlewoodhoa.com
SUMMARY:Clubhouse Reserved
DESCRIPTION:
URL:https://castlewoodhoa.com/event/clubhouse-reserved-11/
LOCATION:Castlewood HOA Clubhouse\, 3420 Fairfield Lane\, Highland Village\, TX\, 75077\, United States
CATEGORIES:Clubhouse Reservation
END:VEVENT
BEGIN:VEVENT
DTSTART;TZID=America/Chicago:20210226T160000
DTEND;TZID=America/Chicago:20210226T230000
DTSTAMP:20260425T074559
CREATED:20210202T170317Z
LAST-MODIFIED:20210202T170317Z
UID:1255-1614355200-1614380400@castlewoodhoa.com
SUMMARY:Clubhouse Reserved
DESCRIPTION:
URL:https://castlewoodhoa.com/event/clubhouse-reserved-8/
LOCATION:Castlewood HOA Clubhouse\, 3420 Fairfield Lane\, Highland Village\, TX\, 75077\, United States
CATEGORIES:Clubhouse Reservation
END:VEVENT
BEGIN:VEVENT
DTSTART;TZID=America/Chicago:20210223T170000
DTEND;TZID=America/Chicago:20210223T230000
DTSTAMP:20260425T074559
CREATED:20210119T195842Z
LAST-MODIFIED:20210125T190734Z
UID:374-1614099600-1614121200@castlewoodhoa.com
SUMMARY:Clubhouse Reserved
DESCRIPTION:
URL:https://castlewoodhoa.com/event/clubhouse-reserved-10/
LOCATION:Castlewood HOA Clubhouse\, 3420 Fairfield Lane\, Highland Village\, TX\, 75077\, United States
CATEGORIES:Clubhouse Reservation
END:VEVENT
BEGIN:VEVENT
DTSTART;VALUE=DATE:20210220
DTEND;VALUE=DATE:20210221
DTSTAMP:20260425T074559
CREATED:20210119T195417Z
LAST-MODIFIED:20210119T214213Z
UID:366-1613779200-1613865599@castlewoodhoa.com
SUMMARY:Reserved Community Event
DESCRIPTION:
URL:https://castlewoodhoa.com/event/clubhouse-reserved-7/
LOCATION:Castlewood HOA Clubhouse\, 3420 Fairfield Lane\, Highland Village\, TX\, 75077\, United States
CATEGORIES:HOA Sponsored Event
END:VEVENT
BEGIN:VEVENT
DTSTART;TZID=America/Chicago:20210217T190000
DTEND;TZID=America/Chicago:20210217T200000
DTSTAMP:20260425T074559
CREATED:20210118T160128Z
LAST-MODIFIED:20210216T205242Z
UID:203-1613588400-1613592000@castlewoodhoa.com
SUMMARY:HOA Board Meeting- CANCELLED
DESCRIPTION:Meeting Information \nWhen: Wednesday\, February 17\, 2021\nTime: 7:00 p.m. Teleconference meeting\n \nDue to COVID restrictions\, meetings are currently being held via Zoom. If you would like to attend but did not receive an email link please complete the form below to have one sent. \n \n \n 
URL:https://castlewoodhoa.com/event/hoa-board-meeting-2/
LOCATION:Castlewood HOA Clubhouse\, 3420 Fairfield Lane\, Highland Village\, TX\, 75077\, United States
CATEGORIES:HOA Sponsored Event
END:VEVENT
BEGIN:VEVENT
DTSTART;TZID=America/Chicago:20210216T180000
DTEND;TZID=America/Chicago:20210216T220000
DTSTAMP:20260425T074559
CREATED:20210128T212122Z
LAST-MODIFIED:20210412T181114Z
UID:1069-1613498400-1613512800@castlewoodhoa.com
SUMMARY:Clubhouse Reserved
DESCRIPTION:
URL:https://castlewoodhoa.com/event/clubhouse-reserved-44/
LOCATION:Castlewood HOA Clubhouse\, 3420 Fairfield Lane\, Highland Village\, TX\, 75077\, United States
CATEGORIES:Clubhouse Reservation
END:VEVENT
BEGIN:VEVENT
DTSTART;VALUE=DATE:20210215
DTEND;VALUE=DATE:20210216
DTSTAMP:20260425T074559
CREATED:20210211T153501Z
LAST-MODIFIED:20210211T153501Z
UID:1285-1613347200-1613433599@castlewoodhoa.com
SUMMARY:Office Closed
DESCRIPTION:
URL:https://castlewoodhoa.com/event/office-closed-2/
LOCATION:Castlewood HOA Clubhouse\, 3420 Fairfield Lane\, Highland Village\, TX\, 75077\, United States
CATEGORIES:HOA BOD Administration
END:VEVENT
BEGIN:VEVENT
DTSTART;TZID=America/Chicago:20210207T120000
DTEND;TZID=America/Chicago:20210207T170000
DTSTAMP:20260425T074559
CREATED:20210205T135745Z
LAST-MODIFIED:20210205T135745Z
UID:1271-1612699200-1612717200@castlewoodhoa.com
SUMMARY:Clubhouse Reserved
DESCRIPTION:
URL:https://castlewoodhoa.com/event/clubhouse-reserved-45/
LOCATION:Castlewood HOA Clubhouse\, 3420 Fairfield Lane\, Highland Village\, TX\, 75077\, United States
CATEGORIES:Clubhouse Reservation
END:VEVENT
BEGIN:VEVENT
DTSTART;TZID=America/Chicago:20210205T170000
DTEND;TZID=America/Chicago:20210205T230000
DTSTAMP:20260425T074559
CREATED:20210119T195356Z
LAST-MODIFIED:20210205T143134Z
UID:364-1612544400-1612566000@castlewoodhoa.com
SUMMARY:Clubhouse Reserved
DESCRIPTION:
URL:https://castlewoodhoa.com/event/clubhouse-reserved-6/
LOCATION:Castlewood HOA Clubhouse\, 3420 Fairfield Lane\, Highland Village\, TX\, 75077\, United States
CATEGORIES:Clubhouse Reservation
END:VEVENT
BEGIN:VEVENT
DTSTART;TZID=America/Chicago:20210203T160000
DTEND;TZID=America/Chicago:20210203T210000
DTSTAMP:20260425T074559
CREATED:20210119T195306Z
LAST-MODIFIED:20210119T212311Z
UID:362-1612368000-1612386000@castlewoodhoa.com
SUMMARY:Clubhouse Reserved
DESCRIPTION:
URL:https://castlewoodhoa.com/event/clubhouse-reserved-5/
LOCATION:Castlewood HOA Clubhouse\, 3420 Fairfield Lane\, Highland Village\, TX\, 75077\, United States
CATEGORIES:Clubhouse Reservation
END:VEVENT
BEGIN:VEVENT
DTSTART;TZID=America/Chicago:20210202T170000
DTEND;TZID=America/Chicago:20210202T230000
DTSTAMP:20260425T074559
CREATED:20210119T195217Z
LAST-MODIFIED:20210126T171832Z
UID:360-1612285200-1612306800@castlewoodhoa.com
SUMMARY:Clubhouse Reserved
DESCRIPTION:
URL:https://castlewoodhoa.com/event/clubhouse-reserved-4/
LOCATION:Castlewood HOA Clubhouse\, 3420 Fairfield Lane\, Highland Village\, TX\, 75077\, United States
CATEGORIES:Clubhouse Reservation
END:VEVENT
BEGIN:VEVENT
DTSTART;TZID=America/Chicago:20210128T180000
DTEND;TZID=America/Chicago:20210128T210000
DTSTAMP:20260425T074559
CREATED:20210128T165938Z
LAST-MODIFIED:20210128T165938Z
UID:1058-1611856800-1611867600@castlewoodhoa.com
SUMMARY:Clubhouse Reserved
DESCRIPTION:
URL:https://castlewoodhoa.com/event/clubhouse-reserved-43/
LOCATION:Castlewood HOA Clubhouse\, 3420 Fairfield Lane\, Highland Village\, TX\, 75077\, United States
CATEGORIES:Clubhouse Reservation
END:VEVENT
BEGIN:VEVENT
DTSTART;TZID=America/Chicago:20210126T170000
DTEND;TZID=America/Chicago:20210126T230000
DTSTAMP:20260425T074559
CREATED:20210119T195052Z
LAST-MODIFIED:20210119T212429Z
UID:358-1611680400-1611702000@castlewoodhoa.com
SUMMARY:Clubhouse Reserved
DESCRIPTION:
URL:https://castlewoodhoa.com/event/clubhouse-reserved-3/
LOCATION:Castlewood HOA Clubhouse\, 3420 Fairfield Lane\, Highland Village\, TX\, 75077\, United States
CATEGORIES:Clubhouse Reservation
END:VEVENT
BEGIN:VEVENT
DTSTART;VALUE=DATE:20210123
DTEND;VALUE=DATE:20210124
DTSTAMP:20260425T074559
CREATED:20210119T195005Z
LAST-MODIFIED:20210119T212324Z
UID:356-1611360000-1611446399@castlewoodhoa.com
SUMMARY:Clubhouse Reserved
DESCRIPTION:
URL:https://castlewoodhoa.com/event/clubhouse-reserved-2/
LOCATION:Castlewood HOA Clubhouse\, 3420 Fairfield Lane\, Highland Village\, TX\, 75077\, United States
CATEGORIES:Clubhouse Reservation
END:VEVENT
BEGIN:VEVENT
DTSTART;TZID=America/Chicago:20210122T170000
DTEND;TZID=America/Chicago:20210122T230000
DTSTAMP:20260425T074559
CREATED:20210119T194738Z
LAST-MODIFIED:20210119T214258Z
UID:354-1611334800-1611356400@castlewoodhoa.com
SUMMARY:Clubhouse Reserved
DESCRIPTION:
URL:https://castlewoodhoa.com/event/clubhouse-reserved/
CATEGORIES:Clubhouse Reservation
END:VEVENT
BEGIN:VEVENT
DTSTART;TZID=America/Chicago:20210120T190000
DTEND;TZID=America/Chicago:20210120T200000
DTSTAMP:20260425T074559
CREATED:20210118T152200Z
LAST-MODIFIED:20210120T200842Z
UID:201-1611169200-1611172800@castlewoodhoa.com
SUMMARY:HOA Board Meeting
DESCRIPTION:Meeting Information \nWhen: Wednesday\, January 20\, 2021\nTime: 7:00 p.m. Teleconference meeting\n \nDue to COVID restrictions\, meetings are currently being held via Zoom. If you would like to attend but did not receive an email link please complete the form below to have one sent. \n \nItems that may be discussed in executive session include actions involving personnel\, pending or threatened litigation\, contract negotiations\, enforcement actions\, confidential communications with the Association attorney\, matters involving invasion of privacy of owners\, and other matters that are confidential by request of an affected party and agreement of the Board. Please see here for your agenda.\n \nPlease enable JavaScript in your browser to complete this form.Name *FirstLastEmail *Home Address *Additional Comment or MessageSubmit
URL:https://castlewoodhoa.com/event/hoa-board-meeting/
LOCATION:Castlewood HOA Clubhouse\, 3420 Fairfield Lane\, Highland Village\, TX\, 75077\, United States
CATEGORIES:HOA BOD Administration
END:VEVENT
END:VCALENDAR