BEGIN:VCALENDAR
VERSION:2.0
PRODID:-//Castlewood Homeowners Association - ECPv6.15.17//NONSGML v1.0//EN
CALSCALE:GREGORIAN
METHOD:PUBLISH
X-WR-CALNAME:Castlewood Homeowners Association
X-ORIGINAL-URL:https://castlewoodhoa.com
X-WR-CALDESC:Events for Castlewood Homeowners Association
REFRESH-INTERVAL;VALUE=DURATION:PT1H
X-Robots-Tag:noindex
X-PUBLISHED-TTL:PT1H
BEGIN:VTIMEZONE
TZID:America/Chicago
BEGIN:DAYLIGHT
TZOFFSETFROM:-0600
TZOFFSETTO:-0500
TZNAME:CDT
DTSTART:20200308T080000
END:DAYLIGHT
BEGIN:STANDARD
TZOFFSETFROM:-0500
TZOFFSETTO:-0600
TZNAME:CST
DTSTART:20201101T070000
END:STANDARD
BEGIN:DAYLIGHT
TZOFFSETFROM:-0600
TZOFFSETTO:-0500
TZNAME:CDT
DTSTART:20210314T080000
END:DAYLIGHT
BEGIN:STANDARD
TZOFFSETFROM:-0500
TZOFFSETTO:-0600
TZNAME:CST
DTSTART:20211107T070000
END:STANDARD
BEGIN:DAYLIGHT
TZOFFSETFROM:-0600
TZOFFSETTO:-0500
TZNAME:CDT
DTSTART:20220313T080000
END:DAYLIGHT
BEGIN:STANDARD
TZOFFSETFROM:-0500
TZOFFSETTO:-0600
TZNAME:CST
DTSTART:20221106T070000
END:STANDARD
END:VTIMEZONE
BEGIN:VEVENT
DTSTART;TZID=America/Chicago:20210430T160000
DTEND;TZID=America/Chicago:20210430T230000
DTSTAMP:20260425T062347
CREATED:20210122T194334Z
LAST-MODIFIED:20210125T185045Z
UID:577-1619798400-1619823600@castlewoodhoa.com
SUMMARY:Clubhouse Reserved
DESCRIPTION:
URL:https://castlewoodhoa.com/event/clubhouse-reserved-23/
LOCATION:Castlewood HOA Clubhouse\, 3420 Fairfield Lane\, Highland Village\, TX\, 75077\, United States
CATEGORIES:Clubhouse Reservation
END:VEVENT
BEGIN:VEVENT
DTSTART;VALUE=DATE:20210429
DTEND;VALUE=DATE:20210430
DTSTAMP:20260425T062347
CREATED:20210412T131454Z
LAST-MODIFIED:20210419T181009Z
UID:1604-1619654400-1619740799@castlewoodhoa.com
SUMMARY:Clubhouse Reserved
DESCRIPTION:
URL:https://castlewoodhoa.com/event/pending-reservation-7/
LOCATION:Castlewood HOA Clubhouse\, 3420 Fairfield Lane\, Highland Village\, TX\, 75077\, United States
CATEGORIES:Clubhouse Reservation
END:VEVENT
BEGIN:VEVENT
DTSTART;TZID=America/Chicago:20210427T170000
DTEND;TZID=America/Chicago:20210427T230000
DTSTAMP:20260425T062347
CREATED:20210122T194245Z
LAST-MODIFIED:20210125T185115Z
UID:575-1619542800-1619564400@castlewoodhoa.com
SUMMARY:Clubhouse Reserved
DESCRIPTION:
URL:https://castlewoodhoa.com/event/clubhouse-reserved-22/
LOCATION:Castlewood HOA Clubhouse\, 3420 Fairfield Lane\, Highland Village\, TX\, 75077\, United States
CATEGORIES:Clubhouse Reservation
END:VEVENT
BEGIN:VEVENT
DTSTART;VALUE=DATE:20210424
DTEND;VALUE=DATE:20210425
DTSTAMP:20260425T062347
CREATED:20210405T132239Z
LAST-MODIFIED:20210408T193647Z
UID:1567-1619222400-1619308799@castlewoodhoa.com
SUMMARY:Clubhouse Reserved
DESCRIPTION:
URL:https://castlewoodhoa.com/event/pending-reservation-8/
LOCATION:Castlewood HOA Clubhouse\, 3420 Fairfield Lane\, Highland Village\, TX\, 75077\, United States
CATEGORIES:Clubhouse Reservation
END:VEVENT
BEGIN:VEVENT
DTSTART;TZID=America/Chicago:20210421T190000
DTEND;TZID=America/Chicago:20210421T200000
DTSTAMP:20260425T062347
CREATED:20210201T144645Z
LAST-MODIFIED:20210201T144715Z
UID:1245-1619031600-1619035200@castlewoodhoa.com
SUMMARY:HOA BOD Meeting
DESCRIPTION:Meeting Information \nWhen: Wednesday\, April 21\, 2021\nTime: 7:00 p.m. Teleconference meeting\n \nDue to COVID restrictions\, meetings are currently being held via Zoom. If you would like to attend but did not receive an email link please complete the form below to have one sent. \n \nItems that may be discussed in executive session include actions involving personnel\, pending or threatened litigation\, contract negotiations\, enforcement actions\, confidential communications with the Association attorney\, matters involving invasion of privacy of owners\, and other matters that are confidential by request of an affected party and agreement of the Board. Please see here for your agenda.\n \nPlease enable JavaScript in your browser to complete this form.Name *FirstLastEmail *Home Address *Additional Comment or MessageSubmit
URL:https://castlewoodhoa.com/event/hoa-bod-meeting-2/
LOCATION:Castlewood HOA Clubhouse\, 3420 Fairfield Lane\, Highland Village\, TX\, 75077\, United States
CATEGORIES:HOA BOD Administration
END:VEVENT
BEGIN:VEVENT
DTSTART;VALUE=DATE:20210417
DTEND;VALUE=DATE:20210418
DTSTAMP:20260425T062347
CREATED:20210322T130108Z
LAST-MODIFIED:20210329T222131Z
UID:1465-1618617600-1618703999@castlewoodhoa.com
SUMMARY:Clubhouse Reserved
DESCRIPTION:
URL:https://castlewoodhoa.com/event/pending-reservation-3/
LOCATION:Castlewood HOA Clubhouse\, 3420 Fairfield Lane\, Highland Village\, TX\, 75077\, United States
CATEGORIES:Clubhouse Reservation
END:VEVENT
BEGIN:VEVENT
DTSTART;VALUE=DATE:20210417
DTEND;VALUE=DATE:20210418
DTSTAMP:20260425T062347
CREATED:20210218T223037Z
LAST-MODIFIED:20210218T223037Z
UID:1347-1618617600-1618703999@castlewoodhoa.com
SUMMARY:Community Garage Sale
DESCRIPTION:
URL:https://castlewoodhoa.com/event/community-garage-sale-2/
LOCATION:Castlewood HOA Clubhouse\, 3420 Fairfield Lane\, Highland Village\, TX\, 75077\, United States
CATEGORIES:HOA Sponsored Event
END:VEVENT
BEGIN:VEVENT
DTSTART;TZID=America/Chicago:20210415T160000
DTEND;TZID=America/Chicago:20210415T210000
DTSTAMP:20260425T062347
CREATED:20210407T204950Z
LAST-MODIFIED:20210412T214338Z
UID:1590-1618502400-1618520400@castlewoodhoa.com
SUMMARY:Clubhouse Reserved
DESCRIPTION:
URL:https://castlewoodhoa.com/event/pending-reservation-6/
LOCATION:Castlewood HOA Clubhouse\, 3420 Fairfield Lane\, Highland Village\, TX\, 75077\, United States
CATEGORIES:Clubhouse Reservation
END:VEVENT
BEGIN:VEVENT
DTSTART;TZID=America/Chicago:20210413T170000
DTEND;TZID=America/Chicago:20210413T230000
DTSTAMP:20260425T062347
CREATED:20210323T140718Z
LAST-MODIFIED:20210323T140718Z
UID:1478-1618333200-1618354800@castlewoodhoa.com
SUMMARY:Clubhouse Reserved
DESCRIPTION:
URL:https://castlewoodhoa.com/event/clubhouse-reserved-56/
LOCATION:Castlewood HOA Clubhouse\, 3420 Fairfield Lane\, Highland Village\, TX\, 75077\, United States
CATEGORIES:Clubhouse Reservation
END:VEVENT
BEGIN:VEVENT
DTSTART;VALUE=DATE:20210411
DTEND;VALUE=DATE:20210412
DTSTAMP:20260425T062347
CREATED:20210122T193930Z
LAST-MODIFIED:20210125T185339Z
UID:569-1618099200-1618185599@castlewoodhoa.com
SUMMARY:Clubhouse Reserved
DESCRIPTION:
URL:https://castlewoodhoa.com/event/clubhouse-reserved-20/
LOCATION:Castlewood HOA Clubhouse\, 3420 Fairfield Lane\, Highland Village\, TX\, 75077\, United States
CATEGORIES:Clubhouse Reservation
END:VEVENT
BEGIN:VEVENT
DTSTART;VALUE=DATE:20210410
DTEND;VALUE=DATE:20210411
DTSTAMP:20260425T062347
CREATED:20210218T222907Z
LAST-MODIFIED:20210218T222907Z
UID:1345-1618012800-1618099199@castlewoodhoa.com
SUMMARY:Community Garage Sale
DESCRIPTION:
URL:https://castlewoodhoa.com/event/community-garage-sale/
LOCATION:Castlewood HOA Clubhouse\, 3420 Fairfield Lane\, Highland Village\, TX\, 75077\, United States
CATEGORIES:HOA Sponsored Event
END:VEVENT
BEGIN:VEVENT
DTSTART;VALUE=DATE:20210410
DTEND;VALUE=DATE:20210411
DTSTAMP:20260425T062347
CREATED:20210122T193855Z
LAST-MODIFIED:20210125T185418Z
UID:567-1618012800-1618099199@castlewoodhoa.com
SUMMARY:Clubhouse Reserved
DESCRIPTION:
URL:https://castlewoodhoa.com/event/clubhouse-reserved-19/
LOCATION:Castlewood HOA Clubhouse\, 3420 Fairfield Lane\, Highland Village\, TX\, 75077\, United States
CATEGORIES:Clubhouse Reservation
END:VEVENT
BEGIN:VEVENT
DTSTART;TZID=America/Chicago:20210409T170000
DTEND;TZID=America/Chicago:20210409T230000
DTSTAMP:20260425T062347
CREATED:20210122T193813Z
LAST-MODIFIED:20210125T185453Z
UID:565-1617987600-1618009200@castlewoodhoa.com
SUMMARY:Clubhouse Reserved
DESCRIPTION:
URL:https://castlewoodhoa.com/event/clubhouse-reserved-18/
LOCATION:Castlewood HOA Clubhouse\, 3420 Fairfield Lane\, Highland Village\, TX\, 75077\, United States
CATEGORIES:Clubhouse Reservation
END:VEVENT
BEGIN:VEVENT
DTSTART;TZID=America/Chicago:20210407T160000
DTEND;TZID=America/Chicago:20210407T220000
DTSTAMP:20260425T062347
CREATED:20210122T193623Z
LAST-MODIFIED:20210125T185529Z
UID:563-1617811200-1617832800@castlewoodhoa.com
SUMMARY:Clubhouse Reserved
DESCRIPTION:
URL:https://castlewoodhoa.com/event/clubhouse-reserved-17/
LOCATION:Castlewood HOA Clubhouse\, 3420 Fairfield Lane\, Highland Village\, TX\, 75077\, United States
CATEGORIES:Clubhouse Reservation
END:VEVENT
BEGIN:VEVENT
DTSTART;VALUE=DATE:20210403
DTEND;VALUE=DATE:20210404
DTSTAMP:20260425T062347
CREATED:20210323T173422Z
LAST-MODIFIED:20210323T173422Z
UID:1485-1617408000-1617494399@castlewoodhoa.com
SUMMARY:NO Reservations
DESCRIPTION:
URL:https://castlewoodhoa.com/event/no-reservations-2/
LOCATION:Castlewood HOA Clubhouse\, 3420 Fairfield Lane\, Highland Village\, TX\, 75077\, United States
CATEGORIES:Clubhouse Reservation
END:VEVENT
BEGIN:VEVENT
DTSTART;VALUE=DATE:20210402
DTEND;VALUE=DATE:20210403
DTSTAMP:20260425T062347
CREATED:20210315T140758Z
LAST-MODIFIED:20210315T140758Z
UID:1432-1617321600-1617407999@castlewoodhoa.com
SUMMARY:Office Closed
DESCRIPTION:
URL:https://castlewoodhoa.com/event/office-closed-3/
LOCATION:Castlewood HOA Clubhouse\, 3420 Fairfield Lane\, Highland Village\, TX\, 75077\, United States
CATEGORIES:HOA BOD Administration
END:VEVENT
BEGIN:VEVENT
DTSTART;VALUE=DATE:20210402
DTEND;VALUE=DATE:20210403
DTSTAMP:20260425T062347
CREATED:20210119T200332Z
LAST-MODIFIED:20210323T173140Z
UID:384-1617321600-1617407999@castlewoodhoa.com
SUMMARY:Easter Eggstravaganza
DESCRIPTION:
URL:https://castlewoodhoa.com/event/reserved-community-event/
LOCATION:Castlewood HOA Clubhouse\, 3420 Fairfield Lane\, Highland Village\, TX\, 75077\, United States
CATEGORIES:HOA Sponsored Event
ATTACH;FMTTYPE=image/jpeg:https://castlewoodhoa.com/wp-content/uploads/2021/01/big-easter-ad-1.jpg
END:VEVENT
BEGIN:VEVENT
DTSTART;VALUE=DATE:20210401
DTEND;VALUE=DATE:20210402
DTSTAMP:20260425T062347
CREATED:20210323T173231Z
LAST-MODIFIED:20210323T173525Z
UID:1483-1617235200-1617321599@castlewoodhoa.com
SUMMARY:NO Reservations
DESCRIPTION:
URL:https://castlewoodhoa.com/event/no-reservations/
LOCATION:Castlewood HOA Clubhouse\, 3420 Fairfield Lane\, Highland Village\, TX\, 75077\, United States
CATEGORIES:Clubhouse Reservation
END:VEVENT
BEGIN:VEVENT
DTSTART;TZID=America/Chicago:20210331T170000
DTEND;TZID=America/Chicago:20210331T230000
DTSTAMP:20260425T062347
CREATED:20210125T160816Z
LAST-MODIFIED:20210125T185651Z
UID:688-1617210000-1617231600@castlewoodhoa.com
SUMMARY:Clubhouse Reserved
DESCRIPTION:
URL:https://castlewoodhoa.com/event/clubhouse-reserved-40/
LOCATION:Castlewood HOA Clubhouse\, 3420 Fairfield Lane\, Highland Village\, TX\, 75077\, United States
CATEGORIES:Clubhouse Reservation
END:VEVENT
BEGIN:VEVENT
DTSTART;VALUE=DATE:20210328
DTEND;VALUE=DATE:20210329
DTSTAMP:20260425T062347
CREATED:20210308T202312Z
LAST-MODIFIED:20210308T202312Z
UID:1420-1616889600-1616975999@castlewoodhoa.com
SUMMARY:Clubhouse Reserved
DESCRIPTION:
URL:https://castlewoodhoa.com/event/clubhouse-reserved-57/
LOCATION:Castlewood HOA Clubhouse\, 3420 Fairfield Lane\, Highland Village\, TX\, 75077\, United States
CATEGORIES:Clubhouse Reservation
END:VEVENT
BEGIN:VEVENT
DTSTART;VALUE=DATE:20210327
DTEND;VALUE=DATE:20210328
DTSTAMP:20260425T062347
CREATED:20210308T202056Z
LAST-MODIFIED:20210315T221521Z
UID:1416-1616803200-1616889599@castlewoodhoa.com
SUMMARY:Clubhouse Reserved
DESCRIPTION:
URL:https://castlewoodhoa.com/event/reservation-pending/
LOCATION:Castlewood HOA Clubhouse\, 3420 Fairfield Lane\, Highland Village\, TX\, 75077\, United States
CATEGORIES:Clubhouse Reservation
END:VEVENT
BEGIN:VEVENT
DTSTART;TZID=America/Chicago:20210326T150000
DTEND;TZID=America/Chicago:20210326T233000
DTSTAMP:20260425T062347
CREATED:20210309T234021Z
LAST-MODIFIED:20210315T221623Z
UID:1425-1616770800-1616801400@castlewoodhoa.com
SUMMARY:Clubhouse Reserved
DESCRIPTION:
URL:https://castlewoodhoa.com/event/reservation-pending-2/
LOCATION:Castlewood HOA Clubhouse\, 3420 Fairfield Lane\, Highland Village\, TX\, 75077\, United States
CATEGORIES:Clubhouse Reservation
END:VEVENT
BEGIN:VEVENT
DTSTART;VALUE=DATE:20210326
DTEND;VALUE=DATE:20210327
DTSTAMP:20260425T062347
CREATED:20210325T140911Z
LAST-MODIFIED:20210325T140911Z
UID:1500-1616716800-1616803199@castlewoodhoa.com
SUMMARY:Office Closed
DESCRIPTION:
URL:https://castlewoodhoa.com/event/office-closed-4/
LOCATION:Castlewood HOA Clubhouse\, 3420 Fairfield Lane\, Highland Village\, TX\, 75077\, United States
CATEGORIES:HOA BOD Administration
END:VEVENT
BEGIN:VEVENT
DTSTART;TZID=America/Chicago:20210317T190000
DTEND;TZID=America/Chicago:20210317T200000
DTSTAMP:20260425T062347
CREATED:20210119T200608Z
LAST-MODIFIED:20210317T224604Z
UID:390-1616007600-1616011200@castlewoodhoa.com
SUMMARY:HOA BOD Meeting
DESCRIPTION:Meeting Information \nWhen: Wednesday\, March 17\, 2021\nTime: 7:00 p.m. Teleconference meeting\n \nDue to COVID restrictions\, meetings are currently being held via Zoom. If you would like to attend but did not receive an email link please complete the form below to have one sent. \n \nItems that may be discussed in executive session include actions involving personnel\, pending or threatened litigation\, contract negotiations\, enforcement actions\, confidential communications with the Association attorney\, matters involving invasion of privacy of owners\, and other matters that are confidential by request of an affected party and agreement of the Board. Please see here for your agenda.\n \nPlease enable JavaScript in your browser to complete this form.Name *FirstLastEmail *Home Address *Additional Comment or MessageSubmit
URL:https://castlewoodhoa.com/event/hoa-bod-meeting/
LOCATION:Castlewood HOA Clubhouse\, 3420 Fairfield Lane\, Highland Village\, TX\, 75077\, United States
CATEGORIES:HOA BOD Administration
END:VEVENT
BEGIN:VEVENT
DTSTART;VALUE=DATE:20210312
DTEND;VALUE=DATE:20210313
DTSTAMP:20260425T062347
CREATED:20210309T234826Z
LAST-MODIFIED:20210309T234826Z
UID:1427-1615507200-1615593599@castlewoodhoa.com
SUMMARY:Clubhouse Reserved
DESCRIPTION:
URL:https://castlewoodhoa.com/event/clubhouse-reserved-58/
LOCATION:Castlewood HOA Clubhouse\, 3420 Fairfield Lane\, Highland Village\, TX\, 75077\, United States
CATEGORIES:Clubhouse Reservation
END:VEVENT
BEGIN:VEVENT
DTSTART;TZID=America/Chicago:20210310T150000
DTEND;TZID=America/Chicago:20210310T233000
DTSTAMP:20260425T062347
CREATED:20210301T141336Z
LAST-MODIFIED:20210301T141336Z
UID:1405-1615388400-1615419000@castlewoodhoa.com
SUMMARY:Clubhouse Maintenance
DESCRIPTION:
URL:https://castlewoodhoa.com/event/clubhouse-maintenance/
LOCATION:Castlewood HOA Clubhouse\, 3420 Fairfield Lane\, Highland Village\, TX\, 75077\, United States
CATEGORIES:HOA BOD Administration
END:VEVENT
BEGIN:VEVENT
DTSTART;VALUE=DATE:20210309
DTEND;VALUE=DATE:20210313
DTSTAMP:20260425T062347
CREATED:20210119T201250Z
LAST-MODIFIED:20210301T145330Z
UID:398-1615248000-1615593599@castlewoodhoa.com
SUMMARY:Office Closed
DESCRIPTION:
URL:https://castlewoodhoa.com/event/office-closed/
LOCATION:Castlewood HOA Clubhouse\, 3420 Fairfield Lane\, Highland Village\, TX\, 75077\, United States
CATEGORIES:HOA BOD Administration
END:VEVENT
BEGIN:VEVENT
DTSTART;TZID=America/Chicago:20210305T170000
DTEND;TZID=America/Chicago:20210305T230000
DTSTAMP:20260425T062347
CREATED:20210119T200118Z
LAST-MODIFIED:20210125T190445Z
UID:382-1614963600-1614985200@castlewoodhoa.com
SUMMARY:Clubhouse Reserved
DESCRIPTION:
URL:https://castlewoodhoa.com/event/clubhouse-reserved-14/
LOCATION:Castlewood HOA Clubhouse\, 3420 Fairfield Lane\, Highland Village\, TX\, 75077\, United States
CATEGORIES:Clubhouse Reservation
END:VEVENT
BEGIN:VEVENT
DTSTART;TZID=America/Chicago:20210303T160000
DTEND;TZID=America/Chicago:20210303T210000
DTSTAMP:20260425T062347
CREATED:20210119T200036Z
LAST-MODIFIED:20210125T190524Z
UID:380-1614787200-1614805200@castlewoodhoa.com
SUMMARY:Clubhouse Reserved
DESCRIPTION:
URL:https://castlewoodhoa.com/event/clubhouse-reserved-13/
LOCATION:Castlewood HOA Clubhouse\, 3420 Fairfield Lane\, Highland Village\, TX\, 75077\, United States
CATEGORIES:Clubhouse Reservation
END:VEVENT
BEGIN:VEVENT
DTSTART;TZID=America/Chicago:20210302T170000
DTEND;TZID=America/Chicago:20210302T230000
DTSTAMP:20260425T062347
CREATED:20210119T195954Z
LAST-MODIFIED:20210125T190608Z
UID:378-1614704400-1614726000@castlewoodhoa.com
SUMMARY:Clubhouse Reserved
DESCRIPTION:
URL:https://castlewoodhoa.com/event/clubhouse-reserved-12/
LOCATION:Castlewood HOA Clubhouse\, 3420 Fairfield Lane\, Highland Village\, TX\, 75077\, United States
CATEGORIES:Clubhouse Reservation
END:VEVENT
END:VCALENDAR