BEGIN:VCALENDAR
VERSION:2.0
PRODID:-//Castlewood Homeowners Association - ECPv6.15.17//NONSGML v1.0//EN
CALSCALE:GREGORIAN
METHOD:PUBLISH
X-WR-CALNAME:Castlewood Homeowners Association
X-ORIGINAL-URL:https://castlewoodhoa.com
X-WR-CALDESC:Events for Castlewood Homeowners Association
REFRESH-INTERVAL;VALUE=DURATION:PT1H
X-Robots-Tag:noindex
X-PUBLISHED-TTL:PT1H
BEGIN:VTIMEZONE
TZID:America/Chicago
BEGIN:DAYLIGHT
TZOFFSETFROM:-0600
TZOFFSETTO:-0500
TZNAME:CDT
DTSTART:20210314T080000
END:DAYLIGHT
BEGIN:STANDARD
TZOFFSETFROM:-0500
TZOFFSETTO:-0600
TZNAME:CST
DTSTART:20211107T070000
END:STANDARD
BEGIN:DAYLIGHT
TZOFFSETFROM:-0600
TZOFFSETTO:-0500
TZNAME:CDT
DTSTART:20220313T080000
END:DAYLIGHT
BEGIN:STANDARD
TZOFFSETFROM:-0500
TZOFFSETTO:-0600
TZNAME:CST
DTSTART:20221106T070000
END:STANDARD
BEGIN:DAYLIGHT
TZOFFSETFROM:-0600
TZOFFSETTO:-0500
TZNAME:CDT
DTSTART:20230312T080000
END:DAYLIGHT
BEGIN:STANDARD
TZOFFSETFROM:-0500
TZOFFSETTO:-0600
TZNAME:CST
DTSTART:20231105T070000
END:STANDARD
END:VTIMEZONE
BEGIN:VEVENT
DTSTART;VALUE=DATE:20220529
DTEND;VALUE=DATE:20220530
DTSTAMP:20260424T054905
CREATED:20210827T142546Z
LAST-MODIFIED:20220413T192038Z
UID:2159-1653782400-1653868799@castlewoodhoa.com
SUMMARY:Pig Roast
DESCRIPTION:
URL:https://castlewoodhoa.com/event/no-reservations-12/
LOCATION:Castlewood HOA Clubhouse\, 3420 Fairfield Lane\, Highland Village\, TX\, 75077\, United States
CATEGORIES:Community Event
ATTACH;FMTTYPE=image/jpeg:https://castlewoodhoa.com/wp-content/uploads/2021/08/Picture1.jpg
END:VEVENT
BEGIN:VEVENT
DTSTART;VALUE=DATE:20220528
DTEND;VALUE=DATE:20220529
DTSTAMP:20260424T054905
CREATED:20220419T152358Z
LAST-MODIFIED:20220419T152358Z
UID:2988-1653696000-1653782399@castlewoodhoa.com
SUMMARY:Pavilion Reserved
DESCRIPTION:
URL:https://castlewoodhoa.com/event/pavilion-reserved-14/
LOCATION:Pavilion\, 3420 Fairfield Lane\, Highland Village\, TX\, 75077\, United States
CATEGORIES:Pavilion Reservation
END:VEVENT
BEGIN:VEVENT
DTSTART;VALUE=DATE:20220528
DTEND;VALUE=DATE:20220529
DTSTAMP:20260424T054905
CREATED:20220413T192114Z
LAST-MODIFIED:20220413T192114Z
UID:2972-1653696000-1653782399@castlewoodhoa.com
SUMMARY:NO RESERVATIONS
DESCRIPTION:
URL:https://castlewoodhoa.com/event/no-reservations-18/
LOCATION:Castlewood HOA Clubhouse\, 3420 Fairfield Lane\, Highland Village\, TX\, 75077\, United States
CATEGORIES:HOA BOD Administration
END:VEVENT
BEGIN:VEVENT
DTSTART;VALUE=DATE:20220527
DTEND;VALUE=DATE:20220528
DTSTAMP:20260424T054905
CREATED:20220505T173706Z
LAST-MODIFIED:20220505T173706Z
UID:3064-1653609600-1653695999@castlewoodhoa.com
SUMMARY:Clubhouse Reserved
DESCRIPTION:
URL:https://castlewoodhoa.com/event/clubhouse-reserved-268/
LOCATION:Castlewood HOA Clubhouse\, 3420 Fairfield Lane\, Highland Village\, TX\, 75077\, United States
CATEGORIES:Clubhouse Reservation
END:VEVENT
BEGIN:VEVENT
DTSTART;TZID=America/Chicago:20220525T110000
DTEND;TZID=America/Chicago:20220525T190000
DTSTAMP:20260424T054905
CREATED:20220201T163829Z
LAST-MODIFIED:20220314T142541Z
UID:2734-1653476400-1653505200@castlewoodhoa.com
SUMMARY:Clubhouse & Pavilion Reserved
DESCRIPTION:
URL:https://castlewoodhoa.com/event/castlewood-dragons-evening-practice-pool-closed/
LOCATION:Castlewood HOA Clubhouse\, 3420 Fairfield Lane\, Highland Village\, TX\, 75077\, United States
CATEGORIES:Clubhouse Reservation
END:VEVENT
BEGIN:VEVENT
DTSTART;VALUE=DATE:20220522
DTEND;VALUE=DATE:20220523
DTSTAMP:20260424T054905
CREATED:20210917T142133Z
LAST-MODIFIED:20210920T164645Z
UID:2234-1653177600-1653263999@castlewoodhoa.com
SUMMARY:Clubhouse Reserved
DESCRIPTION:
URL:https://castlewoodhoa.com/event/pending-clubhouse-reservation-3/
LOCATION:Castlewood HOA Clubhouse\, 3420 Fairfield Lane\, Highland Village\, TX\, 75077\, United States
CATEGORIES:Clubhouse Reservation
END:VEVENT
BEGIN:VEVENT
DTSTART;VALUE=DATE:20220521
DTEND;VALUE=DATE:20220522
DTSTAMP:20260424T054905
CREATED:20220504T214016Z
LAST-MODIFIED:20220504T214016Z
UID:3048-1653091200-1653177599@castlewoodhoa.com
SUMMARY:Clubhouse Reserved
DESCRIPTION:
URL:https://castlewoodhoa.com/event/clubhouse-reserved-77/
LOCATION:Castlewood HOA Clubhouse\, 3420 Fairfield Lane\, Highland Village\, TX\, 75077\, United States
CATEGORIES:Clubhouse Reservation
END:VEVENT
BEGIN:VEVENT
DTSTART;TZID=America/Chicago:20220519T170000
DTEND;TZID=America/Chicago:20220519T210000
DTSTAMP:20260424T054905
CREATED:20220124T161918Z
LAST-MODIFIED:20220124T161918Z
UID:2715-1652979600-1652994000@castlewoodhoa.com
SUMMARY:Clubhouse Reserved
DESCRIPTION:
URL:https://castlewoodhoa.com/event/clubhouse-reserved-232/
LOCATION:Castlewood HOA Clubhouse\, 3420 Fairfield Lane\, Highland Village\, TX\, 75077\, United States
CATEGORIES:Clubhouse Reservation
END:VEVENT
BEGIN:VEVENT
DTSTART;TZID=America/Chicago:20220518T190000
DTEND;TZID=America/Chicago:20220518T210000
DTSTAMP:20260424T054905
CREATED:20210826T203910Z
LAST-MODIFIED:20210826T203910Z
UID:2131-1652900400-1652907600@castlewoodhoa.com
SUMMARY:HOA BOD Meeting
DESCRIPTION:
URL:https://castlewoodhoa.com/event/hoa-bod-meeting-15/
LOCATION:Castlewood HOA Clubhouse\, 3420 Fairfield Lane\, Highland Village\, TX\, 75077\, United States
CATEGORIES:HOA BOD Administration
END:VEVENT
BEGIN:VEVENT
DTSTART;TZID=America/Chicago:20220518T090000
DTEND;TZID=America/Chicago:20220518T110000
DTSTAMP:20260424T054905
CREATED:20211118T184325Z
LAST-MODIFIED:20211118T184325Z
UID:2502-1652864400-1652871600@castlewoodhoa.com
SUMMARY:Clubhouse Reserved
DESCRIPTION:
URL:https://castlewoodhoa.com/event/clubhouse-reserved-178/
LOCATION:Castlewood HOA Clubhouse\, 3420 Fairfield Lane\, Highland Village\, TX\, 75077\, United States
CATEGORIES:Clubhouse Reservation
END:VEVENT
BEGIN:VEVENT
DTSTART;TZID=America/Chicago:20220517T150000
DTEND;TZID=America/Chicago:20220517T220000
DTSTAMP:20260424T054905
CREATED:20220323T193604Z
LAST-MODIFIED:20220517T175415Z
UID:2910-1652799600-1652824800@castlewoodhoa.com
SUMMARY:Clubhouse Reserved
DESCRIPTION:
URL:https://castlewoodhoa.com/event/pending-reservation-27/
LOCATION:Castlewood HOA Clubhouse\, 3420 Fairfield Lane\, Highland Village\, TX\, 75077\, United States
CATEGORIES:Clubhouse Reservation
END:VEVENT
BEGIN:VEVENT
DTSTART;TZID=America/Chicago:20220517T110000
DTEND;TZID=America/Chicago:20220517T150000
DTSTAMP:20260424T054905
CREATED:20220413T195310Z
LAST-MODIFIED:20220413T195310Z
UID:2979-1652785200-1652799600@castlewoodhoa.com
SUMMARY:Clubhouse Reserved
DESCRIPTION:
URL:https://castlewoodhoa.com/event/clubhouse-reserved-257/
LOCATION:Castlewood HOA Clubhouse\, 3420 Fairfield Lane\, Highland Village\, TX\, 75077\, United States
CATEGORIES:Clubhouse Reservation
END:VEVENT
BEGIN:VEVENT
DTSTART;TZID=America/Chicago:20220516T170000
DTEND;TZID=America/Chicago:20220516T210000
DTSTAMP:20260424T054905
CREATED:20220418T133343Z
LAST-MODIFIED:20220418T133343Z
UID:2986-1652720400-1652734800@castlewoodhoa.com
SUMMARY:Clubhouse Reserved
DESCRIPTION:
URL:https://castlewoodhoa.com/event/clubhouse-reserved-240/
LOCATION:Castlewood HOA Clubhouse\, 3420 Fairfield Lane\, Highland Village\, TX\, 75077\, United States
CATEGORIES:Clubhouse Reservation
END:VEVENT
BEGIN:VEVENT
DTSTART;TZID=America/Chicago:20220516T120000
DTEND;TZID=America/Chicago:20220516T160000
DTSTAMP:20260424T054905
CREATED:20211026T135957Z
LAST-MODIFIED:20220513T150418Z
UID:2373-1652702400-1652716800@castlewoodhoa.com
SUMMARY:Clubhouse Reserved
DESCRIPTION:
URL:https://castlewoodhoa.com/event/clubhouse-reserved-141/
LOCATION:Castlewood HOA Clubhouse\, 3420 Fairfield Lane\, Highland Village\, TX\, 75077\, United States
CATEGORIES:Clubhouse Reservation
END:VEVENT
BEGIN:VEVENT
DTSTART;TZID=America/Chicago:20220515T170000
DTEND;TZID=America/Chicago:20220515T220000
DTSTAMP:20260424T054905
CREATED:20220509T153516Z
LAST-MODIFIED:20220509T153516Z
UID:3073-1652634000-1652652000@castlewoodhoa.com
SUMMARY:Clubhouse Reserved
DESCRIPTION:
URL:https://castlewoodhoa.com/event/clubhouse-reserved-270/
LOCATION:Castlewood HOA Clubhouse\, 3420 Fairfield Lane\, Highland Village\, TX\, 75077\, United States
CATEGORIES:Clubhouse Reservation
END:VEVENT
BEGIN:VEVENT
DTSTART;VALUE=DATE:20220515
DTEND;VALUE=DATE:20220516
DTSTAMP:20260424T054905
CREATED:20220411T173432Z
LAST-MODIFIED:20220411T173432Z
UID:2951-1652572800-1652659199@castlewoodhoa.com
SUMMARY:Pavilion Reserved Swim Team
DESCRIPTION:
URL:https://castlewoodhoa.com/event/pavilion-reserved-swim-team/
LOCATION:Pavilion\, 3420 Fairfield Lane\, Highland Village\, TX\, 75077\, United States
CATEGORIES:Pavilion Reservation
END:VEVENT
BEGIN:VEVENT
DTSTART;VALUE=DATE:20220514
DTEND;VALUE=DATE:20220515
DTSTAMP:20260424T054905
CREATED:20220509T194407Z
LAST-MODIFIED:20220509T194407Z
UID:3075-1652486400-1652572799@castlewoodhoa.com
SUMMARY:Pavilion Reserved
DESCRIPTION:
URL:https://castlewoodhoa.com/event/pavilion-reserved-20/
LOCATION:Pavilion\, 3420 Fairfield Lane\, Highland Village\, TX\, 75077\, United States
CATEGORIES:Pavilion Reservation
END:VEVENT
BEGIN:VEVENT
DTSTART;TZID=America/Chicago:20220513T160000
DTEND;TZID=America/Chicago:20220513T210000
DTSTAMP:20260424T054905
CREATED:20220509T142851Z
LAST-MODIFIED:20220509T142851Z
UID:3070-1652457600-1652475600@castlewoodhoa.com
SUMMARY:Clubhouse Reserved
DESCRIPTION:
URL:https://castlewoodhoa.com/event/clubhouse-reserved-269/
LOCATION:Castlewood HOA Clubhouse\, 3420 Fairfield Lane\, Highland Village\, TX\, 75077\, United States
CATEGORIES:Clubhouse Reservation
END:VEVENT
BEGIN:VEVENT
DTSTART;TZID=America/Chicago:20220512T180000
DTEND;TZID=America/Chicago:20220512T230000
DTSTAMP:20260424T054905
CREATED:20210617T161127Z
LAST-MODIFIED:20210617T161127Z
UID:1847-1652378400-1652396400@castlewoodhoa.com
SUMMARY:Clubhouse Reserved
DESCRIPTION:
URL:https://castlewoodhoa.com/event/clubhouse-reserved-89/
LOCATION:Castlewood HOA Clubhouse\, 3420 Fairfield Lane\, Highland Village\, TX\, 75077\, United States
CATEGORIES:Clubhouse Reservation
END:VEVENT
BEGIN:VEVENT
DTSTART;TZID=America/Chicago:20220512T110000
DTEND;TZID=America/Chicago:20220512T170000
DTSTAMP:20260424T054905
CREATED:20220510T160324Z
LAST-MODIFIED:20220510T160324Z
UID:3077-1652353200-1652374800@castlewoodhoa.com
SUMMARY:Clubhouse Reserved
DESCRIPTION:
URL:https://castlewoodhoa.com/event/clubhouse-reserved-262/
LOCATION:Castlewood HOA Clubhouse\, 3420 Fairfield Lane\, Highland Village\, TX\, 75077\, United States
CATEGORIES:Clubhouse Reservation
END:VEVENT
BEGIN:VEVENT
DTSTART;TZID=America/Chicago:20220511T180000
DTEND;TZID=America/Chicago:20220511T220000
DTSTAMP:20260424T054905
CREATED:20211117T185716Z
LAST-MODIFIED:20211117T185716Z
UID:2460-1652292000-1652306400@castlewoodhoa.com
SUMMARY:Clubhouse Reserved
DESCRIPTION:
URL:https://castlewoodhoa.com/event/clubhouse-reserved-164/
LOCATION:Castlewood HOA Clubhouse\, 3420 Fairfield Lane\, Highland Village\, TX\, 75077\, United States
CATEGORIES:Clubhouse Reservation
END:VEVENT
BEGIN:VEVENT
DTSTART;TZID=America/Chicago:20220511T150000
DTEND;TZID=America/Chicago:20220511T180000
DTSTAMP:20260424T054905
CREATED:20210826T194341Z
LAST-MODIFIED:20210826T194341Z
UID:2109-1652281200-1652292000@castlewoodhoa.com
SUMMARY:Clubhouse Reserved
DESCRIPTION:
URL:https://castlewoodhoa.com/event/clubhouse-reserved-123/
LOCATION:Castlewood HOA Clubhouse\, 3420 Fairfield Lane\, Highland Village\, TX\, 75077\, United States
CATEGORIES:Clubhouse Reservation
END:VEVENT
BEGIN:VEVENT
DTSTART;TZID=America/Chicago:20220511T090000
DTEND;TZID=America/Chicago:20220511T110000
DTSTAMP:20260424T054905
CREATED:20211118T193227Z
LAST-MODIFIED:20211118T193227Z
UID:2508-1652259600-1652266800@castlewoodhoa.com
SUMMARY:Clubhouse Reserved
DESCRIPTION:
URL:https://castlewoodhoa.com/event/clubhouse-reserved-185/
LOCATION:Castlewood HOA Clubhouse\, 3420 Fairfield Lane\, Highland Village\, TX\, 75077\, United States
CATEGORIES:Clubhouse Reservation
END:VEVENT
BEGIN:VEVENT
DTSTART;TZID=America/Chicago:20220510T170000
DTEND;TZID=America/Chicago:20220510T200000
DTSTAMP:20260424T054905
CREATED:20210820T172807Z
LAST-MODIFIED:20210820T172807Z
UID:2040-1652202000-1652212800@castlewoodhoa.com
SUMMARY:Clubhouse Reserved
DESCRIPTION:
URL:https://castlewoodhoa.com/event/clubhouse-reserved-107/
LOCATION:Castlewood HOA Clubhouse\, 3420 Fairfield Lane\, Highland Village\, TX\, 75077\, United States
CATEGORIES:Clubhouse Reservation
END:VEVENT
BEGIN:VEVENT
DTSTART;VALUE=DATE:20220509
DTEND;VALUE=DATE:20220510
DTSTAMP:20260424T054905
CREATED:20220117T192029Z
LAST-MODIFIED:20220201T164043Z
UID:2695-1652054400-1652140799@castlewoodhoa.com
SUMMARY:Castlewood Dragon Event
DESCRIPTION:
URL:https://castlewoodhoa.com/event/clubhouse-reserved-227/
LOCATION:Castlewood HOA Clubhouse\, 3420 Fairfield Lane\, Highland Village\, TX\, 75077\, United States
CATEGORIES:Clubhouse Reservation
END:VEVENT
BEGIN:VEVENT
DTSTART;VALUE=DATE:20220508
DTEND;VALUE=DATE:20220509
DTSTAMP:20260424T054905
CREATED:20220414T144556Z
LAST-MODIFIED:20220414T144556Z
UID:2983-1651968000-1652054399@castlewoodhoa.com
SUMMARY:Clubhouse Reserved
DESCRIPTION:
URL:https://castlewoodhoa.com/event/clubhouse-reserved-259/
LOCATION:Castlewood HOA Clubhouse\, 3420 Fairfield Lane\, Highland Village\, TX\, 75077\, United States
CATEGORIES:Clubhouse Reservation
END:VEVENT
BEGIN:VEVENT
DTSTART;VALUE=DATE:20220507
DTEND;VALUE=DATE:20220508
DTSTAMP:20260424T054905
CREATED:20220411T173403Z
LAST-MODIFIED:20220425T142630Z
UID:2949-1651881600-1651967999@castlewoodhoa.com
SUMMARY:Clubhouse Reserved
DESCRIPTION:
URL:https://castlewoodhoa.com/event/clubhouse-reserved-122/
LOCATION:Castlewood HOA Clubhouse\, 3420 Fairfield Lane\, Highland Village\, TX\, 75077\, United States
CATEGORIES:Clubhouse Reservation
END:VEVENT
BEGIN:VEVENT
DTSTART;TZID=America/Chicago:20220506T170000
DTEND;TZID=America/Chicago:20220506T220000
DTSTAMP:20260424T054905
CREATED:20220425T143607Z
LAST-MODIFIED:20220425T143607Z
UID:3007-1651856400-1651874400@castlewoodhoa.com
SUMMARY:Clubhouse Reserved
DESCRIPTION:
URL:https://castlewoodhoa.com/event/clubhouse-reserved-260/
LOCATION:Castlewood HOA Clubhouse\, 3420 Fairfield Lane\, Highland Village\, TX\, 75077\, United States
CATEGORIES:Clubhouse Reservation
END:VEVENT
BEGIN:VEVENT
DTSTART;VALUE=DATE:20220506
DTEND;VALUE=DATE:20220507
DTSTAMP:20260424T054905
CREATED:20220425T143115Z
LAST-MODIFIED:20220425T143115Z
UID:3005-1651795200-1651881599@castlewoodhoa.com
SUMMARY:Pavilion Reserved
DESCRIPTION:
URL:https://castlewoodhoa.com/event/pavilion-reserved-15/
LOCATION:Pavilion\, 3420 Fairfield Lane\, Highland Village\, TX\, 75077\, United States
CATEGORIES:Pavilion Reservation
END:VEVENT
BEGIN:VEVENT
DTSTART;VALUE=DATE:20220505
DTEND;VALUE=DATE:20220506
DTSTAMP:20260424T054905
CREATED:20210916T164204Z
LAST-MODIFIED:20220423T160536Z
UID:2230-1651708800-1651795199@castlewoodhoa.com
SUMMARY:Informational Session
DESCRIPTION:Registration Link
URL:https://castlewoodhoa.com/event/clubhouse-reserved-136/
LOCATION:Castlewood HOA Clubhouse\, 3420 Fairfield Lane\, Highland Village\, TX\, 75077\, United States
CATEGORIES:Clubhouse Reservation
ATTACH;FMTTYPE=image/png:https://castlewoodhoa.com/wp-content/uploads/2022/01/Screenshot-2022-04-13-142605.png
END:VEVENT
END:VCALENDAR