BEGIN:VCALENDAR
VERSION:2.0
PRODID:-//Castlewood Homeowners Association - ECPv6.15.17//NONSGML v1.0//EN
CALSCALE:GREGORIAN
METHOD:PUBLISH
X-WR-CALNAME:Castlewood Homeowners Association
X-ORIGINAL-URL:https://castlewoodhoa.com
X-WR-CALDESC:Events for Castlewood Homeowners Association
REFRESH-INTERVAL;VALUE=DURATION:PT1H
X-Robots-Tag:noindex
X-PUBLISHED-TTL:PT1H
BEGIN:VTIMEZONE
TZID:America/Chicago
BEGIN:DAYLIGHT
TZOFFSETFROM:-0600
TZOFFSETTO:-0500
TZNAME:CDT
DTSTART:20210314T080000
END:DAYLIGHT
BEGIN:STANDARD
TZOFFSETFROM:-0500
TZOFFSETTO:-0600
TZNAME:CST
DTSTART:20211107T070000
END:STANDARD
BEGIN:DAYLIGHT
TZOFFSETFROM:-0600
TZOFFSETTO:-0500
TZNAME:CDT
DTSTART:20220313T080000
END:DAYLIGHT
BEGIN:STANDARD
TZOFFSETFROM:-0500
TZOFFSETTO:-0600
TZNAME:CST
DTSTART:20221106T070000
END:STANDARD
BEGIN:DAYLIGHT
TZOFFSETFROM:-0600
TZOFFSETTO:-0500
TZNAME:CDT
DTSTART:20230312T080000
END:DAYLIGHT
BEGIN:STANDARD
TZOFFSETFROM:-0500
TZOFFSETTO:-0600
TZNAME:CST
DTSTART:20231105T070000
END:STANDARD
END:VTIMEZONE
BEGIN:VEVENT
DTSTART;VALUE=DATE:20220625
DTEND;VALUE=DATE:20220626
DTSTAMP:20260424T063521
CREATED:20220622T191250Z
LAST-MODIFIED:20220622T191250Z
UID:3305-1656115200-1656201599@castlewoodhoa.com
SUMMARY:Clubhouse Reserved
DESCRIPTION:
URL:https://castlewoodhoa.com/event/clubhouse-reserved-310/
LOCATION:Castlewood HOA Clubhouse\, 3420 Fairfield Lane\, Highland Village\, TX\, 75077\, United States
CATEGORIES:Clubhouse Reservation
END:VEVENT
BEGIN:VEVENT
DTSTART;TZID=America/Chicago:20220624T150000
DTEND;TZID=America/Chicago:20220624T230000
DTSTAMP:20260424T063521
CREATED:20220518T152838Z
LAST-MODIFIED:20220518T153612Z
UID:3113-1656082800-1656111600@castlewoodhoa.com
SUMMARY:Clubhouse Reserved
DESCRIPTION:
URL:https://castlewoodhoa.com/event/clubhouse-reserved-278/
LOCATION:Castlewood HOA Clubhouse\, 3420 Fairfield Lane\, Highland Village\, TX\, 75077\, United States
CATEGORIES:Clubhouse Reservation
END:VEVENT
BEGIN:VEVENT
DTSTART;TZID=America/Chicago:20220623T170000
DTEND;TZID=America/Chicago:20220623T230000
DTSTAMP:20260424T063521
CREATED:20220527T141400Z
LAST-MODIFIED:20220527T141400Z
UID:3136-1656003600-1656025200@castlewoodhoa.com
SUMMARY:Clubhouse Reserved
DESCRIPTION:
URL:https://castlewoodhoa.com/event/clubhouse-reserved-281/
LOCATION:Castlewood HOA Clubhouse\, 3420 Fairfield Lane\, Highland Village\, TX\, 75077\, United States
CATEGORIES:Clubhouse Reservation
END:VEVENT
BEGIN:VEVENT
DTSTART;TZID=America/Chicago:20220622T170000
DTEND;TZID=America/Chicago:20220622T220000
DTSTAMP:20260424T063521
CREATED:20220329T190337Z
LAST-MODIFIED:20220329T190337Z
UID:2922-1655917200-1655935200@castlewoodhoa.com
SUMMARY:Clubhouse Reserved
DESCRIPTION:
URL:https://castlewoodhoa.com/event/clubhouse-reserved-250/
LOCATION:Castlewood HOA Clubhouse\, 3420 Fairfield Lane\, Highland Village\, TX\, 75077\, United States
CATEGORIES:Clubhouse Reservation
END:VEVENT
BEGIN:VEVENT
DTSTART;TZID=America/Chicago:20220620T130000
DTEND;TZID=America/Chicago:20220620T170000
DTSTAMP:20260424T063521
CREATED:20220610T214612Z
LAST-MODIFIED:20220610T214612Z
UID:3263-1655730000-1655744400@castlewoodhoa.com
SUMMARY:Clubhouse Reserved
DESCRIPTION:
URL:https://castlewoodhoa.com/event/clubhouse-reserved-304/
LOCATION:Castlewood HOA Clubhouse\, 3420 Fairfield Lane\, Highland Village\, TX\, 75077\, United States
CATEGORIES:Clubhouse Reservation
END:VEVENT
BEGIN:VEVENT
DTSTART;VALUE=DATE:20220619
DTEND;VALUE=DATE:20220620
DTSTAMP:20260424T063521
CREATED:20220603T201721Z
LAST-MODIFIED:20220603T201721Z
UID:3244-1655596800-1655683199@castlewoodhoa.com
SUMMARY:Clubhouse Reserved
DESCRIPTION:
URL:https://castlewoodhoa.com/event/clubhouse-reserved-300/
LOCATION:Castlewood HOA Clubhouse\, 3420 Fairfield Lane\, Highland Village\, TX\, 75077\, United States
CATEGORIES:Clubhouse Reservation
END:VEVENT
BEGIN:VEVENT
DTSTART;VALUE=DATE:20220618
DTEND;VALUE=DATE:20220619
DTSTAMP:20260424T063521
CREATED:20220221T183855Z
LAST-MODIFIED:20220221T214856Z
UID:2840-1655510400-1655596799@castlewoodhoa.com
SUMMARY:Clubhouse Reserved
DESCRIPTION:
URL:https://castlewoodhoa.com/event/pending-reservation-29/
LOCATION:Castlewood HOA Clubhouse\, 3420 Fairfield Lane\, Highland Village\, TX\, 75077\, United States
CATEGORIES:Clubhouse Reservation
END:VEVENT
BEGIN:VEVENT
DTSTART;VALUE=DATE:20220617
DTEND;VALUE=DATE:20220618
DTSTAMP:20260424T063521
CREATED:20220406T140835Z
LAST-MODIFIED:20220406T140835Z
UID:2940-1655424000-1655510399@castlewoodhoa.com
SUMMARY:Clubhouse Reserved
DESCRIPTION:
URL:https://castlewoodhoa.com/event/clubhouse-reserved-254/
LOCATION:Castlewood HOA Clubhouse\, 3420 Fairfield Lane\, Highland Village\, TX\, 75077\, United States
CATEGORIES:Clubhouse Reservation
END:VEVENT
BEGIN:VEVENT
DTSTART;TZID=America/Chicago:20220616T180000
DTEND;TZID=America/Chicago:20220616T220000
DTSTAMP:20260424T063521
CREATED:20220201T163434Z
LAST-MODIFIED:20220201T163434Z
UID:2730-1655402400-1655416800@castlewoodhoa.com
SUMMARY:Castlewood Dragons- Pavilion
DESCRIPTION:
URL:https://castlewoodhoa.com/event/castlewood-dragons-pavilion-2/
LOCATION:Pavilion\, 3420 Fairfield Lane\, Highland Village\, TX\, 75077\, United States
CATEGORIES:Pavilion Reservation
END:VEVENT
BEGIN:VEVENT
DTSTART;TZID=America/Chicago:20220615T190000
DTEND;TZID=America/Chicago:20220615T210000
DTSTAMP:20260424T063521
CREATED:20210826T204013Z
LAST-MODIFIED:20210826T204013Z
UID:2133-1655319600-1655326800@castlewoodhoa.com
SUMMARY:HOA BOD Meeting
DESCRIPTION:
URL:https://castlewoodhoa.com/event/hoa-bod-meeting-16/
LOCATION:Castlewood HOA Clubhouse\, 3420 Fairfield Lane\, Highland Village\, TX\, 75077\, United States
CATEGORIES:HOA BOD Administration
END:VEVENT
BEGIN:VEVENT
DTSTART;TZID=America/Chicago:20220615T140000
DTEND;TZID=America/Chicago:20220615T170000
DTSTAMP:20260424T063521
CREATED:20220201T163341Z
LAST-MODIFIED:20220201T163341Z
UID:2728-1655301600-1655312400@castlewoodhoa.com
SUMMARY:Castlewood Dragons- Pavilion
DESCRIPTION:
URL:https://castlewoodhoa.com/event/castlewood-dragons-pavilion/
LOCATION:Pavilion\, 3420 Fairfield Lane\, Highland Village\, TX\, 75077\, United States
CATEGORIES:Pavilion Reservation
END:VEVENT
BEGIN:VEVENT
DTSTART;TZID=America/Chicago:20220615T080000
DTEND;TZID=America/Chicago:20220615T190000
DTSTAMP:20260424T063521
CREATED:20220610T171012Z
LAST-MODIFIED:20220610T171012Z
UID:3261-1655280000-1655319600@castlewoodhoa.com
SUMMARY:Clubhouse Reserved
DESCRIPTION:
URL:https://castlewoodhoa.com/event/clubhouse-reserved-303/
LOCATION:Castlewood HOA Clubhouse\, 3420 Fairfield Lane\, Highland Village\, TX\, 75077\, United States
CATEGORIES:Clubhouse Reservation
END:VEVENT
BEGIN:VEVENT
DTSTART;TZID=America/Chicago:20220614T150000
DTEND;TZID=America/Chicago:20220614T220000
DTSTAMP:20260424T063521
CREATED:20220517T191951Z
LAST-MODIFIED:20220517T191951Z
UID:3109-1655218800-1655244000@castlewoodhoa.com
SUMMARY:Clubhouse Reserved
DESCRIPTION:
URL:https://castlewoodhoa.com/event/clubhouse-reserved-276/
LOCATION:Castlewood HOA Clubhouse\, 3420 Fairfield Lane\, Highland Village\, TX\, 75077\, United States
CATEGORIES:Clubhouse Reservation
END:VEVENT
BEGIN:VEVENT
DTSTART;TZID=America/Chicago:20220613T160000
DTEND;TZID=America/Chicago:20220613T220000
DTSTAMP:20260424T063521
CREATED:20220609T134514Z
LAST-MODIFIED:20220609T134514Z
UID:3252-1655136000-1655157600@castlewoodhoa.com
SUMMARY:Clubhouse Reserved
DESCRIPTION:
URL:https://castlewoodhoa.com/event/clubhouse-reserved-302/
LOCATION:Castlewood HOA Clubhouse\, 3420 Fairfield Lane\, Highland Village\, TX\, 75077\, United States
CATEGORIES:Clubhouse Reservation
END:VEVENT
BEGIN:VEVENT
DTSTART;VALUE=DATE:20220612
DTEND;VALUE=DATE:20220613
DTSTAMP:20260424T063521
CREATED:20220608T195009Z
LAST-MODIFIED:20220608T195009Z
UID:3248-1654992000-1655078399@castlewoodhoa.com
SUMMARY:Pavilion Reserved
DESCRIPTION:
URL:https://castlewoodhoa.com/event/pavilion-reserved-24/
LOCATION:Pavilion\, 3420 Fairfield Lane\, Highland Village\, TX\, 75077\, United States
CATEGORIES:Pavilion Reservation
END:VEVENT
BEGIN:VEVENT
DTSTART;TZID=America/Chicago:20220611T130000
DTEND;TZID=America/Chicago:20220611T190000
DTSTAMP:20260424T063521
CREATED:20220523T140437Z
LAST-MODIFIED:20220523T140437Z
UID:3116-1654952400-1654974000@castlewoodhoa.com
SUMMARY:Pavilion Reserved
DESCRIPTION:
URL:https://castlewoodhoa.com/event/pavilion-reserved-23/
LOCATION:Pavilion\, 3420 Fairfield Lane\, Highland Village\, TX\, 75077\, United States
CATEGORIES:Pavilion Reservation
END:VEVENT
BEGIN:VEVENT
DTSTART;VALUE=DATE:20220611
DTEND;VALUE=DATE:20220612
DTSTAMP:20260424T063521
CREATED:20220517T183101Z
LAST-MODIFIED:20220517T183101Z
UID:3107-1654905600-1654991999@castlewoodhoa.com
SUMMARY:Clubhouse Reserved
DESCRIPTION:
URL:https://castlewoodhoa.com/event/clubhouse-reserved-225/
LOCATION:Castlewood HOA Clubhouse\, 3420 Fairfield Lane\, Highland Village\, TX\, 75077\, United States
CATEGORIES:Clubhouse Reservation
END:VEVENT
BEGIN:VEVENT
DTSTART;TZID=America/Chicago:20220610T170000
DTEND;TZID=America/Chicago:20220610T220000
DTSTAMP:20260424T063521
CREATED:20220511T160029Z
LAST-MODIFIED:20220511T160029Z
UID:3081-1654880400-1654898400@castlewoodhoa.com
SUMMARY:Pavilion Reserved
DESCRIPTION:
URL:https://castlewoodhoa.com/event/pavilion-reserved-21/
LOCATION:Pavilion\, 3420 Fairfield Lane\, Highland Village\, TX\, 75077\, United States
CATEGORIES:Pavilion Reservation
END:VEVENT
BEGIN:VEVENT
DTSTART;TZID=America/Chicago:20220610T130000
DTEND;TZID=America/Chicago:20220610T180000
DTSTAMP:20260424T063521
CREATED:20220524T164406Z
LAST-MODIFIED:20220524T164406Z
UID:3122-1654866000-1654884000@castlewoodhoa.com
SUMMARY:Clubhouse Reserved
DESCRIPTION:
URL:https://castlewoodhoa.com/event/clubhouse-reserved-186/
LOCATION:Castlewood HOA Clubhouse\, 3420 Fairfield Lane\, Highland Village\, TX\, 75077\, United States
CATEGORIES:Clubhouse Reservation
END:VEVENT
BEGIN:VEVENT
DTSTART;TZID=America/Chicago:20220608T160000
DTEND;TZID=America/Chicago:20220608T200000
DTSTAMP:20260424T063521
CREATED:20220523T141139Z
LAST-MODIFIED:20220523T141139Z
UID:3118-1654704000-1654718400@castlewoodhoa.com
SUMMARY:Clubhouse Maintenace
DESCRIPTION:
URL:https://castlewoodhoa.com/event/clubhouse-maintenace/
LOCATION:Castlewood HOA Clubhouse\, 3420 Fairfield Lane\, Highland Village\, TX\, 75077\, United States
CATEGORIES:HOA BOD Administration
END:VEVENT
BEGIN:VEVENT
DTSTART;TZID=America/Chicago:20220603T130000
DTEND;TZID=America/Chicago:20220603T180000
DTSTAMP:20260424T063521
CREATED:20220524T164333Z
LAST-MODIFIED:20220524T164333Z
UID:3120-1654261200-1654279200@castlewoodhoa.com
SUMMARY:Clubhouse Reserved
DESCRIPTION:
URL:https://castlewoodhoa.com/event/clubhouse-reserved-137/
LOCATION:Castlewood HOA Clubhouse\, 3420 Fairfield Lane\, Highland Village\, TX\, 75077\, United States
CATEGORIES:Clubhouse Reservation
END:VEVENT
BEGIN:VEVENT
DTSTART;VALUE=DATE:20220603
DTEND;VALUE=DATE:20220604
DTSTAMP:20260424T063521
CREATED:20220420T142905Z
LAST-MODIFIED:20220420T142905Z
UID:2991-1654214400-1654300799@castlewoodhoa.com
SUMMARY:Pavilion Reservation
DESCRIPTION:
URL:https://castlewoodhoa.com/event/pavilion-reservation/
LOCATION:Pavilion\, 3420 Fairfield Lane\, Highland Village\, TX\, 75077\, United States
CATEGORIES:Pavilion Reservation
END:VEVENT
BEGIN:VEVENT
DTSTART;TZID=America/Chicago:20220601T180000
DTEND;TZID=America/Chicago:20220601T220000
DTSTAMP:20260424T063521
CREATED:20220401T162733Z
LAST-MODIFIED:20220413T192337Z
UID:2932-1654106400-1654120800@castlewoodhoa.com
SUMMARY:Ladies Only Self Defense Class
DESCRIPTION:
URL:https://castlewoodhoa.com/event/ladies-only-self-defense-class/
LOCATION:Castlewood HOA Clubhouse\, 3420 Fairfield Lane\, Highland Village\, TX\, 75077\, United States
CATEGORIES:HOA Sponsored Event
ATTACH;FMTTYPE=image/png:https://castlewoodhoa.com/wp-content/uploads/2022/04/Picture2.png
END:VEVENT
BEGIN:VEVENT
DTSTART;VALUE=DATE:20220531
DTEND;VALUE=DATE:20220601
DTSTAMP:20260424T063521
CREATED:20220526T213606Z
LAST-MODIFIED:20220526T213606Z
UID:3134-1653955200-1654041599@castlewoodhoa.com
SUMMARY:Office Closed
DESCRIPTION:
URL:https://castlewoodhoa.com/event/office-closed-22/
LOCATION:Castlewood HOA Clubhouse\, 3420 Fairfield Lane\, Highland Village\, TX\, 75077\, United States
CATEGORIES:HOA BOD Administration
END:VEVENT
BEGIN:VEVENT
DTSTART;VALUE=DATE:20220531
DTEND;VALUE=DATE:20220601
DTSTAMP:20260424T063521
CREATED:20220425T142329Z
LAST-MODIFIED:20220425T142329Z
UID:3003-1653955200-1654041599@castlewoodhoa.com
SUMMARY:Pavilion Reservation
DESCRIPTION:
URL:https://castlewoodhoa.com/event/pavilion-reservation-2/
LOCATION:Pavilion\, 3420 Fairfield Lane\, Highland Village\, TX\, 75077\, United States
CATEGORIES:Pavilion Reservation
END:VEVENT
BEGIN:VEVENT
DTSTART;VALUE=DATE:20220531
DTEND;VALUE=DATE:20220601
DTSTAMP:20260424T063521
CREATED:20220422T184549Z
LAST-MODIFIED:20220423T145816Z
UID:2994-1653955200-1654041599@castlewoodhoa.com
SUMMARY:Clubhouse Reserved
DESCRIPTION:
URL:https://castlewoodhoa.com/event/clubhouse-reserved-247/
LOCATION:Castlewood HOA Clubhouse\, 3420 Fairfield Lane\, Highland Village\, TX\, 75077\, United States
CATEGORIES:Clubhouse Reservation
END:VEVENT
BEGIN:VEVENT
DTSTART;VALUE=DATE:20220530
DTEND;VALUE=DATE:20220531
DTSTAMP:20260424T063521
CREATED:20220106T222316Z
LAST-MODIFIED:20220106T222316Z
UID:2644-1653868800-1653955199@castlewoodhoa.com
SUMMARY:Office Closed/ All Spectrum AM offices Closed
DESCRIPTION:
URL:https://castlewoodhoa.com/event/office-closed-all-spectrum-am-offices-closed-2/
LOCATION:Castlewood HOA Clubhouse\, 3420 Fairfield Lane\, Highland Village\, TX\, 75077\, United States
CATEGORIES:HOA BOD Administration
END:VEVENT
BEGIN:VEVENT
DTSTART;VALUE=DATE:20220529
DTEND;VALUE=DATE:20220530
DTSTAMP:20260424T063521
CREATED:20210827T142546Z
LAST-MODIFIED:20220413T192038Z
UID:2159-1653782400-1653868799@castlewoodhoa.com
SUMMARY:Pig Roast
DESCRIPTION:
URL:https://castlewoodhoa.com/event/no-reservations-12/
LOCATION:Castlewood HOA Clubhouse\, 3420 Fairfield Lane\, Highland Village\, TX\, 75077\, United States
CATEGORIES:Community Event
ATTACH;FMTTYPE=image/jpeg:https://castlewoodhoa.com/wp-content/uploads/2021/08/Picture1.jpg
END:VEVENT
BEGIN:VEVENT
DTSTART;VALUE=DATE:20220528
DTEND;VALUE=DATE:20220529
DTSTAMP:20260424T063521
CREATED:20220419T152358Z
LAST-MODIFIED:20220419T152358Z
UID:2988-1653696000-1653782399@castlewoodhoa.com
SUMMARY:Pavilion Reserved
DESCRIPTION:
URL:https://castlewoodhoa.com/event/pavilion-reserved-14/
LOCATION:Pavilion\, 3420 Fairfield Lane\, Highland Village\, TX\, 75077\, United States
CATEGORIES:Pavilion Reservation
END:VEVENT
BEGIN:VEVENT
DTSTART;VALUE=DATE:20220528
DTEND;VALUE=DATE:20220529
DTSTAMP:20260424T063521
CREATED:20220413T192114Z
LAST-MODIFIED:20220413T192114Z
UID:2972-1653696000-1653782399@castlewoodhoa.com
SUMMARY:NO RESERVATIONS
DESCRIPTION:
URL:https://castlewoodhoa.com/event/no-reservations-18/
LOCATION:Castlewood HOA Clubhouse\, 3420 Fairfield Lane\, Highland Village\, TX\, 75077\, United States
CATEGORIES:HOA BOD Administration
END:VEVENT
END:VCALENDAR