BEGIN:VCALENDAR
VERSION:2.0
PRODID:-//Castlewood Homeowners Association - ECPv6.15.17//NONSGML v1.0//EN
CALSCALE:GREGORIAN
METHOD:PUBLISH
X-WR-CALNAME:Castlewood Homeowners Association
X-ORIGINAL-URL:https://castlewoodhoa.com
X-WR-CALDESC:Events for Castlewood Homeowners Association
REFRESH-INTERVAL;VALUE=DURATION:PT1H
X-Robots-Tag:noindex
X-PUBLISHED-TTL:PT1H
BEGIN:VTIMEZONE
TZID:America/Chicago
BEGIN:DAYLIGHT
TZOFFSETFROM:-0600
TZOFFSETTO:-0500
TZNAME:CDT
DTSTART:20210314T080000
END:DAYLIGHT
BEGIN:STANDARD
TZOFFSETFROM:-0500
TZOFFSETTO:-0600
TZNAME:CST
DTSTART:20211107T070000
END:STANDARD
BEGIN:DAYLIGHT
TZOFFSETFROM:-0600
TZOFFSETTO:-0500
TZNAME:CDT
DTSTART:20220313T080000
END:DAYLIGHT
BEGIN:STANDARD
TZOFFSETFROM:-0500
TZOFFSETTO:-0600
TZNAME:CST
DTSTART:20221106T070000
END:STANDARD
BEGIN:DAYLIGHT
TZOFFSETFROM:-0600
TZOFFSETTO:-0500
TZNAME:CDT
DTSTART:20230312T080000
END:DAYLIGHT
BEGIN:STANDARD
TZOFFSETFROM:-0500
TZOFFSETTO:-0600
TZNAME:CST
DTSTART:20231105T070000
END:STANDARD
END:VTIMEZONE
BEGIN:VEVENT
DTSTART;VALUE=DATE:20220725
DTEND;VALUE=DATE:20220726
DTSTAMP:20260424T101246
CREATED:20220722T155018Z
LAST-MODIFIED:20220722T155128Z
UID:3453-1658707200-1658793599@castlewoodhoa.com
SUMMARY:NO RESERVATIONS- Maintenance
DESCRIPTION:
URL:https://castlewoodhoa.com/event/no-reservations-maitenance/
LOCATION:Castlewood HOA Clubhouse\, 3420 Fairfield Lane\, Highland Village\, TX\, 75077\, United States
CATEGORIES:HOA BOD Administration
END:VEVENT
BEGIN:VEVENT
DTSTART;VALUE=DATE:20220724
DTEND;VALUE=DATE:20220725
DTSTAMP:20260424T101246
CREATED:20220721T211600Z
LAST-MODIFIED:20220721T211600Z
UID:3446-1658620800-1658707199@castlewoodhoa.com
SUMMARY:Pavilion Reserved
DESCRIPTION:
URL:https://castlewoodhoa.com/event/pavilion-reserved-27/
CATEGORIES:Pavilion Reservation
END:VEVENT
BEGIN:VEVENT
DTSTART;VALUE=DATE:20220724
DTEND;VALUE=DATE:20220725
DTSTAMP:20260424T101246
CREATED:20220721T211535Z
LAST-MODIFIED:20220721T211535Z
UID:3444-1658620800-1658707199@castlewoodhoa.com
SUMMARY:Clubhouse Reserved
DESCRIPTION:
URL:https://castlewoodhoa.com/event/clubhouse-reserved-345/
LOCATION:Castlewood HOA Clubhouse\, 3420 Fairfield Lane\, Highland Village\, TX\, 75077\, United States
CATEGORIES:Clubhouse Reservation
END:VEVENT
BEGIN:VEVENT
DTSTART;VALUE=DATE:20220723
DTEND;VALUE=DATE:20220724
DTSTAMP:20260424T101246
CREATED:20220721T211711Z
LAST-MODIFIED:20220721T211711Z
UID:3449-1658534400-1658620799@castlewoodhoa.com
SUMMARY:Pavilion Reserved
DESCRIPTION:
URL:https://castlewoodhoa.com/event/pavilion-reserved-28/
LOCATION:Pavilion\, 3420 Fairfield Lane\, Highland Village\, TX\, 75077\, United States
CATEGORIES:Pavilion Reservation
END:VEVENT
BEGIN:VEVENT
DTSTART;VALUE=DATE:20220723
DTEND;VALUE=DATE:20220724
DTSTAMP:20260424T101246
CREATED:20210913T142729Z
LAST-MODIFIED:20210913T142729Z
UID:2199-1658534400-1658620799@castlewoodhoa.com
SUMMARY:Clubhouse Reserved
DESCRIPTION:
URL:https://castlewoodhoa.com/event/clubhouse-reserved-127/
LOCATION:Castlewood HOA Clubhouse\, 3420 Fairfield Lane\, Highland Village\, TX\, 75077\, United States
CATEGORIES:Clubhouse Reservation
END:VEVENT
BEGIN:VEVENT
DTSTART;VALUE=DATE:20220722
DTEND;VALUE=DATE:20220723
DTSTAMP:20260424T101246
CREATED:20220623T152914Z
LAST-MODIFIED:20220623T152914Z
UID:3307-1658448000-1658534399@castlewoodhoa.com
SUMMARY:Clubhouse Reserved
DESCRIPTION:
URL:https://castlewoodhoa.com/event/clubhouse-reserved-311/
LOCATION:Castlewood HOA Clubhouse\, 3420 Fairfield Lane\, Highland Village\, TX\, 75077\, United States
CATEGORIES:Clubhouse Reservation
END:VEVENT
BEGIN:VEVENT
DTSTART;VALUE=DATE:20220721
DTEND;VALUE=DATE:20220722
DTSTAMP:20260424T101246
CREATED:20220719T210200Z
LAST-MODIFIED:20220719T210200Z
UID:3433-1658361600-1658447999@castlewoodhoa.com
SUMMARY:Clubhouse Reserved
DESCRIPTION:
URL:https://castlewoodhoa.com/event/clubhouse-reserved-342/
LOCATION:Castlewood HOA Clubhouse\, 3420 Fairfield Lane\, Highland Village\, TX\, 75077\, United States
CATEGORIES:Clubhouse Reservation
END:VEVENT
BEGIN:VEVENT
DTSTART;TZID=America/Chicago:20220719T170000
DTEND;TZID=America/Chicago:20220719T220000
DTSTAMP:20260424T101246
CREATED:20220329T190423Z
LAST-MODIFIED:20220329T190423Z
UID:2924-1658250000-1658268000@castlewoodhoa.com
SUMMARY:Clubhouse Reserved
DESCRIPTION:
URL:https://castlewoodhoa.com/event/clubhouse-reserved-251/
LOCATION:Castlewood HOA Clubhouse\, 3420 Fairfield Lane\, Highland Village\, TX\, 75077\, United States
CATEGORIES:Clubhouse Reservation
END:VEVENT
BEGIN:VEVENT
DTSTART;TZID=America/Chicago:20220719T140000
DTEND;TZID=America/Chicago:20220719T170000
DTSTAMP:20260424T101246
CREATED:20220615T154632Z
LAST-MODIFIED:20220615T154632Z
UID:3279-1658239200-1658250000@castlewoodhoa.com
SUMMARY:Clubhouse Reserved
DESCRIPTION:
URL:https://castlewoodhoa.com/event/clubhouse-reserved-307/
LOCATION:Castlewood HOA Clubhouse\, 3420 Fairfield Lane\, Highland Village\, TX\, 75077\, United States
CATEGORIES:Clubhouse Reservation
END:VEVENT
BEGIN:VEVENT
DTSTART;VALUE=DATE:20220717
DTEND;VALUE=DATE:20220718
DTSTAMP:20260424T101246
CREATED:20220502T155155Z
LAST-MODIFIED:20220502T155155Z
UID:3033-1658016000-1658102399@castlewoodhoa.com
SUMMARY:Pavilion Reserved
DESCRIPTION:
URL:https://castlewoodhoa.com/event/pavilion-reserved-19/
LOCATION:Pavilion\, 3420 Fairfield Lane\, Highland Village\, TX\, 75077\, United States
CATEGORIES:Pavilion Reservation
END:VEVENT
BEGIN:VEVENT
DTSTART;VALUE=DATE:20220717
DTEND;VALUE=DATE:20220718
DTSTAMP:20260424T101246
CREATED:20220502T155034Z
LAST-MODIFIED:20220502T155034Z
UID:3027-1658016000-1658102399@castlewoodhoa.com
SUMMARY:Clubhouse Reserved
DESCRIPTION:
URL:https://castlewoodhoa.com/event/clubhouse-reserved-265/
LOCATION:Castlewood HOA Clubhouse\, 3420 Fairfield Lane\, Highland Village\, TX\, 75077\, United States
CATEGORIES:Clubhouse Reservation
END:VEVENT
BEGIN:VEVENT
DTSTART;VALUE=DATE:20220716
DTEND;VALUE=DATE:20220717
DTSTAMP:20260424T101246
CREATED:20220502T155455Z
LAST-MODIFIED:20220502T155455Z
UID:3037-1657929600-1658015999@castlewoodhoa.com
SUMMARY:Clubhouse Reserved
DESCRIPTION:
URL:https://castlewoodhoa.com/event/clubhouse-reserved-267/
LOCATION:Castlewood HOA Clubhouse\, 3420 Fairfield Lane\, Highland Village\, TX\, 75077\, United States
CATEGORIES:Clubhouse Reservation
END:VEVENT
BEGIN:VEVENT
DTSTART;VALUE=DATE:20220716
DTEND;VALUE=DATE:20220717
DTSTAMP:20260424T101246
CREATED:20220502T155100Z
LAST-MODIFIED:20220502T155100Z
UID:3029-1657929600-1658015999@castlewoodhoa.com
SUMMARY:Pavilion Reserved
DESCRIPTION:
URL:https://castlewoodhoa.com/event/pavilion-reserved-18/
LOCATION:Pavilion\, 3420 Fairfield Lane\, Highland Village\, TX\, 75077\, United States
CATEGORIES:Pavilion Reservation
END:VEVENT
BEGIN:VEVENT
DTSTART;VALUE=DATE:20220715
DTEND;VALUE=DATE:20220716
DTSTAMP:20260424T101246
CREATED:20220502T155430Z
LAST-MODIFIED:20220502T155430Z
UID:3035-1657843200-1657929599@castlewoodhoa.com
SUMMARY:Clubhouse Reserved
DESCRIPTION:
URL:https://castlewoodhoa.com/event/clubhouse-reserved-266/
LOCATION:Castlewood HOA Clubhouse\, 3420 Fairfield Lane\, Highland Village\, TX\, 75077\, United States
CATEGORIES:Clubhouse Reservation
END:VEVENT
BEGIN:VEVENT
DTSTART;VALUE=DATE:20220715
DTEND;VALUE=DATE:20220716
DTSTAMP:20260424T101246
CREATED:20220502T155007Z
LAST-MODIFIED:20220502T155007Z
UID:3025-1657843200-1657929599@castlewoodhoa.com
SUMMARY:Pavilion Reserved
DESCRIPTION:
URL:https://castlewoodhoa.com/event/pavilion-reserved-17/
LOCATION:Pavilion\, 3420 Fairfield Lane\, Highland Village\, TX\, 75077\, United States
CATEGORIES:Pavilion Reservation
END:VEVENT
BEGIN:VEVENT
DTSTART;TZID=America/Chicago:20220713T190000
DTEND;TZID=America/Chicago:20220713T210000
DTSTAMP:20260424T101246
CREATED:20210826T204223Z
LAST-MODIFIED:20220616T173432Z
UID:2135-1657738800-1657746000@castlewoodhoa.com
SUMMARY:HOA BOD Meeting
DESCRIPTION:
URL:https://castlewoodhoa.com/event/hoa-bod-meeting-17/
LOCATION:Castlewood HOA Clubhouse\, 3420 Fairfield Lane\, Highland Village\, TX\, 75077\, United States
CATEGORIES:HOA BOD Administration
END:VEVENT
BEGIN:VEVENT
DTSTART;TZID=America/Chicago:20220713T180000
DTEND;TZID=America/Chicago:20220713T190000
DTSTAMP:20260424T101246
CREATED:20220707T153117Z
LAST-MODIFIED:20220707T153117Z
UID:3376-1657735200-1657738800@castlewoodhoa.com
SUMMARY:Soccer Field Lottery
DESCRIPTION:
URL:https://castlewoodhoa.com/event/soccer-field-lottery/
LOCATION:Castlewood HOA Clubhouse\, 3420 Fairfield Lane\, Highland Village\, TX\, 75077\, United States
END:VEVENT
BEGIN:VEVENT
DTSTART;VALUE=DATE:20220711
DTEND;VALUE=DATE:20220712
DTSTAMP:20260424T101246
CREATED:20220201T163524Z
LAST-MODIFIED:20220201T163524Z
UID:2732-1657497600-1657583999@castlewoodhoa.com
SUMMARY:Castlewood Dragons- Pavilion & Clubhouse
DESCRIPTION:
URL:https://castlewoodhoa.com/event/castlewood-dragons-pavilion-clubhouse/
CATEGORIES:HOA Sponsored Event
END:VEVENT
BEGIN:VEVENT
DTSTART;VALUE=DATE:20220710
DTEND;VALUE=DATE:20220711
DTSTAMP:20260424T101246
CREATED:20220511T141336Z
LAST-MODIFIED:20220511T141336Z
UID:3079-1657411200-1657497599@castlewoodhoa.com
SUMMARY:Clubhouse Reserved
DESCRIPTION:
URL:https://castlewoodhoa.com/event/clubhouse-reserved-271/
LOCATION:Castlewood HOA Clubhouse\, 3420 Fairfield Lane\, Highland Village\, TX\, 75077\, United States
CATEGORIES:Clubhouse Reservation
END:VEVENT
BEGIN:VEVENT
DTSTART;TZID=America/Chicago:20220707T170000
DTEND;TZID=America/Chicago:20220707T220000
DTSTAMP:20260424T101246
CREATED:20220627T143533Z
LAST-MODIFIED:20220627T143533Z
UID:3317-1657213200-1657231200@castlewoodhoa.com
SUMMARY:Clubhouse Reserved
DESCRIPTION:
URL:https://castlewoodhoa.com/event/clubhouse-reserved-312/
LOCATION:Castlewood HOA Clubhouse\, 3420 Fairfield Lane\, Highland Village\, TX\, 75077\, United States
CATEGORIES:Clubhouse Reservation
END:VEVENT
BEGIN:VEVENT
DTSTART;VALUE=DATE:20220704
DTEND;VALUE=DATE:20220705
DTSTAMP:20260424T101246
CREATED:20220629T172844Z
LAST-MODIFIED:20220629T172844Z
UID:3327-1656892800-1656979199@castlewoodhoa.com
SUMMARY:Pavilion Reserved
DESCRIPTION:
URL:https://castlewoodhoa.com/event/pavilion-reserved-13/
LOCATION:Pavilion\, 3420 Fairfield Lane\, Highland Village\, TX\, 75077\, United States
CATEGORIES:Pavilion Reservation
END:VEVENT
BEGIN:VEVENT
DTSTART;VALUE=DATE:20220704
DTEND;VALUE=DATE:20220705
DTSTAMP:20260424T101246
CREATED:20210826T202922Z
LAST-MODIFIED:20220603T190004Z
UID:2121-1656892800-1656979199@castlewoodhoa.com
SUMMARY:4th of July Community Parade
DESCRIPTION:
URL:https://castlewoodhoa.com/event/no-reservations-10/
LOCATION:Castlewood HOA Clubhouse\, 3420 Fairfield Lane\, Highland Village\, TX\, 75077\, United States
CATEGORIES:Community Event
ATTACH;FMTTYPE=image/jpeg:https://castlewoodhoa.com/wp-content/uploads/2021/08/Screenshot-2022-05-17-121507.jpg
END:VEVENT
BEGIN:VEVENT
DTSTART;VALUE=DATE:20220702
DTEND;VALUE=DATE:20220703
DTSTAMP:20260424T101246
CREATED:20220621T173451Z
LAST-MODIFIED:20220621T173451Z
UID:3301-1656720000-1656806399@castlewoodhoa.com
SUMMARY:Pavilion Reserved
DESCRIPTION:
URL:https://castlewoodhoa.com/event/pavilion-reserved-25/
LOCATION:Pavilion\, 3420 Fairfield Lane\, Highland Village\, TX\, 75077\, United States
CATEGORIES:Pavilion Reservation
END:VEVENT
BEGIN:VEVENT
DTSTART;VALUE=DATE:20220702
DTEND;VALUE=DATE:20220703
DTSTAMP:20260424T101246
CREATED:20220505T143359Z
LAST-MODIFIED:20220610T140334Z
UID:3062-1656720000-1656806399@castlewoodhoa.com
SUMMARY:Clubhouse Reserved
DESCRIPTION:
URL:https://castlewoodhoa.com/event/clubhouse-reserved-255/
LOCATION:Castlewood HOA Clubhouse\, 3420 Fairfield Lane\, Highland Village\, TX\, 75077\, United States
CATEGORIES:Clubhouse Reservation
END:VEVENT
BEGIN:VEVENT
DTSTART;VALUE=DATE:20220701
DTEND;VALUE=DATE:20220706
DTSTAMP:20260424T101246
CREATED:20220106T222345Z
LAST-MODIFIED:20220622T191003Z
UID:2646-1656633600-1657065599@castlewoodhoa.com
SUMMARY:Office Closed
DESCRIPTION:
URL:https://castlewoodhoa.com/event/office-closed-all-spectrum-am-offices-closed-3/
LOCATION:Castlewood HOA Clubhouse\, 3420 Fairfield Lane\, Highland Village\, TX\, 75077\, United States
CATEGORIES:Clubhouse Reservation
END:VEVENT
BEGIN:VEVENT
DTSTART;VALUE=DATE:20220628
DTEND;VALUE=DATE:20220629
DTSTAMP:20260424T101246
CREATED:20220621T173149Z
LAST-MODIFIED:20220621T173149Z
UID:3299-1656374400-1656460799@castlewoodhoa.com
SUMMARY:Clubhouse Reserved
DESCRIPTION:
URL:https://castlewoodhoa.com/event/clubhouse-reserved-309/
LOCATION:Castlewood HOA Clubhouse\, 3420 Fairfield Lane\, Highland Village\, TX\, 75077\, United States
CATEGORIES:Clubhouse Reservation
END:VEVENT
BEGIN:VEVENT
DTSTART;TZID=America/Chicago:20220627T120000
DTEND;TZID=America/Chicago:20220627T160000
DTSTAMP:20260424T101246
CREATED:20220617T140226Z
LAST-MODIFIED:20220617T140226Z
UID:3288-1656331200-1656345600@castlewoodhoa.com
SUMMARY:Clubhouse Reserved
DESCRIPTION:
URL:https://castlewoodhoa.com/event/clubhouse-reserved-308/
LOCATION:Castlewood HOA Clubhouse\, 3420 Fairfield Lane\, Highland Village\, TX\, 75077\, United States
CATEGORIES:Clubhouse Reservation
END:VEVENT
BEGIN:VEVENT
DTSTART;VALUE=DATE:20220626
DTEND;VALUE=DATE:20220627
DTSTAMP:20260424T101246
CREATED:20220606T141614Z
LAST-MODIFIED:20220606T141614Z
UID:3246-1656201600-1656287999@castlewoodhoa.com
SUMMARY:Clubhouse Reserved
DESCRIPTION:
URL:https://castlewoodhoa.com/event/clubhouse-reserved-301/
LOCATION:Castlewood HOA Clubhouse\, 3420 Fairfield Lane\, Highland Village\, TX\, 75077\, United States
CATEGORIES:Clubhouse Reservation
END:VEVENT
BEGIN:VEVENT
DTSTART;VALUE=DATE:20220625
DTEND;VALUE=DATE:20220626
DTSTAMP:20260424T101246
CREATED:20220622T191250Z
LAST-MODIFIED:20220622T191250Z
UID:3305-1656115200-1656201599@castlewoodhoa.com
SUMMARY:Clubhouse Reserved
DESCRIPTION:
URL:https://castlewoodhoa.com/event/clubhouse-reserved-310/
LOCATION:Castlewood HOA Clubhouse\, 3420 Fairfield Lane\, Highland Village\, TX\, 75077\, United States
CATEGORIES:Clubhouse Reservation
END:VEVENT
BEGIN:VEVENT
DTSTART;TZID=America/Chicago:20220624T150000
DTEND;TZID=America/Chicago:20220624T230000
DTSTAMP:20260424T101246
CREATED:20220518T152838Z
LAST-MODIFIED:20220518T153612Z
UID:3113-1656082800-1656111600@castlewoodhoa.com
SUMMARY:Clubhouse Reserved
DESCRIPTION:
URL:https://castlewoodhoa.com/event/clubhouse-reserved-278/
LOCATION:Castlewood HOA Clubhouse\, 3420 Fairfield Lane\, Highland Village\, TX\, 75077\, United States
CATEGORIES:Clubhouse Reservation
END:VEVENT
END:VCALENDAR