BEGIN:VCALENDAR
VERSION:2.0
PRODID:-//Castlewood Homeowners Association - ECPv6.15.17//NONSGML v1.0//EN
CALSCALE:GREGORIAN
METHOD:PUBLISH
X-WR-CALNAME:Castlewood Homeowners Association
X-ORIGINAL-URL:https://castlewoodhoa.com
X-WR-CALDESC:Events for Castlewood Homeowners Association
REFRESH-INTERVAL;VALUE=DURATION:PT1H
X-Robots-Tag:noindex
X-PUBLISHED-TTL:PT1H
BEGIN:VTIMEZONE
TZID:America/Chicago
BEGIN:DAYLIGHT
TZOFFSETFROM:-0600
TZOFFSETTO:-0500
TZNAME:CDT
DTSTART:20210314T080000
END:DAYLIGHT
BEGIN:STANDARD
TZOFFSETFROM:-0500
TZOFFSETTO:-0600
TZNAME:CST
DTSTART:20211107T070000
END:STANDARD
BEGIN:DAYLIGHT
TZOFFSETFROM:-0600
TZOFFSETTO:-0500
TZNAME:CDT
DTSTART:20220313T080000
END:DAYLIGHT
BEGIN:STANDARD
TZOFFSETFROM:-0500
TZOFFSETTO:-0600
TZNAME:CST
DTSTART:20221106T070000
END:STANDARD
BEGIN:DAYLIGHT
TZOFFSETFROM:-0600
TZOFFSETTO:-0500
TZNAME:CDT
DTSTART:20230312T080000
END:DAYLIGHT
BEGIN:STANDARD
TZOFFSETFROM:-0500
TZOFFSETTO:-0600
TZNAME:CST
DTSTART:20231105T070000
END:STANDARD
END:VTIMEZONE
BEGIN:VEVENT
DTSTART;VALUE=DATE:20220912
DTEND;VALUE=DATE:20220913
DTSTAMP:20260424T110805
CREATED:20220908T192923Z
LAST-MODIFIED:20220908T192923Z
UID:3626-1662940800-1663027199@castlewoodhoa.com
SUMMARY:NO RESERVATIONS- Clubhouse maintenance
DESCRIPTION:
URL:https://castlewoodhoa.com/event/no-reservations-clubhouse-maintenance/
LOCATION:Castlewood HOA Clubhouse\, 3420 Fairfield Lane\, Highland Village\, TX\, 75077\, United States
CATEGORIES:Clubhouse Reservation,HOA BOD Administration
END:VEVENT
BEGIN:VEVENT
DTSTART;TZID=America/Chicago:20220911T170000
DTEND;TZID=America/Chicago:20220911T220000
DTSTAMP:20260424T110805
CREATED:20220630T165105Z
LAST-MODIFIED:20220630T165105Z
UID:3333-1662915600-1662933600@castlewoodhoa.com
SUMMARY:Clubhouse Reserved
DESCRIPTION:
URL:https://castlewoodhoa.com/event/clubhouse-reserved-316/
LOCATION:Castlewood HOA Clubhouse\, 3420 Fairfield Lane\, Highland Village\, TX\, 75077\, United States
CATEGORIES:Clubhouse Reservation
END:VEVENT
BEGIN:VEVENT
DTSTART;VALUE=DATE:20220910
DTEND;VALUE=DATE:20220911
DTSTAMP:20260424T110805
CREATED:20220707T162523Z
LAST-MODIFIED:20220707T162523Z
UID:3378-1662768000-1662854399@castlewoodhoa.com
SUMMARY:Community Wide Garage Sale
DESCRIPTION:
URL:https://castlewoodhoa.com/event/community-wide-garage-sale-3/
CATEGORIES:HOA Sponsored Event
END:VEVENT
BEGIN:VEVENT
DTSTART;TZID=America/Chicago:20220907T170000
DTEND;TZID=America/Chicago:20220907T200000
DTSTAMP:20260424T110805
CREATED:20220815T152555Z
LAST-MODIFIED:20220815T152555Z
UID:3518-1662570000-1662580800@castlewoodhoa.com
SUMMARY:Clubhouse Reserved
DESCRIPTION:
URL:https://castlewoodhoa.com/event/clubhouse-reserved-360/
LOCATION:Castlewood HOA Clubhouse\, 3420 Fairfield Lane\, Highland Village\, TX\, 75077\, United States
CATEGORIES:Clubhouse Reservation
END:VEVENT
BEGIN:VEVENT
DTSTART;TZID=America/Chicago:20220906T170000
DTEND;TZID=America/Chicago:20220906T200000
DTSTAMP:20260424T110805
CREATED:20211216T183448Z
LAST-MODIFIED:20211216T183448Z
UID:2564-1662483600-1662494400@castlewoodhoa.com
SUMMARY:Clubhouse Reserved
DESCRIPTION:
URL:https://castlewoodhoa.com/event/clubhouse-reserved-191/
LOCATION:Castlewood HOA Clubhouse\, 3420 Fairfield Lane\, Highland Village\, TX\, 75077\, United States
CATEGORIES:Clubhouse Reservation
END:VEVENT
BEGIN:VEVENT
DTSTART;VALUE=DATE:20220905
DTEND;VALUE=DATE:20220906
DTSTAMP:20260424T110805
CREATED:20220826T144232Z
LAST-MODIFIED:20220826T144641Z
UID:3584-1662336000-1662422399@castlewoodhoa.com
SUMMARY:Pavilion Reserved
DESCRIPTION:
URL:https://castlewoodhoa.com/event/pavilion-reserved-30/
LOCATION:Pavilion\, 3420 Fairfield Lane\, Highland Village\, TX\, 75077\, United States
CATEGORIES:Pavilion Reservation
END:VEVENT
BEGIN:VEVENT
DTSTART;VALUE=DATE:20220905
DTEND;VALUE=DATE:20220906
DTSTAMP:20260424T110805
CREATED:20220811T200142Z
LAST-MODIFIED:20220811T200142Z
UID:3511-1662336000-1662422399@castlewoodhoa.com
SUMMARY:Clubhouse Reserved
DESCRIPTION:
URL:https://castlewoodhoa.com/event/clubhouse-reserved-358/
LOCATION:Castlewood HOA Clubhouse\, 3420 Fairfield Lane\, Highland Village\, TX\, 75077\, United States
CATEGORIES:Clubhouse Reservation
END:VEVENT
BEGIN:VEVENT
DTSTART;VALUE=DATE:20220905
DTEND;VALUE=DATE:20220906
DTSTAMP:20260424T110805
CREATED:20220106T222420Z
LAST-MODIFIED:20220106T222420Z
UID:2648-1662336000-1662422399@castlewoodhoa.com
SUMMARY:Office Closed/ All Spectrum AM offices Closed
DESCRIPTION:
URL:https://castlewoodhoa.com/event/office-closed-all-spectrum-am-offices-closed-4/
LOCATION:Castlewood HOA Clubhouse\, 3420 Fairfield Lane\, Highland Village\, TX\, 75077\, United States
CATEGORIES:HOA BOD Administration
END:VEVENT
BEGIN:VEVENT
DTSTART;VALUE=DATE:20220901
DTEND;VALUE=DATE:20220902
DTSTAMP:20260424T110805
CREATED:20220812T142444Z
LAST-MODIFIED:20220812T202257Z
UID:3515-1661990400-1662076799@castlewoodhoa.com
SUMMARY:Clubhouse maintenance- NO RESERVATIONS
DESCRIPTION:
URL:https://castlewoodhoa.com/event/clubhouse-maitenance-no-reservations-2/
LOCATION:Castlewood HOA Clubhouse\, 3420 Fairfield Lane\, Highland Village\, TX\, 75077\, United States
CATEGORIES:HOA BOD Administration
END:VEVENT
BEGIN:VEVENT
DTSTART;TZID=America/Chicago:20220831T180000
DTEND;TZID=America/Chicago:20220831T233000
DTSTAMP:20260424T110805
CREATED:20220808T212435Z
LAST-MODIFIED:20220808T212435Z
UID:3496-1661968800-1661988600@castlewoodhoa.com
SUMMARY:Clubhouse Reserved
DESCRIPTION:
URL:https://castlewoodhoa.com/event/clubhouse-reserved-352/
LOCATION:Castlewood HOA Clubhouse\, 3420 Fairfield Lane\, Highland Village\, TX\, 75077\, United States
CATEGORIES:Clubhouse Reservation
END:VEVENT
BEGIN:VEVENT
DTSTART;VALUE=DATE:20220828
DTEND;VALUE=DATE:20220829
DTSTAMP:20260424T110805
CREATED:20220722T145233Z
LAST-MODIFIED:20220816T151546Z
UID:3451-1661644800-1661731199@castlewoodhoa.com
SUMMARY:Clubhouse Reserved
DESCRIPTION:
URL:https://castlewoodhoa.com/event/clubhouse-reserved-346/
LOCATION:Castlewood HOA Clubhouse\, 3420 Fairfield Lane\, Highland Village\, TX\, 75077\, United States
CATEGORIES:Clubhouse Reservation
END:VEVENT
BEGIN:VEVENT
DTSTART;VALUE=DATE:20220826
DTEND;VALUE=DATE:20220827
DTSTAMP:20260424T110805
CREATED:20220426T141206Z
LAST-MODIFIED:20220426T141206Z
UID:3016-1661472000-1661558399@castlewoodhoa.com
SUMMARY:Pavilion Reserved
DESCRIPTION:
URL:https://castlewoodhoa.com/event/pavilion-reserved-16/
LOCATION:Pavilion\, 3420 Fairfield Lane\, Highland Village\, TX\, 75077\, United States
CATEGORIES:Pavilion Reservation
END:VEVENT
BEGIN:VEVENT
DTSTART;VALUE=DATE:20220826
DTEND;VALUE=DATE:20220827
DTSTAMP:20260424T110805
CREATED:20220426T141130Z
LAST-MODIFIED:20220426T141130Z
UID:3014-1661472000-1661558399@castlewoodhoa.com
SUMMARY:Clubhouse Reserved
DESCRIPTION:
URL:https://castlewoodhoa.com/event/clubhouse-reserved-261/
LOCATION:Castlewood HOA Clubhouse\, 3420 Fairfield Lane\, Highland Village\, TX\, 75077\, United States
CATEGORIES:Clubhouse Reservation
END:VEVENT
BEGIN:VEVENT
DTSTART;TZID=America/Chicago:20220824T170000
DTEND;TZID=America/Chicago:20220824T220000
DTSTAMP:20260424T110805
CREATED:20220329T190457Z
LAST-MODIFIED:20220329T190457Z
UID:2926-1661360400-1661378400@castlewoodhoa.com
SUMMARY:Clubhouse Reserved
DESCRIPTION:
URL:https://castlewoodhoa.com/event/clubhouse-reserved-252/
LOCATION:Castlewood HOA Clubhouse\, 3420 Fairfield Lane\, Highland Village\, TX\, 75077\, United States
CATEGORIES:Clubhouse Reservation
END:VEVENT
BEGIN:VEVENT
DTSTART;TZID=America/Chicago:20220821T180000
DTEND;TZID=America/Chicago:20220821T210000
DTSTAMP:20260424T110805
CREATED:20220719T135619Z
LAST-MODIFIED:20220719T135619Z
UID:3411-1661104800-1661115600@castlewoodhoa.com
SUMMARY:Clubhouse Reserved
DESCRIPTION:
URL:https://castlewoodhoa.com/event/clubhouse-reserved-334/
LOCATION:Castlewood HOA Clubhouse\, 3420 Fairfield Lane\, Highland Village\, TX\, 75077\, United States
CATEGORIES:Clubhouse Reservation
END:VEVENT
BEGIN:VEVENT
DTSTART;TZID=America/Chicago:20220817T190000
DTEND;TZID=America/Chicago:20220817T210000
DTSTAMP:20260424T110805
CREATED:20210826T204302Z
LAST-MODIFIED:20210826T204302Z
UID:2137-1660762800-1660770000@castlewoodhoa.com
SUMMARY:HOA BOD Meeting
DESCRIPTION:
URL:https://castlewoodhoa.com/event/hoa-bod-meeting-18/
LOCATION:Castlewood HOA Clubhouse\, 3420 Fairfield Lane\, Highland Village\, TX\, 75077\, United States
CATEGORIES:HOA BOD Administration
END:VEVENT
BEGIN:VEVENT
DTSTART;TZID=America/Chicago:20220817T180000
DTEND;TZID=America/Chicago:20220817T190000
DTSTAMP:20260424T110805
CREATED:20220715T144121Z
LAST-MODIFIED:20220715T144121Z
UID:3402-1660759200-1660762800@castlewoodhoa.com
SUMMARY:Supplemental Soccer Field Lottery for the Fall
DESCRIPTION:
URL:https://castlewoodhoa.com/event/supplemental-soccer-field-lottery-for-the-fall/
LOCATION:Castlewood HOA Clubhouse\, 3420 Fairfield Lane\, Highland Village\, TX\, 75077\, United States
CATEGORIES:HOA BOD Administration
END:VEVENT
BEGIN:VEVENT
DTSTART;TZID=America/Chicago:20220816T100000
DTEND;TZID=America/Chicago:20220816T150000
DTSTAMP:20260424T110805
CREATED:20220803T164158Z
LAST-MODIFIED:20220803T164158Z
UID:3490-1660644000-1660662000@castlewoodhoa.com
SUMMARY:Clubhouse Reserved
DESCRIPTION:
URL:https://castlewoodhoa.com/event/clubhouse-reserved-350/
LOCATION:Castlewood HOA Clubhouse\, 3420 Fairfield Lane\, Highland Village\, TX\, 75077\, United States
CATEGORIES:Clubhouse Reservation
END:VEVENT
BEGIN:VEVENT
DTSTART;VALUE=DATE:20220814
DTEND;VALUE=DATE:20220815
DTSTAMP:20260424T110805
CREATED:20220603T190210Z
LAST-MODIFIED:20220603T190210Z
UID:3234-1660435200-1660521599@castlewoodhoa.com
SUMMARY:NO RESERVATIONS
DESCRIPTION:
URL:https://castlewoodhoa.com/event/no-reservations-24/
LOCATION:Castlewood HOA Clubhouse\, 3420 Fairfield Lane\, Highland Village\, TX\, 75077\, United States
CATEGORIES:HOA BOD Administration
END:VEVENT
BEGIN:VEVENT
DTSTART;VALUE=DATE:20220813
DTEND;VALUE=DATE:20220814
DTSTAMP:20260424T110805
CREATED:20210827T142229Z
LAST-MODIFIED:20220603T190057Z
UID:2155-1660348800-1660435199@castlewoodhoa.com
SUMMARY:Community End of Summer Fair
DESCRIPTION:
URL:https://castlewoodhoa.com/event/community-event-9/
LOCATION:Castlewood HOA Clubhouse\, 3420 Fairfield Lane\, Highland Village\, TX\, 75077\, United States
CATEGORIES:Community Event
END:VEVENT
BEGIN:VEVENT
DTSTART;VALUE=DATE:20220812
DTEND;VALUE=DATE:20220813
DTSTAMP:20260424T110805
CREATED:20220603T190128Z
LAST-MODIFIED:20220603T190128Z
UID:3232-1660262400-1660348799@castlewoodhoa.com
SUMMARY:NO RESERVATIONS
DESCRIPTION:
URL:https://castlewoodhoa.com/event/no-reservations-23/
LOCATION:Castlewood HOA Clubhouse\, 3420 Fairfield Lane\, Highland Village\, TX\, 75077\, United States
CATEGORIES:HOA BOD Administration
END:VEVENT
BEGIN:VEVENT
DTSTART;VALUE=DATE:20220811
DTEND;VALUE=DATE:20220812
DTSTAMP:20260424T110805
CREATED:20220803T141835Z
LAST-MODIFIED:20220803T143448Z
UID:3487-1660176000-1660262399@castlewoodhoa.com
SUMMARY:Clubhouse Maintenance- NO RESERVATIONS
DESCRIPTION:
URL:https://castlewoodhoa.com/event/clubhouse-maitenance-no-reservations/
LOCATION:Castlewood HOA Clubhouse\, 3420 Fairfield Lane\, Highland Village\, TX\, 75077\, United States
CATEGORIES:Clubhouse Reservation
END:VEVENT
BEGIN:VEVENT
DTSTART;VALUE=DATE:20220810
DTEND;VALUE=DATE:20220811
DTSTAMP:20260424T110805
CREATED:20220722T155220Z
LAST-MODIFIED:20220722T155220Z
UID:3459-1660089600-1660175999@castlewoodhoa.com
SUMMARY:First Day of School- LISD
DESCRIPTION:
URL:https://castlewoodhoa.com/event/first-day-of-school-lisd/
CATEGORIES:Community Event
END:VEVENT
BEGIN:VEVENT
DTSTART;VALUE=DATE:20220808
DTEND;VALUE=DATE:20220809
DTSTAMP:20260424T110805
CREATED:20220802T140017Z
LAST-MODIFIED:20220802T140017Z
UID:3479-1659916800-1660003199@castlewoodhoa.com
SUMMARY:Clubhouse Reserved
DESCRIPTION:
URL:https://castlewoodhoa.com/event/clubhouse-reserved-349/
LOCATION:Castlewood HOA Clubhouse\, 3420 Fairfield Lane\, Highland Village\, TX\, 75077\, United States
CATEGORIES:Clubhouse Reservation
END:VEVENT
BEGIN:VEVENT
DTSTART;VALUE=DATE:20220807
DTEND;VALUE=DATE:20220808
DTSTAMP:20260424T110805
CREATED:20220629T193240Z
LAST-MODIFIED:20220629T193240Z
UID:3329-1659830400-1659916799@castlewoodhoa.com
SUMMARY:Clubhouse Reserved
DESCRIPTION:
URL:https://castlewoodhoa.com/event/clubhouse-reserved-315/
LOCATION:Castlewood HOA Clubhouse\, 3420 Fairfield Lane\, Highland Village\, TX\, 75077\, United States
CATEGORIES:Clubhouse Reservation
END:VEVENT
BEGIN:VEVENT
DTSTART;VALUE=DATE:20220806
DTEND;VALUE=DATE:20220807
DTSTAMP:20260424T110805
CREATED:20220512T153443Z
LAST-MODIFIED:20220512T153443Z
UID:3084-1659744000-1659830399@castlewoodhoa.com
SUMMARY:Clubhouse Reserved
DESCRIPTION:
URL:https://castlewoodhoa.com/event/clubhouse-reserved-272/
LOCATION:Castlewood HOA Clubhouse\, 3420 Fairfield Lane\, Highland Village\, TX\, 75077\, United States
CATEGORIES:Clubhouse Reservation
END:VEVENT
BEGIN:VEVENT
DTSTART;VALUE=DATE:20220805
DTEND;VALUE=DATE:20220806
DTSTAMP:20260424T110805
CREATED:20220708T154100Z
LAST-MODIFIED:20220708T154100Z
UID:3383-1659657600-1659743999@castlewoodhoa.com
SUMMARY:Clubhouse Reserved
DESCRIPTION:
URL:https://castlewoodhoa.com/event/clubhouse-reserved-233/
LOCATION:Castlewood HOA Clubhouse\, 3420 Fairfield Lane\, Highland Village\, TX\, 75077\, United States
CATEGORIES:Clubhouse Reservation
END:VEVENT
BEGIN:VEVENT
DTSTART;TZID=America/Chicago:20220804T160000
DTEND;TZID=America/Chicago:20220804T210000
DTSTAMP:20260424T110805
CREATED:20220414T144445Z
LAST-MODIFIED:20220414T144445Z
UID:2981-1659628800-1659646800@castlewoodhoa.com
SUMMARY:Clubhouse Reserved
DESCRIPTION:
URL:https://castlewoodhoa.com/event/clubhouse-reserved-258/
LOCATION:Castlewood HOA Clubhouse\, 3420 Fairfield Lane\, Highland Village\, TX\, 75077\, United States
CATEGORIES:Clubhouse Reservation
END:VEVENT
BEGIN:VEVENT
DTSTART;TZID=America/Chicago:20220802T190000
DTEND;TZID=America/Chicago:20220802T220000
DTSTAMP:20260424T110805
CREATED:20220104T164907Z
LAST-MODIFIED:20220104T164907Z
UID:2622-1659466800-1659477600@castlewoodhoa.com
SUMMARY:Clubhouse Reserved
DESCRIPTION:
URL:https://castlewoodhoa.com/event/clubhouse-reserved-214/
LOCATION:Castlewood HOA Clubhouse\, 3420 Fairfield Lane\, Highland Village\, TX\, 75077\, United States
CATEGORIES:Clubhouse Reservation
END:VEVENT
BEGIN:VEVENT
DTSTART;VALUE=DATE:20220801
DTEND;VALUE=DATE:20220802
DTSTAMP:20260424T110805
CREATED:20220722T155152Z
LAST-MODIFIED:20220722T155152Z
UID:3457-1659312000-1659398399@castlewoodhoa.com
SUMMARY:NO RESERVATIONS- Maintenance
DESCRIPTION:
URL:https://castlewoodhoa.com/event/no-reservations-maintenance/
LOCATION:Castlewood HOA Clubhouse\, 3420 Fairfield Lane\, Highland Village\, TX\, 75077\, United States
CATEGORIES:HOA BOD Administration
END:VEVENT
END:VCALENDAR