BEGIN:VCALENDAR
VERSION:2.0
PRODID:-//Castlewood Homeowners Association - ECPv6.15.17//NONSGML v1.0//EN
CALSCALE:GREGORIAN
METHOD:PUBLISH
X-WR-CALNAME:Castlewood Homeowners Association
X-ORIGINAL-URL:https://castlewoodhoa.com
X-WR-CALDESC:Events for Castlewood Homeowners Association
REFRESH-INTERVAL;VALUE=DURATION:PT1H
X-Robots-Tag:noindex
X-PUBLISHED-TTL:PT1H
BEGIN:VTIMEZONE
TZID:America/Chicago
BEGIN:DAYLIGHT
TZOFFSETFROM:-0600
TZOFFSETTO:-0500
TZNAME:CDT
DTSTART:20200308T080000
END:DAYLIGHT
BEGIN:STANDARD
TZOFFSETFROM:-0500
TZOFFSETTO:-0600
TZNAME:CST
DTSTART:20201101T070000
END:STANDARD
BEGIN:DAYLIGHT
TZOFFSETFROM:-0600
TZOFFSETTO:-0500
TZNAME:CDT
DTSTART:20210314T080000
END:DAYLIGHT
BEGIN:STANDARD
TZOFFSETFROM:-0500
TZOFFSETTO:-0600
TZNAME:CST
DTSTART:20211107T070000
END:STANDARD
BEGIN:DAYLIGHT
TZOFFSETFROM:-0600
TZOFFSETTO:-0500
TZNAME:CDT
DTSTART:20220313T080000
END:DAYLIGHT
BEGIN:STANDARD
TZOFFSETFROM:-0500
TZOFFSETTO:-0600
TZNAME:CST
DTSTART:20221106T070000
END:STANDARD
END:VTIMEZONE
BEGIN:VEVENT
DTSTART;VALUE=DATE:20211123
DTEND;VALUE=DATE:20211127
DTSTAMP:20260424T103206
CREATED:20210329T180803Z
LAST-MODIFIED:20211108T215201Z
UID:1526-1637625600-1637971199@castlewoodhoa.com
SUMMARY:Office Closed
DESCRIPTION:
URL:https://castlewoodhoa.com/event/office-closed-9/
LOCATION:Castlewood HOA Clubhouse\, 3420 Fairfield Lane\, Highland Village\, TX\, 75077\, United States
CATEGORIES:HOA BOD Administration
END:VEVENT
BEGIN:VEVENT
DTSTART;VALUE=DATE:20211121
DTEND;VALUE=DATE:20211122
DTSTAMP:20260424T103206
CREATED:20211108T150426Z
LAST-MODIFIED:20211108T150426Z
UID:2429-1637452800-1637539199@castlewoodhoa.com
SUMMARY:Clubhouse Reserved
DESCRIPTION:
URL:https://castlewoodhoa.com/event/clubhouse-reserved-155/
LOCATION:Castlewood HOA Clubhouse\, 3420 Fairfield Lane\, Highland Village\, TX\, 75077\, United States
CATEGORIES:Clubhouse Reservation
END:VEVENT
BEGIN:VEVENT
DTSTART;VALUE=DATE:20211120
DTEND;VALUE=DATE:20211121
DTSTAMP:20260424T103206
CREATED:20211022T205547Z
LAST-MODIFIED:20211026T194100Z
UID:2361-1637366400-1637452799@castlewoodhoa.com
SUMMARY:Clubhouse Reserved
DESCRIPTION:
URL:https://castlewoodhoa.com/event/pending-reservation-26/
LOCATION:Castlewood HOA Clubhouse\, 3420 Fairfield Lane\, Highland Village\, TX\, 75077\, United States
CATEGORIES:Clubhouse Reservation
END:VEVENT
BEGIN:VEVENT
DTSTART;TZID=America/Chicago:20211118T180000
DTEND;TZID=America/Chicago:20211118T230000
DTSTAMP:20260424T103206
CREATED:20211109T182813Z
LAST-MODIFIED:20211109T182813Z
UID:2440-1637258400-1637276400@castlewoodhoa.com
SUMMARY:Clubhouse Reserved
DESCRIPTION:
URL:https://castlewoodhoa.com/event/clubhouse-reserved-83/
LOCATION:Castlewood HOA Clubhouse\, 3420 Fairfield Lane\, Highland Village\, TX\, 75077\, United States
CATEGORIES:Clubhouse Reservation
END:VEVENT
BEGIN:VEVENT
DTSTART;TZID=America/Chicago:20211118T080000
DTEND;TZID=America/Chicago:20211118T110000
DTSTAMP:20260424T103206
CREATED:20210809T170959Z
LAST-MODIFIED:20211109T194639Z
UID:1999-1637222400-1637233200@castlewoodhoa.com
SUMMARY:Clubhouse Reserved
DESCRIPTION:
URL:https://castlewoodhoa.com/event/clubhouse-reserved-98/
LOCATION:Castlewood HOA Clubhouse\, 3420 Fairfield Lane\, Highland Village\, TX\, 75077\, United States
CATEGORIES:Clubhouse Reservation
END:VEVENT
BEGIN:VEVENT
DTSTART;TZID=America/Chicago:20211117T190000
DTEND;TZID=America/Chicago:20211117T200000
DTSTAMP:20260424T103206
CREATED:20210122T201949Z
LAST-MODIFIED:20210125T183000Z
UID:632-1637175600-1637179200@castlewoodhoa.com
SUMMARY:HOA BOD Meeting
DESCRIPTION:Meeting Information \nWhen: Wednesday\, November 17\, 2021\nTime: 7:00 p.m. Teleconference meeting\n \nDue to COVID restrictions\, meetings are currently being held via Zoom. If you would like to attend but did not receive an email link please complete the form below to have one sent. \n \nItems that may be discussed in executive session include actions involving personnel\, pending or threatened litigation\, contract negotiations\, enforcement actions\, confidential communications with the Association attorney\, matters involving invasion of privacy of owners\, and other matters that are confidential by request of an affected party and agreement of the Board. Please see here for your agenda.\n \nPlease enable JavaScript in your browser to complete this form.Name *FirstLastEmail *Home Address *Additional Comment or MessageSubmit
URL:https://castlewoodhoa.com/event/hoa-bod-meeting-9/
LOCATION:Castlewood HOA Clubhouse\, 3420 Fairfield Lane\, Highland Village\, TX\, 75077\, United States
CATEGORIES:HOA BOD Administration
END:VEVENT
BEGIN:VEVENT
DTSTART;TZID=America/Chicago:20211117T080000
DTEND;TZID=America/Chicago:20211117T230000
DTSTAMP:20260424T103206
CREATED:20211103T142514Z
LAST-MODIFIED:20211103T142514Z
UID:2396-1637136000-1637190000@castlewoodhoa.com
SUMMARY:Clubhouse Reserved
DESCRIPTION:
URL:https://castlewoodhoa.com/event/clubhouse-reserved-145/
LOCATION:Castlewood HOA Clubhouse\, 3420 Fairfield Lane\, Highland Village\, TX\, 75077\, United States
CATEGORIES:Clubhouse Reservation
END:VEVENT
BEGIN:VEVENT
DTSTART;TZID=America/Chicago:20211116T170000
DTEND;TZID=America/Chicago:20211116T230000
DTSTAMP:20260424T103206
CREATED:20210819T135552Z
LAST-MODIFIED:20210819T135552Z
UID:2021-1637082000-1637103600@castlewoodhoa.com
SUMMARY:Clubhouse Reserved
DESCRIPTION:
URL:https://castlewoodhoa.com/event/clubhouse-reserved-100/
LOCATION:Castlewood HOA Clubhouse\, 3420 Fairfield Lane\, Highland Village\, TX\, 75077\, United States
CATEGORIES:Clubhouse Reservation
END:VEVENT
BEGIN:VEVENT
DTSTART;TZID=America/Chicago:20211115T160000
DTEND;TZID=America/Chicago:20211115T210000
DTSTAMP:20260424T103206
CREATED:20211101T191859Z
LAST-MODIFIED:20211101T191859Z
UID:2388-1636992000-1637010000@castlewoodhoa.com
SUMMARY:Clubhouse Reserved
DESCRIPTION:
URL:https://castlewoodhoa.com/event/clubhouse-reserved-142/
LOCATION:Castlewood HOA Clubhouse\, 3420 Fairfield Lane\, Highland Village\, TX\, 75077\, United States
CATEGORIES:Clubhouse Reservation
END:VEVENT
BEGIN:VEVENT
DTSTART;VALUE=DATE:20211113
DTEND;VALUE=DATE:20211114
DTSTAMP:20260424T103206
CREATED:20211018T152945Z
LAST-MODIFIED:20211018T152945Z
UID:2343-1636761600-1636847999@castlewoodhoa.com
SUMMARY:Clubhouse Reserved
DESCRIPTION:
URL:https://castlewoodhoa.com/event/clubhouse-reserved-138/
LOCATION:Castlewood HOA Clubhouse\, 3420 Fairfield Lane\, Highland Village\, TX\, 75077\, United States
CATEGORIES:Clubhouse Reservation
END:VEVENT
BEGIN:VEVENT
DTSTART;TZID=America/Chicago:20211112T170000
DTEND;TZID=America/Chicago:20211112T230000
DTSTAMP:20260424T103206
CREATED:20210219T151747Z
LAST-MODIFIED:20210219T151747Z
UID:1371-1636736400-1636758000@castlewoodhoa.com
SUMMARY:Clubhouse Reserved
DESCRIPTION:
URL:https://castlewoodhoa.com/event/clubhouse-reserved-54/
LOCATION:Castlewood HOA Clubhouse\, 3420 Fairfield Lane\, Highland Village\, TX\, 75077\, United States
CATEGORIES:Clubhouse Reservation
END:VEVENT
BEGIN:VEVENT
DTSTART;VALUE=DATE:20211111
DTEND;VALUE=DATE:20211112
DTSTAMP:20260424T103206
CREATED:20211109T180949Z
LAST-MODIFIED:20211109T182634Z
UID:2438-1636588800-1636675199@castlewoodhoa.com
SUMMARY:Clubhouse Reserved
DESCRIPTION:
URL:https://castlewoodhoa.com/event/clubhouse-reserved-156/
LOCATION:Castlewood HOA Clubhouse\, 3420 Fairfield Lane\, Highland Village\, TX\, 75077\, United States
CATEGORIES:Clubhouse Reservation
END:VEVENT
BEGIN:VEVENT
DTSTART;TZID=America/Chicago:20211110T150000
DTEND;TZID=America/Chicago:20211110T180000
DTSTAMP:20260424T103206
CREATED:20211103T142248Z
LAST-MODIFIED:20211103T142248Z
UID:2390-1636556400-1636567200@castlewoodhoa.com
SUMMARY:Clubhouse Reserved
DESCRIPTION:
URL:https://castlewoodhoa.com/event/clubhouse-reserved-143/
LOCATION:Castlewood HOA Clubhouse\, 3420 Fairfield Lane\, Highland Village\, TX\, 75077\, United States
CATEGORIES:Clubhouse Reservation
END:VEVENT
BEGIN:VEVENT
DTSTART;TZID=America/Chicago:20211110T080000
DTEND;TZID=America/Chicago:20211110T110000
DTSTAMP:20260424T103206
CREATED:20211103T142445Z
LAST-MODIFIED:20211103T142445Z
UID:2394-1636531200-1636542000@castlewoodhoa.com
SUMMARY:Clubhouse Reserved
DESCRIPTION:
URL:https://castlewoodhoa.com/event/clubhouse-reserved-144/
LOCATION:Castlewood HOA Clubhouse\, 3420 Fairfield Lane\, Highland Village\, TX\, 75077\, United States
CATEGORIES:Clubhouse Reservation
END:VEVENT
BEGIN:VEVENT
DTSTART;TZID=America/Chicago:20211109T170000
DTEND;TZID=America/Chicago:20211109T200000
DTSTAMP:20260424T103206
CREATED:20210820T172357Z
LAST-MODIFIED:20210820T172357Z
UID:2030-1636477200-1636488000@castlewoodhoa.com
SUMMARY:Clubhouse Reserved
DESCRIPTION:
URL:https://castlewoodhoa.com/event/clubhouse-reserved-102/
LOCATION:Castlewood HOA Clubhouse\, 3420 Fairfield Lane\, Highland Village\, TX\, 75077\, United States
CATEGORIES:Clubhouse Reservation
END:VEVENT
BEGIN:VEVENT
DTSTART;VALUE=DATE:20211107
DTEND;VALUE=DATE:20211108
DTSTAMP:20260424T103206
CREATED:20210802T143416Z
LAST-MODIFIED:20210802T143416Z
UID:1960-1636243200-1636329599@castlewoodhoa.com
SUMMARY:Clubhouse Reserved
DESCRIPTION:
URL:https://castlewoodhoa.com/event/clubhouse-reserved-47/
LOCATION:Castlewood HOA Clubhouse\, 3420 Fairfield Lane\, Highland Village\, TX\, 75077\, United States
CATEGORIES:Clubhouse Reservation
END:VEVENT
BEGIN:VEVENT
DTSTART;VALUE=DATE:20211106
DTEND;VALUE=DATE:20211107
DTSTAMP:20260424T103206
CREATED:20211012T141159Z
LAST-MODIFIED:20211012T175951Z
UID:2336-1636156800-1636243199@castlewoodhoa.com
SUMMARY:Clubhouse Reserved
DESCRIPTION:
URL:https://castlewoodhoa.com/event/pending-reservation-18/
LOCATION:Castlewood HOA Clubhouse\, 3420 Fairfield Lane\, Highland Village\, TX\, 75077\, United States
CATEGORIES:Clubhouse Reservation
END:VEVENT
BEGIN:VEVENT
DTSTART;TZID=America/Chicago:20211105T080000
DTEND;TZID=America/Chicago:20211105T120000
DTSTAMP:20260424T103206
CREATED:20210809T170910Z
LAST-MODIFIED:20210809T170910Z
UID:1997-1636099200-1636113600@castlewoodhoa.com
SUMMARY:Clubhouse Reserved
DESCRIPTION:
URL:https://castlewoodhoa.com/event/clubhouse-reserved-97/
LOCATION:Castlewood HOA Clubhouse\, 3420 Fairfield Lane\, Highland Village\, TX\, 75077\, United States
CATEGORIES:Clubhouse Reservation
END:VEVENT
BEGIN:VEVENT
DTSTART;TZID=America/Chicago:20211103T080000
DTEND;TZID=America/Chicago:20211103T230000
DTSTAMP:20260424T103206
CREATED:20211103T142413Z
LAST-MODIFIED:20211103T142413Z
UID:2392-1635926400-1635980400@castlewoodhoa.com
SUMMARY:Clubhouse Reserved
DESCRIPTION:
URL:https://castlewoodhoa.com/event/clubhouse-reserved-117/
LOCATION:Castlewood HOA Clubhouse\, 3420 Fairfield Lane\, Highland Village\, TX\, 75077\, United States
CATEGORIES:Clubhouse Reservation
END:VEVENT
BEGIN:VEVENT
DTSTART;TZID=America/Chicago:20211102T170000
DTEND;TZID=America/Chicago:20211102T230000
DTSTAMP:20260424T103206
CREATED:20210122T201558Z
LAST-MODIFIED:20210125T183031Z
UID:627-1635872400-1635894000@castlewoodhoa.com
SUMMARY:Clubhouse Reserved
DESCRIPTION:
URL:https://castlewoodhoa.com/event/clubhouse-reserved-37/
LOCATION:Castlewood HOA Clubhouse\, 3420 Fairfield Lane\, Highland Village\, TX\, 75077\, United States
CATEGORIES:Clubhouse Reservation
END:VEVENT
BEGIN:VEVENT
DTSTART;VALUE=DATE:20211031
DTEND;VALUE=DATE:20211101
DTSTAMP:20260424T103206
CREATED:20211005T160657Z
LAST-MODIFIED:20211005T160657Z
UID:2320-1635638400-1635724799@castlewoodhoa.com
SUMMARY:Happy Halloween from the HOA
DESCRIPTION:
URL:https://castlewoodhoa.com/event/happy-halloween-from-the-hoa/
CATEGORIES:HOA BOD Administration
END:VEVENT
BEGIN:VEVENT
DTSTART;VALUE=DATE:20211031
DTEND;VALUE=DATE:20211101
DTSTAMP:20260424T103206
CREATED:20210823T161545Z
LAST-MODIFIED:20210823T161545Z
UID:2066-1635638400-1635724799@castlewoodhoa.com
SUMMARY:Halloween Spooktacular
DESCRIPTION:
URL:https://castlewoodhoa.com/event/halloween-spooktacular/
LOCATION:Castlewood HOA Clubhouse\, 3420 Fairfield Lane\, Highland Village\, TX\, 75077\, United States
CATEGORIES:Community Event
ATTACH;FMTTYPE=image/png:https://castlewoodhoa.com/wp-content/uploads/2021/08/Screenshot-2021-08-23-110017.png
END:VEVENT
BEGIN:VEVENT
DTSTART;VALUE=DATE:20211029
DTEND;VALUE=DATE:20211102
DTSTAMP:20260424T103206
CREATED:20210122T201456Z
LAST-MODIFIED:20210823T161353Z
UID:625-1635465600-1635811199@castlewoodhoa.com
SUMMARY:NO RESERVATIONS
DESCRIPTION:
URL:https://castlewoodhoa.com/event/community-event-4/
LOCATION:Castlewood HOA Clubhouse\, 3420 Fairfield Lane\, Highland Village\, TX\, 75077\, United States
CATEGORIES:Community Event,HOA BOD Administration
END:VEVENT
BEGIN:VEVENT
DTSTART;TZID=America/Chicago:20211027T150000
DTEND;TZID=America/Chicago:20211027T180000
DTSTAMP:20260424T103206
CREATED:20211001T144228Z
LAST-MODIFIED:20211001T144228Z
UID:2284-1635346800-1635357600@castlewoodhoa.com
SUMMARY:Clubhouse Reserved
DESCRIPTION:
URL:https://castlewoodhoa.com/event/clubhouse-reserved-114/
LOCATION:Castlewood HOA Clubhouse\, 3420 Fairfield Lane\, Highland Village\, TX\, 75077\, United States
CATEGORIES:Clubhouse Reservation
END:VEVENT
BEGIN:VEVENT
DTSTART;TZID=America/Chicago:20211027T090000
DTEND;TZID=America/Chicago:20211027T130000
DTSTAMP:20260424T103206
CREATED:20211025T192457Z
LAST-MODIFIED:20211027T141559Z
UID:2371-1635325200-1635339600@castlewoodhoa.com
SUMMARY:Clubhouse Reserved
DESCRIPTION:
URL:https://castlewoodhoa.com/event/clubhouse-reserved-53/
LOCATION:Castlewood HOA Clubhouse\, 3420 Fairfield Lane\, Highland Village\, TX\, 75077\, United States
CATEGORIES:Clubhouse Reservation
END:VEVENT
BEGIN:VEVENT
DTSTART;TZID=America/Chicago:20211026T160000
DTEND;TZID=America/Chicago:20211026T200000
DTSTAMP:20260424T103206
CREATED:20210924T153712Z
LAST-MODIFIED:20210924T153712Z
UID:2277-1635264000-1635278400@castlewoodhoa.com
SUMMARY:Clubhouse Reserved
DESCRIPTION:
URL:https://castlewoodhoa.com/event/clubhouse-reserved-39/
LOCATION:Castlewood HOA Clubhouse\, 3420 Fairfield Lane\, Highland Village\, TX\, 75077\, United States
CATEGORIES:Clubhouse Reservation
END:VEVENT
BEGIN:VEVENT
DTSTART;TZID=America/Chicago:20211026T090000
DTEND;TZID=America/Chicago:20211026T150000
DTSTAMP:20260424T103206
CREATED:20211004T184518Z
LAST-MODIFIED:20211004T184518Z
UID:2318-1635238800-1635260400@castlewoodhoa.com
SUMMARY:Clubhouse Reserved
DESCRIPTION:
URL:https://castlewoodhoa.com/event/clubhouse-reserved-116/
LOCATION:Castlewood HOA Clubhouse\, 3420 Fairfield Lane\, Highland Village\, TX\, 75077\, United States
CATEGORIES:Clubhouse Reservation
END:VEVENT
BEGIN:VEVENT
DTSTART;TZID=America/Chicago:20211024T170000
DTEND;TZID=America/Chicago:20211024T220000
DTSTAMP:20260424T103206
CREATED:20211001T145100Z
LAST-MODIFIED:20211001T145100Z
UID:2286-1635094800-1635112800@castlewoodhoa.com
SUMMARY:Clubhouse Reserved
DESCRIPTION:
URL:https://castlewoodhoa.com/event/clubhouse-reserved-52/
LOCATION:Castlewood HOA Clubhouse\, 3420 Fairfield Lane\, Highland Village\, TX\, 75077\, United States
CATEGORIES:Clubhouse Reservation
END:VEVENT
BEGIN:VEVENT
DTSTART;TZID=America/Chicago:20211022T080000
DTEND;TZID=America/Chicago:20211022T120000
DTSTAMP:20260424T103206
CREATED:20210809T170820Z
LAST-MODIFIED:20210809T170820Z
UID:1995-1634889600-1634904000@castlewoodhoa.com
SUMMARY:Clubhouse Reserved
DESCRIPTION:
URL:https://castlewoodhoa.com/event/clubhouse-reserved-96/
LOCATION:Castlewood HOA Clubhouse\, 3420 Fairfield Lane\, Highland Village\, TX\, 75077\, United States
CATEGORIES:Clubhouse Reservation
END:VEVENT
BEGIN:VEVENT
DTSTART;TZID=America/Chicago:20211020T190000
DTEND;TZID=America/Chicago:20211020T200000
DTSTAMP:20260424T103206
CREATED:20210122T201407Z
LAST-MODIFIED:20210125T183546Z
UID:623-1634756400-1634760000@castlewoodhoa.com
SUMMARY:HOA BOD Meeting
DESCRIPTION:Meeting Information \nWhen: Wednesday\, October 20\, 2021\nTime: 7:00 p.m. Teleconference meeting\n \nDue to COVID restrictions\, meetings are currently being held via Zoom. If you would like to attend but did not receive an email link please complete the form below to have one sent. \n \nItems that may be discussed in executive session include actions involving personnel\, pending or threatened litigation\, contract negotiations\, enforcement actions\, confidential communications with the Association attorney\, matters involving invasion of privacy of owners\, and other matters that are confidential by request of an affected party and agreement of the Board. Please see here for your agenda.\n \nPlease enable JavaScript in your browser to complete this form.Name *FirstLastEmail *Home Address *Additional Comment or MessageSubmit
URL:https://castlewoodhoa.com/event/hoa-bod-meeting-7/
LOCATION:Castlewood HOA Clubhouse\, 3420 Fairfield Lane\, Highland Village\, TX\, 75077\, United States
CATEGORIES:HOA BOD Administration
END:VEVENT
END:VCALENDAR