BEGIN:VCALENDAR
VERSION:2.0
PRODID:-//Castlewood Homeowners Association - ECPv6.15.17//NONSGML v1.0//EN
CALSCALE:GREGORIAN
METHOD:PUBLISH
X-WR-CALNAME:Castlewood Homeowners Association
X-ORIGINAL-URL:https://castlewoodhoa.com
X-WR-CALDESC:Events for Castlewood Homeowners Association
REFRESH-INTERVAL;VALUE=DURATION:PT1H
X-Robots-Tag:noindex
X-PUBLISHED-TTL:PT1H
BEGIN:VTIMEZONE
TZID:America/Chicago
BEGIN:DAYLIGHT
TZOFFSETFROM:-0600
TZOFFSETTO:-0500
TZNAME:CDT
DTSTART:20210314T080000
END:DAYLIGHT
BEGIN:STANDARD
TZOFFSETFROM:-0500
TZOFFSETTO:-0600
TZNAME:CST
DTSTART:20211107T070000
END:STANDARD
BEGIN:DAYLIGHT
TZOFFSETFROM:-0600
TZOFFSETTO:-0500
TZNAME:CDT
DTSTART:20220313T080000
END:DAYLIGHT
BEGIN:STANDARD
TZOFFSETFROM:-0500
TZOFFSETTO:-0600
TZNAME:CST
DTSTART:20221106T070000
END:STANDARD
BEGIN:DAYLIGHT
TZOFFSETFROM:-0600
TZOFFSETTO:-0500
TZNAME:CDT
DTSTART:20230312T080000
END:DAYLIGHT
BEGIN:STANDARD
TZOFFSETFROM:-0500
TZOFFSETTO:-0600
TZNAME:CST
DTSTART:20231105T070000
END:STANDARD
END:VTIMEZONE
BEGIN:VEVENT
DTSTART;TZID=America/Chicago:20220215T180000
DTEND;TZID=America/Chicago:20220215T220000
DTSTAMP:20260424T083515
CREATED:20211117T185545Z
LAST-MODIFIED:20211117T185545Z
UID:2456-1644948000-1644962400@castlewoodhoa.com
SUMMARY:Clubhouse Reserved
DESCRIPTION:
URL:https://castlewoodhoa.com/event/clubhouse-reserved-162/
LOCATION:Castlewood HOA Clubhouse\, 3420 Fairfield Lane\, Highland Village\, TX\, 75077\, United States
CATEGORIES:Clubhouse Reservation
END:VEVENT
BEGIN:VEVENT
DTSTART;TZID=America/Chicago:20220215T130000
DTEND;TZID=America/Chicago:20220215T160000
DTSTAMP:20260424T083515
CREATED:20220118T151041Z
LAST-MODIFIED:20220118T151041Z
UID:2697-1644930000-1644940800@castlewoodhoa.com
SUMMARY:Clubhouse Reserved
DESCRIPTION:
URL:https://castlewoodhoa.com/event/clubhouse-reserved-228/
LOCATION:Castlewood HOA Clubhouse\, 3420 Fairfield Lane\, Highland Village\, TX\, 75077\, United States
CATEGORIES:Clubhouse Reservation
END:VEVENT
BEGIN:VEVENT
DTSTART;TZID=America/Chicago:20220215T093000
DTEND;TZID=America/Chicago:20220215T123000
DTSTAMP:20260424T083515
CREATED:20211214T231214Z
LAST-MODIFIED:20211214T231214Z
UID:2553-1644917400-1644928200@castlewoodhoa.com
SUMMARY:Clubhouse Reserved
DESCRIPTION:
URL:https://castlewoodhoa.com/event/clubhouse-reserved-189/
LOCATION:Castlewood HOA Clubhouse\, 3420 Fairfield Lane\, Highland Village\, TX\, 75077\, United States
CATEGORIES:Clubhouse Reservation
END:VEVENT
BEGIN:VEVENT
DTSTART;TZID=America/Chicago:20220214T080000
DTEND;TZID=America/Chicago:20220214T160000
DTSTAMP:20260424T083515
CREATED:20220118T220555Z
LAST-MODIFIED:20220118T220555Z
UID:2699-1644825600-1644854400@castlewoodhoa.com
SUMMARY:Clubhouse Reserved
DESCRIPTION:
URL:https://castlewoodhoa.com/event/clubhouse-reserved-166/
LOCATION:Castlewood HOA Clubhouse\, 3420 Fairfield Lane\, Highland Village\, TX\, 75077\, United States
CATEGORIES:Clubhouse Reservation
END:VEVENT
BEGIN:VEVENT
DTSTART;VALUE=DATE:20220213
DTEND;VALUE=DATE:20220214
DTSTAMP:20260424T083515
CREATED:20220207T154836Z
LAST-MODIFIED:20220208T195949Z
UID:2761-1644710400-1644796799@castlewoodhoa.com
SUMMARY:Clubhouse Reserved
DESCRIPTION:
URL:https://castlewoodhoa.com/event/pending-reservation-28/
LOCATION:Castlewood HOA Clubhouse\, 3420 Fairfield Lane\, Highland Village\, TX\, 75077\, United States
CATEGORIES:Clubhouse Reservation
END:VEVENT
BEGIN:VEVENT
DTSTART;VALUE=DATE:20220212
DTEND;VALUE=DATE:20220213
DTSTAMP:20260424T083515
CREATED:20220124T161636Z
LAST-MODIFIED:20220124T161636Z
UID:2707-1644624000-1644710399@castlewoodhoa.com
SUMMARY:Clubhouse Reserved
DESCRIPTION:
URL:https://castlewoodhoa.com/event/clubhouse-reserved-226/
LOCATION:Castlewood HOA Clubhouse\, 3420 Fairfield Lane\, Highland Village\, TX\, 75077\, United States
CATEGORIES:Clubhouse Reservation
END:VEVENT
BEGIN:VEVENT
DTSTART;TZID=America/Chicago:20220210T180000
DTEND;TZID=America/Chicago:20220210T230000
DTSTAMP:20260424T083515
CREATED:20210617T155237Z
LAST-MODIFIED:20210617T155237Z
UID:1841-1644516000-1644534000@castlewoodhoa.com
SUMMARY:Clubhouse Reserved
DESCRIPTION:
URL:https://castlewoodhoa.com/event/clubhouse-reserved-86/
LOCATION:Castlewood HOA Clubhouse\, 3420 Fairfield Lane\, Highland Village\, TX\, 75077\, United States
CATEGORIES:Clubhouse Reservation
END:VEVENT
BEGIN:VEVENT
DTSTART;TZID=America/Chicago:20220209T090000
DTEND;TZID=America/Chicago:20220209T110000
DTSTAMP:20260424T083515
CREATED:20211118T181032Z
LAST-MODIFIED:20211118T181032Z
UID:2472-1644397200-1644404400@castlewoodhoa.com
SUMMARY:Clubhouse Reserved
DESCRIPTION:
URL:https://castlewoodhoa.com/event/clubhouse-reserved-169/
LOCATION:Castlewood HOA Clubhouse\, 3420 Fairfield Lane\, Highland Village\, TX\, 75077\, United States
CATEGORIES:Clubhouse Reservation
END:VEVENT
BEGIN:VEVENT
DTSTART;TZID=America/Chicago:20220208T170000
DTEND;TZID=America/Chicago:20220208T200000
DTSTAMP:20260424T083515
CREATED:20210820T172626Z
LAST-MODIFIED:20210820T172626Z
UID:2036-1644339600-1644350400@castlewoodhoa.com
SUMMARY:Clubhouse Reserved
DESCRIPTION:
URL:https://castlewoodhoa.com/event/clubhouse-reserved-105/
LOCATION:Castlewood HOA Clubhouse\, 3420 Fairfield Lane\, Highland Village\, TX\, 75077\, United States
CATEGORIES:Clubhouse Reservation
END:VEVENT
BEGIN:VEVENT
DTSTART;TZID=America/Chicago:20220208T093000
DTEND;TZID=America/Chicago:20220208T123000
DTSTAMP:20260424T083515
CREATED:20211214T231117Z
LAST-MODIFIED:20211214T231117Z
UID:2551-1644312600-1644323400@castlewoodhoa.com
SUMMARY:Clubhouse Reserved
DESCRIPTION:
URL:https://castlewoodhoa.com/event/clubhouse-reserved-188/
LOCATION:Castlewood HOA Clubhouse\, 3420 Fairfield Lane\, Highland Village\, TX\, 75077\, United States
CATEGORIES:Clubhouse Reservation
END:VEVENT
BEGIN:VEVENT
DTSTART;VALUE=DATE:20220208
DTEND;VALUE=DATE:20220209
DTSTAMP:20260424T083515
CREATED:20220208T222056Z
LAST-MODIFIED:20220208T222056Z
UID:2768-1644278400-1644364799@castlewoodhoa.com
SUMMARY:Spring Community Wide Garage Sale
DESCRIPTION:
URL:https://castlewoodhoa.com/event/spring-community-wide-garage-sale-2/
CATEGORIES:Community Event
END:VEVENT
BEGIN:VEVENT
DTSTART;VALUE=DATE:20220208
DTEND;VALUE=DATE:20220209
DTSTAMP:20260424T083515
CREATED:20220208T222027Z
LAST-MODIFIED:20220208T222027Z
UID:2766-1644278400-1644364799@castlewoodhoa.com
SUMMARY:Spring Community Wide Garage Sale
DESCRIPTION:
URL:https://castlewoodhoa.com/event/spring-community-wide-garage-sale/
CATEGORIES:Community Event
END:VEVENT
BEGIN:VEVENT
DTSTART;TZID=America/Chicago:20220204T180000
DTEND;TZID=America/Chicago:20220204T210000
DTSTAMP:20260424T083515
CREATED:20210916T163603Z
LAST-MODIFIED:20210916T163603Z
UID:2218-1643997600-1644008400@castlewoodhoa.com
SUMMARY:Clubhouse Reserved
DESCRIPTION:
URL:https://castlewoodhoa.com/event/clubhouse-reserved-130/
LOCATION:Castlewood HOA Clubhouse\, 3420 Fairfield Lane\, Highland Village\, TX\, 75077\, United States
CATEGORIES:Clubhouse Reservation
END:VEVENT
BEGIN:VEVENT
DTSTART;TZID=America/Chicago:20220202T090000
DTEND;TZID=America/Chicago:20220202T110000
DTSTAMP:20260424T083515
CREATED:20211118T180949Z
LAST-MODIFIED:20211118T180949Z
UID:2470-1643792400-1643799600@castlewoodhoa.com
SUMMARY:Clubhouse Reserved
DESCRIPTION:
URL:https://castlewoodhoa.com/event/clubhouse-reserved-168/
LOCATION:Castlewood HOA Clubhouse\, 3420 Fairfield Lane\, Highland Village\, TX\, 75077\, United States
CATEGORIES:Clubhouse Reservation
END:VEVENT
BEGIN:VEVENT
DTSTART;TZID=America/Chicago:20220201T093000
DTEND;TZID=America/Chicago:20220201T123000
DTSTAMP:20260424T083515
CREATED:20211214T231004Z
LAST-MODIFIED:20211214T231004Z
UID:2549-1643707800-1643718600@castlewoodhoa.com
SUMMARY:Clubhouse Reserved
DESCRIPTION:
URL:https://castlewoodhoa.com/event/clubhouse-reserved-149/
LOCATION:Castlewood HOA Clubhouse\, 3420 Fairfield Lane\, Highland Village\, TX\, 75077\, United States
CATEGORIES:Clubhouse Reservation
END:VEVENT
BEGIN:VEVENT
DTSTART;VALUE=DATE:20220130
DTEND;VALUE=DATE:20220131
DTSTAMP:20260424T083515
CREATED:20211227T150825Z
LAST-MODIFIED:20211227T150825Z
UID:2614-1643500800-1643587199@castlewoodhoa.com
SUMMARY:Clubhouse Reserved
DESCRIPTION:
URL:https://castlewoodhoa.com/event/clubhouse-reserved-212/
LOCATION:Castlewood HOA Clubhouse\, 3420 Fairfield Lane\, Highland Village\, TX\, 75077\, United States
CATEGORIES:Clubhouse Reservation
END:VEVENT
BEGIN:VEVENT
DTSTART;VALUE=DATE:20220129
DTEND;VALUE=DATE:20220130
DTSTAMP:20260424T083515
CREATED:20210923T162207Z
LAST-MODIFIED:20211130T210135Z
UID:2275-1643414400-1643500799@castlewoodhoa.com
SUMMARY:Clubhouse Reserved
DESCRIPTION:
URL:https://castlewoodhoa.com/event/pending-clubhouse-reservation-4/
LOCATION:Castlewood HOA Clubhouse\, 3420 Fairfield Lane\, Highland Village\, TX\, 75077\, United States
CATEGORIES:Clubhouse Reservation
END:VEVENT
BEGIN:VEVENT
DTSTART;TZID=America/Chicago:20220126T090000
DTEND;TZID=America/Chicago:20220126T110000
DTSTAMP:20260424T083515
CREATED:20211118T180911Z
LAST-MODIFIED:20211118T180911Z
UID:2468-1643187600-1643194800@castlewoodhoa.com
SUMMARY:Clubhouse Reserved
DESCRIPTION:
URL:https://castlewoodhoa.com/event/clubhouse-reserved-167/
LOCATION:Castlewood HOA Clubhouse\, 3420 Fairfield Lane\, Highland Village\, TX\, 75077\, United States
CATEGORIES:Clubhouse Reservation
END:VEVENT
BEGIN:VEVENT
DTSTART;VALUE=DATE:20220123
DTEND;VALUE=DATE:20220124
DTSTAMP:20260424T083515
CREATED:20220106T163934Z
LAST-MODIFIED:20220106T163934Z
UID:2640-1642896000-1642982399@castlewoodhoa.com
SUMMARY:Clubhouse Reserved
DESCRIPTION:
URL:https://castlewoodhoa.com/event/clubhouse-reserved-222/
LOCATION:Castlewood HOA Clubhouse\, 3420 Fairfield Lane\, Highland Village\, TX\, 75077\, United States
CATEGORIES:Clubhouse Reservation
END:VEVENT
BEGIN:VEVENT
DTSTART;VALUE=DATE:20220122
DTEND;VALUE=DATE:20220123
DTSTAMP:20260424T083515
CREATED:20211216T204238Z
LAST-MODIFIED:20211216T204238Z
UID:2606-1642809600-1642895999@castlewoodhoa.com
SUMMARY:Clubhouse Reserved
DESCRIPTION:
URL:https://castlewoodhoa.com/event/clubhouse-reserved-211/
LOCATION:Castlewood HOA Clubhouse\, 3420 Fairfield Lane\, Highland Village\, TX\, 75077\, United States
CATEGORIES:Clubhouse Reservation
END:VEVENT
BEGIN:VEVENT
DTSTART;TZID=America/Chicago:20220121T180000
DTEND;TZID=America/Chicago:20220121T210000
DTSTAMP:20260424T083515
CREATED:20210916T163519Z
LAST-MODIFIED:20210916T163519Z
UID:2216-1642788000-1642798800@castlewoodhoa.com
SUMMARY:Clubhouse Reserved
DESCRIPTION:
URL:https://castlewoodhoa.com/event/clubhouse-reserved-129/
LOCATION:Castlewood HOA Clubhouse\, 3420 Fairfield Lane\, Highland Village\, TX\, 75077\, United States
CATEGORIES:Clubhouse Reservation
END:VEVENT
BEGIN:VEVENT
DTSTART;TZID=America/Chicago:20220119T190000
DTEND;TZID=America/Chicago:20220119T210000
DTSTAMP:20260424T083515
CREATED:20210826T203534Z
LAST-MODIFIED:20210826T203534Z
UID:2123-1642618800-1642626000@castlewoodhoa.com
SUMMARY:HOA BOD Meeting
DESCRIPTION:
URL:https://castlewoodhoa.com/event/hoa-bod-meeting-11/
LOCATION:Castlewood HOA Clubhouse\, 3420 Fairfield Lane\, Highland Village\, TX\, 75077\, United States
CATEGORIES:HOA BOD Administration
END:VEVENT
BEGIN:VEVENT
DTSTART;TZID=America/Chicago:20220119T090000
DTEND;TZID=America/Chicago:20220119T110000
DTSTAMP:20260424T083515
CREATED:20211103T143808Z
LAST-MODIFIED:20220118T163210Z
UID:2412-1642582800-1642590000@castlewoodhoa.com
SUMMARY:Clubhouse Reserved
DESCRIPTION:
URL:https://castlewoodhoa.com/event/clubhouse-reserved-153/
LOCATION:Castlewood HOA Clubhouse\, 3420 Fairfield Lane\, Highland Village\, TX\, 75077\, United States
CATEGORIES:Clubhouse Reservation
END:VEVENT
BEGIN:VEVENT
DTSTART;TZID=America/Chicago:20220118T170000
DTEND;TZID=America/Chicago:20220118T200000
DTSTAMP:20260424T083515
CREATED:20220111T174609Z
LAST-MODIFIED:20220111T174609Z
UID:2660-1642525200-1642536000@castlewoodhoa.com
SUMMARY:Clubhouse Reserved
DESCRIPTION:
URL:https://castlewoodhoa.com/event/clubhouse-reserved-223/
LOCATION:Castlewood HOA Clubhouse\, 3420 Fairfield Lane\, Highland Village\, TX\, 75077\, United States
CATEGORIES:Clubhouse Reservation
END:VEVENT
BEGIN:VEVENT
DTSTART;TZID=America/Chicago:20220118T080000
DTEND;TZID=America/Chicago:20220118T120000
DTSTAMP:20260424T083515
CREATED:20220104T181843Z
LAST-MODIFIED:20220104T181843Z
UID:2624-1642492800-1642507200@castlewoodhoa.com
SUMMARY:Clubhouse Reserved
DESCRIPTION:
URL:https://castlewoodhoa.com/event/clubhouse-reserved-215/
LOCATION:Castlewood HOA Clubhouse\, 3420 Fairfield Lane\, Highland Village\, TX\, 75077\, United States
CATEGORIES:Clubhouse Reservation
END:VEVENT
BEGIN:VEVENT
DTSTART;VALUE=DATE:20220116
DTEND;VALUE=DATE:20220117
DTSTAMP:20260424T083515
CREATED:20211203T152217Z
LAST-MODIFIED:20211203T152217Z
UID:2528-1642291200-1642377599@castlewoodhoa.com
SUMMARY:Clubhouse Reserved
DESCRIPTION:
URL:https://castlewoodhoa.com/event/clubhouse-reserved-187/
LOCATION:Castlewood HOA Clubhouse\, 3420 Fairfield Lane\, Highland Village\, TX\, 75077\, United States
CATEGORIES:Clubhouse Reservation
END:VEVENT
BEGIN:VEVENT
DTSTART;TZID=America/Chicago:20220113T180000
DTEND;TZID=America/Chicago:20220113T230000
DTSTAMP:20260424T083515
CREATED:20210617T155144Z
LAST-MODIFIED:20210617T155144Z
UID:1839-1642096800-1642114800@castlewoodhoa.com
SUMMARY:Clubhouse Reserved
DESCRIPTION:
URL:https://castlewoodhoa.com/event/clubhouse-reserved-85/
LOCATION:Castlewood HOA Clubhouse\, 3420 Fairfield Lane\, Highland Village\, TX\, 75077\, United States
CATEGORIES:Clubhouse Reservation
END:VEVENT
BEGIN:VEVENT
DTSTART;TZID=America/Chicago:20220112T180000
DTEND;TZID=America/Chicago:20220112T220000
DTSTAMP:20260424T083515
CREATED:20211117T185455Z
LAST-MODIFIED:20211117T185455Z
UID:2454-1642010400-1642024800@castlewoodhoa.com
SUMMARY:Clubhouse Reserved
DESCRIPTION:
URL:https://castlewoodhoa.com/event/clubhouse-reserved-161/
LOCATION:Castlewood HOA Clubhouse\, 3420 Fairfield Lane\, Highland Village\, TX\, 75077\, United States
CATEGORIES:Clubhouse Reservation
END:VEVENT
BEGIN:VEVENT
DTSTART;TZID=America/Chicago:20220112T150000
DTEND;TZID=America/Chicago:20220112T180000
DTSTAMP:20260424T083515
CREATED:20210826T194011Z
LAST-MODIFIED:20210826T194011Z
UID:2101-1641999600-1642010400@castlewoodhoa.com
SUMMARY:Clubhouse Reserved
DESCRIPTION:
URL:https://castlewoodhoa.com/event/clubhouse-reserved-119/
LOCATION:Castlewood HOA Clubhouse\, 3420 Fairfield Lane\, Highland Village\, TX\, 75077\, United States
CATEGORIES:Clubhouse Reservation
END:VEVENT
BEGIN:VEVENT
DTSTART;TZID=America/Chicago:20220112T090000
DTEND;TZID=America/Chicago:20220112T110000
DTSTAMP:20260424T083515
CREATED:20211118T180756Z
LAST-MODIFIED:20211118T180756Z
UID:2464-1641978000-1641985200@castlewoodhoa.com
SUMMARY:Clubhouse Reserved
DESCRIPTION:
URL:https://castlewoodhoa.com/event/clubhouse-reserved-165/
LOCATION:Castlewood HOA Clubhouse\, 3420 Fairfield Lane\, Highland Village\, TX\, 75077\, United States
CATEGORIES:Clubhouse Reservation
END:VEVENT
END:VCALENDAR